PDS_VERSION_ID = PDS3
/* FILE DATA ELEMENTS */
RECORD_TYPE = UNDEFINED
/* POINTERS TO DATA OBJECTS */
^IMAGE = ("HG961_0000_ND4.TIF")
/* IDENTIFICATION DATA ELEMENTS */
DATA_SET_ID = "MEX-M-HRSC-4-REFDR-MAPPROJECT-EXT6-V4.0"
DATA_SET_NAME = "MARS EXPRESS HRSC MAP PROJECTED REFDR EXTENSION6 V4.0"
DETECTOR_ID = MEX_HRSC_NADIR
EVENT_TYPE = "MARS-TERMINATOR-CALIBRATION-Tc"
INSTRUMENT_HOST_ID = MEX
INSTRUMENT_HOST_NAME = "MARS EXPRESS"
INSTRUMENT_ID = HRSC
INSTRUMENT_NAME = "HIGH RESOLUTION STEREO CAMERA"
MISSION_NAME = "MARS EXPRESS"
MISSION_PHASE_NAME = ME_Phase_36
PROCESSING_LEVEL_ID = 4
PRODUCT_CREATION_TIME = 2023-01-26T14:39:22.000Z
PRODUCT_ID = "HG961_0000_ND4.TIF"
RELEASE_ID = 0001
REVISION_ID = 0000
/* QUALITY DATA ELEMENTS */
DATA_QUALITY_ID = 1
DATA_QUALITY_DESC = "Data calculated based on original SPICE kernels"
/* TIME DATA ELEMENTS */
SPACECRAFT_CLOCK_START_COUNT = "1/0443705402.09061"
SPACECRAFT_CLOCK_STOP_COUNT = "1/0443705888.08127"
START_TIME = 2017-05-24T11:32:11.446Z
STOP_TIME = 2017-05-24T11:36:16.434Z
/* ORBITAL DATA ELEMENTS */
ASCENDING_NODE_LONGITUDE = 255.41
MAXIMUM_RESOLUTION = 0.2869
FOOTPRINT_POINT_LATITUDE = (4.08855,4.05128,8.93429,4.15364, 4.55362,4.84072,5.88834,6.05372,9.56747 ,15.0628,19.5226,22.3467,26.4503,29.351 ,32.822,37.7652,40.7555,43.2626,46.9011 ,51.1769,55.9699,59.1702,63.4732, 66.4494,69.3873,71.8792,75.3211,76.8455 ,78.2284,78.6464,77.9857,75.172,72.3682 ,69.7084,67.6837,64.6842,61.9073, 59.7732,56.6816,51.7946,49.1176,45.1583 ,40.2378,35.7461,31.6696,32.3975, 31.8411,32.4889,31.8871,31.7091,31.6892 ,31.3249,31.716,31.2061,31.0106,32.0164 ,36.0701,39.6523,42.0471,46.3933, 49.6115,51.9404,55.2684,57.7357,61.3877 ,63.7156,65.6765,69.6796,71.9537, 73.2561,74.4598,74.5492,72.7438,70.3664 ,68.2908,64.7636,61.8108,59.0245, 54.8115,51.5504,48.9664,45.8215,42.85, 38.4255,35.3561,32.406,28.4993,24.6442, 20.3105,17.8437,13.3931,9.4042,5.50423, 5.46154,4.6732,4.07869,9.42585,9.06423, 4.08855)
FOOTPRINT_POINT_LONGITUDE = (355.29,355.283,0.0173496,354.205, 350.159,347.729,344.44,341.516,339.147, 339.493,339.639,339.68,339.641,339.55, 339.362,338.912,338.518,338.105,337.341 ,336.133,334.227,332.496,329.294, 326.195,321.993,316.994,305.778,297.242 ,283.326,260.008,246.987,227.267, 217.909,212.237,209.062,205.499,203.02, 201.491,199.704,197.621,196.76,195.753, 194.848,194.287,192.755,189.684,186.756 ,182.538,176.732,174.959,171.978, 167.909,162.881,159.789,155.655,151.569 ,150.859,150.044,149.392,147.93,146.561 ,145.373,143.312,141.424,137.844,134.87 ,131.758,122.53,113.905,106.295,93.6098 ,73.0662,55.3176,44.7104,38.7432,31.849 ,27.8543,24.9909,21.7614,19.8905, 18.6903,17.4948,16.5752,15.5008,14.9348 ,14.4946,14.0614,13.7692,13.5677, 13.5131,13.5088,13.6103,12.6575,8.95428 ,3.69189,0.441106,359.988,359.985, 355.29)
ORBIT_NUMBER = 16961
ORBITAL_ECCENTRICITY = 0.578
ORBITAL_INCLINATION = 86.95
ORBITAL_SEMIMAJOR_AXIS = 8779.5
PERIAPSIS_ALTITUDE = 327.58
PERIAPSIS_ARGUMENT_ANGLE = 295.86
PERIAPSIS_TIME = 2017-05-24T10:02:11.000Z
SPACECRAFT_ORIENTATION = (0.0,1.0,0.0)
^MEX_ORIENTATION_DESC = "MEX_ORIENTATION_DESC.TXT"
SPACECRAFT_POINTING_MODE = INERT
^MEX_POINTING_DESC = "MEX_POINTING_DESC.TXT"
RIGHT_ASCENSION = 136.344
DECLINATION = -36.948
OFFSET_ANGLE = -1e+32
SPACECRAFT_SOLAR_DISTANCE = 2.36384e+08
TARGET_NAME = MARS
/* CAMERA DATA ELEMENTS */
DETECTOR_TEMPERATURE = 18.1666
FOCAL_PLANE_TEMPERATURE = 7.9716
INST_CMPRS_NAME = "DISCRETE COSINE TRANSFORMATION (DCT)"
INST_CMPRS_RATIO = 9.92298
INST_CMPRS_QUALITY = 0
INST_CMPRS_QUANTZ_TBL_ID = 0
INSTRUMENT_TEMPERATURE = 10.6223
LENS_TEMPERATURE = 8.1755
MACROPIXEL_SIZE = 1
MISSING_FRAMES = 0
PIXEL_SUBSAMPLING_FLAG = N
SIGNAL_CHAIN_ID = 0
/* RADIOMETRIC DATA ELEMENTS */
BANDWIDTH = 177.0
CENTER_FILTER_WAVELENGTH = 677.5
RADIANCE_OFFSET = 0.0
RADIANCE_SCALING_FACTOR = 0.0345755
REFLECTANCE_SCALING_FACTOR = 0.00102643
MEX:REFLECTANCE_OFFSET = 0.0
/* IMAGE OBJECT DEFINITIONS */
OBJECT = IMAGE
  INTERCHANGE_FORMAT = BINARY
  LINES = 31975
  LINE_SAMPLES = 14184
  SAMPLE_TYPE = UNSIGNED_INTEGER
  SAMPLE_BITS = 8
  BANDS = 1
  BAND_STORAGE_TYPE = BAND_SEQUENTIAL
  MAXIMUM = 255
  MEAN = 104.551
  MINIMUM = 1
  STANDARD_DEVIATION = 97.9092
END_OBJECT = IMAGE
/* MAP OBJECT DEFINITIONS */
OBJECT = IMAGE_MAP_PROJECTION
  ^DATA_SET_MAP_PROJECTION_CATALOG= "DSMAP.CAT"
  A_AXIS_RADIUS = 3396.0
  B_AXIS_RADIUS = 3396.0
  C_AXIS_RADIUS = 3396.0
  CENTER_LATITUDE = 75.4312
  CENTER_LONGITUDE = 2.3978
  COORDINATE_SYSTEM_NAME = PLANETOGRAPHIC
  COORDINATE_SYSTEM_TYPE = "BODY-FIXED ROTATING"
  EASTERNMOST_LONGITUDE = 360.0
  FIRST_STANDARD_PARALLEL = "N/A"
  LINE_FIRST_PIXEL = 1
  LINE_LAST_PIXEL = 31975
  LINE_PROJECTION_OFFSET = 16006.0
  MAP_PROJECTION_ROTATION = 0.0
  MAP_PROJECTION_TYPE = ORTHOGRAPHIC
  MAP_RESOLUTION = 296.356901933333
  MAP_SCALE = 0.2
  MAXIMUM_LATITUDE = 90.0
  MINIMUM_LATITUDE = 4.05128
  POSITIVE_LONGITUDE_DIRECTION = EAST
  REFERENCE_LATITUDE = "N/A"
  REFERENCE_LONGITUDE = "N/A"
  SAMPLE_FIRST_PIXEL = 1
  SAMPLE_LAST_PIXEL = 14184
  SAMPLE_PROJECTION_OFFSET = 6763.0
  SECOND_STANDARD_PARALLEL = "N/A"
  WESTERNMOST_LONGITUDE = 0.0
END_OBJECT = IMAGE_MAP_PROJECTION
END
