PDS_VERSION_ID = PDS3
/* FILE DATA ELEMENTS */
RECORD_TYPE = UNDEFINED
/* POINTERS TO DATA OBJECTS */
^IMAGE = ("HG961_0000_P14.TIF")
/* IDENTIFICATION DATA ELEMENTS */
DATA_SET_ID = "MEX-M-HRSC-4-REFDR-MAPPROJECT-EXT6-V4.0"
DATA_SET_NAME = "MARS EXPRESS HRSC MAP PROJECTED REFDR EXTENSION6 V4.0"
DETECTOR_ID = MEX_HRSC_P1
EVENT_TYPE = "MARS-TERMINATOR-CALIBRATION-Tc"
INSTRUMENT_HOST_ID = MEX
INSTRUMENT_HOST_NAME = "MARS EXPRESS"
INSTRUMENT_ID = HRSC
INSTRUMENT_NAME = "HIGH RESOLUTION STEREO CAMERA"
MISSION_NAME = "MARS EXPRESS"
MISSION_PHASE_NAME = ME_Phase_36
PROCESSING_LEVEL_ID = 4
PRODUCT_CREATION_TIME = 2023-01-26T14:39:22.000Z
PRODUCT_ID = "HG961_0000_P14.TIF"
RELEASE_ID = 0001
REVISION_ID = 0000
/* QUALITY DATA ELEMENTS */
DATA_QUALITY_ID = 1
DATA_QUALITY_DESC = "Data calculated based on original SPICE kernels"
/* TIME DATA ELEMENTS */
SPACECRAFT_CLOCK_START_COUNT = "1/0443705402.09061"
SPACECRAFT_CLOCK_STOP_COUNT = "1/0443705888.08127"
START_TIME = 2017-05-24T11:33:33.526Z
STOP_TIME = 2017-05-24T11:37:36.440Z
/* ORBITAL DATA ELEMENTS */
ASCENDING_NODE_LONGITUDE = 255.41
MAXIMUM_RESOLUTION = 1.1617
FOOTPRINT_POINT_LATITUDE = (4.78993,4.67148,5.33161,6.82713,6.0912 ,7.67246,13.2964,16.8605,20.8862, 23.9466,27.7826,31.2271,34.8629,38.0536 ,40.9281,43.5693,46.0276,50.2559, 53.1234,57.0109,60.3112,64.0676,67.3114 ,70.3759,73.1442,76.6997,78.7363, 79.3454,77.9401,75.2597,73.2721,71.353, 69.2105,66.8239,64.1628,61.164,57.7143, 53.6086,51.1841,48.3703,44.928,40.1764, 36.4084,31.1474,31.586,32.8578,32.2227, 31.1796,31.9926,30.7233,31.028,32.1325, 32.3699,30.1803,30.8861,33.5377,37.2926 ,40.2547,44.4376,47.5856,50.1914,52.45, 56.281,59.4797,62.2345,64.6435,66.7582, 70.225,72.7206,74.2194,74.5079,73.5208, 70.6242,67.2633,64.8356,61.5373,58.6948 ,54.5258,50.9337,47.2769,44.7277, 40.0196,37.2184,33.0134,30.2236,26.4868 ,23.945,21.0163,17.2777,14.9048,11.5603 ,8.95299,6.11897,6.86545,6.77094, 6.20653,11.0912,9.81449,4.78993)
FOOTPRINT_POINT_LONGITUDE = (354.472,354.442,352.11,348.11,343.07, 339.352,339.739,339.901,340.004,340.016 ,339.963,339.831,339.596,339.295, 338.936,338.522,338.051,337.003,336.085 ,334.466,332.641,329.828,326.439, 321.914,315.927,302.389,284.964,265.895 ,238.972,223.626,217.155,212.662, 208.882,205.679,202.944,200.586,198.53, 196.711,195.872,195.067,194.28,193.476, 193.022,192.62,187.676,183.459,178.882, 176.107,169.425,165.323,162.149,159.573 ,156.696,154.829,151.507,151.086, 150.357,149.639,148.376,147.186,146.002 ,144.799,142.272,139.523,136.486, 133.099,129.308,120.281,109.103,95.9634 ,73.7066,61.2163,45.7825,36.469,31.979, 27.515,24.6455,21.4974,19.482,17.8955, 17.0028,15.706,15.1006,14.4018,14.0532, 13.6942,13.522,13.3763,13.2823,13.2653, 13.3062,13.3821,11.1073,8.70866,5.19544 ,1.13163,359.975,359.963,354.472)
ORBIT_NUMBER = 16961
ORBITAL_ECCENTRICITY = 0.578
ORBITAL_INCLINATION = 86.95
ORBITAL_SEMIMAJOR_AXIS = 8779.5
PERIAPSIS_ALTITUDE = 327.58
PERIAPSIS_ARGUMENT_ANGLE = 295.86
PERIAPSIS_TIME = 2017-05-24T10:02:11.000Z
SPACECRAFT_ORIENTATION = (0.0,1.0,0.0)
^MEX_ORIENTATION_DESC = "MEX_ORIENTATION_DESC.TXT"
SPACECRAFT_POINTING_MODE = INERT
^MEX_POINTING_DESC = "MEX_POINTING_DESC.TXT"
RIGHT_ASCENSION = 136.344
DECLINATION = -36.948
OFFSET_ANGLE = -1e+32
SPACECRAFT_SOLAR_DISTANCE = 2.36384e+08
TARGET_NAME = MARS
/* CAMERA DATA ELEMENTS */
DETECTOR_TEMPERATURE = 16.7393
FOCAL_PLANE_TEMPERATURE = 7.9716
INST_CMPRS_NAME = "DISCRETE COSINE TRANSFORMATION (DCT)"
INST_CMPRS_RATIO = 17.8415
INST_CMPRS_QUALITY = 0
INST_CMPRS_QUANTZ_TBL_ID = 0
INSTRUMENT_TEMPERATURE = 10.6223
LENS_TEMPERATURE = 8.1755
MACROPIXEL_SIZE = 4
MISSING_FRAMES = 0
PIXEL_SUBSAMPLING_FLAG = N
SIGNAL_CHAIN_ID = 3
/* RADIOMETRIC DATA ELEMENTS */
BANDWIDTH = 174.0
CENTER_FILTER_WAVELENGTH = 675.0
RADIANCE_OFFSET = 0.0
RADIANCE_SCALING_FACTOR = 0.0288145
REFLECTANCE_SCALING_FACTOR = 0.000866107
MEX:REFLECTANCE_OFFSET = 0.0
/* IMAGE OBJECT DEFINITIONS */
OBJECT = IMAGE
  INTERCHANGE_FORMAT = BINARY
  LINES = 7994
  LINE_SAMPLES = 3546
  SAMPLE_TYPE = UNSIGNED_INTEGER
  SAMPLE_BITS = 8
  BANDS = 1
  BAND_STORAGE_TYPE = BAND_SEQUENTIAL
  MAXIMUM = 255
  MEAN = 119.11
  MINIMUM = 1
  STANDARD_DEVIATION = 105.678
END_OBJECT = IMAGE
/* MAP OBJECT DEFINITIONS */
OBJECT = IMAGE_MAP_PROJECTION
  ^DATA_SET_MAP_PROJECTION_CATALOG= "DSMAP.CAT"
  A_AXIS_RADIUS = 3396.0
  B_AXIS_RADIUS = 3396.0
  C_AXIS_RADIUS = 3396.0
  CENTER_LATITUDE = 75.4312
  CENTER_LONGITUDE = 2.3978
  COORDINATE_SYSTEM_NAME = PLANETOGRAPHIC
  COORDINATE_SYSTEM_TYPE = "BODY-FIXED ROTATING"
  EASTERNMOST_LONGITUDE = 360.0
  FIRST_STANDARD_PARALLEL = "N/A"
  LINE_FIRST_PIXEL = 1
  LINE_LAST_PIXEL = 7994
  LINE_PROJECTION_OFFSET = 4001.125
  MAP_PROJECTION_ROTATION = 0.0
  MAP_PROJECTION_TYPE = ORTHOGRAPHIC
  MAP_RESOLUTION = 74.08922548333329
  MAP_SCALE = 0.8
  MAXIMUM_LATITUDE = 90.0
  MINIMUM_LATITUDE = 4.67148
  POSITIVE_LONGITUDE_DIRECTION = EAST
  REFERENCE_LATITUDE = "N/A"
  REFERENCE_LONGITUDE = "N/A"
  SAMPLE_FIRST_PIXEL = 1
  SAMPLE_LAST_PIXEL = 3546
  SAMPLE_PROJECTION_OFFSET = 1690.375
  SECOND_STANDARD_PARALLEL = "N/A"
  WESTERNMOST_LONGITUDE = 0.0
END_OBJECT = IMAGE_MAP_PROJECTION
END
