PDS_VERSION_ID = PDS3
/* FILE DATA ELEMENTS */
RECORD_TYPE = UNDEFINED
/* POINTERS TO DATA OBJECTS */
^IMAGE = ("HG969_0000_IR4.TIF")
/* IDENTIFICATION DATA ELEMENTS */
DATA_SET_ID = "MEX-M-HRSC-4-REFDR-MAPPROJECT-EXT6-V4.0"
DATA_SET_NAME = "MARS EXPRESS HRSC MAP PROJECTED REFDR EXTENSION6 V4.0"
DETECTOR_ID = MEX_HRSC_IR
EVENT_TYPE = "MARS-TERMINATOR-CALIBRATION-Tc"
INSTRUMENT_HOST_ID = MEX
INSTRUMENT_HOST_NAME = "MARS EXPRESS"
INSTRUMENT_ID = HRSC
INSTRUMENT_NAME = "HIGH RESOLUTION STEREO CAMERA"
MISSION_NAME = "MARS EXPRESS"
MISSION_PHASE_NAME = ME_Phase_36
PROCESSING_LEVEL_ID = 4
PRODUCT_CREATION_TIME = 2023-01-26T14:39:22.000Z
PRODUCT_ID = "HG969_0000_IR4.TIF"
RELEASE_ID = 0001
REVISION_ID = 0000
/* QUALITY DATA ELEMENTS */
DATA_QUALITY_ID = 1
DATA_QUALITY_DESC = "Data calculated based on original SPICE kernels"
/* TIME DATA ELEMENTS */
SPACECRAFT_CLOCK_START_COUNT = "1/0443907518.09034"
SPACECRAFT_CLOCK_STOP_COUNT = "1/0443907993.07433"
START_TIME = 2017-05-26T19:42:29.529Z
STOP_TIME = 2017-05-26T19:46:20.488Z
/* ORBITAL DATA ELEMENTS */
ASCENDING_NODE_LONGITUDE = 255.26
MAXIMUM_RESOLUTION = 1.2707
FOOTPRINT_POINT_LATITUDE = (7.52527,7.34788,8.30707,9.47533, 8.23419,10.5435,8.73343,12.0619,16.1033 ,20.4902,23.6492,26.247,30.466,34.1302, 36.9258,41.9033,44.8438,49.2545,52.7895 ,56.1559,61.4418,63.849,68.5038,71.1773 ,73.5714,76.6809,78.3513,78.9883, 78.2774,76.8191,74.7397,71.5187,69.5007 ,66.8378,62.8364,58.2818,53.6771, 50.4454,46.6115,41.7079,38.446,33.7699, 30.5037,27.7127,27.6467,27.2161,27.1661 ,27.8888,26.5261,27.9946,28.1526, 25.4259,28.2353,25.6805,28.5073,31.8025 ,34.5608,38.3332,42.3514,45.5249,50.417 ,53.5547,56.0017,60.5558,63.9902, 67.6621,69.8698,72.2792,73.355,73.1788, 72.4731,71.3323,69.9349,67.8553,64.8283 ,61.2244,58.5803,55.7307,52.6498, 50.3767,47.8957,44.2647,40.1912,36.6015 ,33.7719,30.9808,27.2366,21.6686, 18.3856,13.1101,10.7095,8.06822,10.4302 ,8.56612,7.2243,9.44293,8.83725,8.93646 ,7.52527)
FOOTPRINT_POINT_LONGITUDE = (252.619,252.584,251.476,246.302, 242.495,238.88,236.505,236.473,236.714, 236.867,236.912,236.905,236.798,236.596 ,236.363,235.747,235.233,234.207, 233.104,231.736,228.684,226.757,221.439 ,216.812,210.897,197.866,183.441, 158.234,143.525,130.91,120.911,111.819, 108.021,104.263,100.283,97.2213,95.0943 ,93.9898,92.9806,92.0492,91.6038, 91.1574,90.9705,86.5658,81.9331,76.6621 ,74.5655,69.2599,64.1001,57.9927, 53.3291,52.9087,50.417,49.6428,49.2837, 48.7616,48.2323,47.3393,46.1246,44.9346 ,42.5847,40.6281,38.7698,34.2041, 29.2804,21.4378,14.2285,0.728843, 344.278,332.379,323.082,314.829,308.142 ,301.23,294.383,288.85,285.863,283.316, 281.128,279.799,278.534,277.072,275.782 ,274.898,274.334,273.873,273.387, 272.907,272.724,272.603,272.604,272.649 ,271.968,269.108,266.624,262.891, 258.878,257.957,252.619)
ORBIT_NUMBER = 16969
ORBITAL_ECCENTRICITY = 0.578
ORBITAL_INCLINATION = 86.95
ORBITAL_SEMIMAJOR_AXIS = 8777.23
PERIAPSIS_ALTITUDE = 327.02
PERIAPSIS_ARGUMENT_ANGLE = 294.51
PERIAPSIS_TIME = 2017-05-26T17:59:47.000Z
SPACECRAFT_ORIENTATION = (0.0,1.0,0.0)
^MEX_ORIENTATION_DESC = "MEX_ORIENTATION_DESC.TXT"
SPACECRAFT_POINTING_MODE = INERT
^MEX_POINTING_DESC = "MEX_POINTING_DESC.TXT"
RIGHT_ASCENSION = 137.465
DECLINATION = -40.432
OFFSET_ANGLE = -1e+32
SPACECRAFT_SOLAR_DISTANCE = 2.36784e+08
TARGET_NAME = MARS
/* CAMERA DATA ELEMENTS */
DETECTOR_TEMPERATURE = 16.9432
FOCAL_PLANE_TEMPERATURE = 7.9716
INST_CMPRS_NAME = "DISCRETE COSINE TRANSFORMATION (DCT)"
INST_CMPRS_RATIO = 15.2345
INST_CMPRS_QUALITY = 0
INST_CMPRS_QUANTZ_TBL_ID = 0
INSTRUMENT_TEMPERATURE = 11.0301
LENS_TEMPERATURE = 8.3794
MACROPIXEL_SIZE = 4
MISSING_FRAMES = 0
PIXEL_SUBSAMPLING_FLAG = N
SIGNAL_CHAIN_ID = 2
/* RADIOMETRIC DATA ELEMENTS */
BANDWIDTH = 81.0
CENTER_FILTER_WAVELENGTH = 955.5
RADIANCE_OFFSET = 0.0
RADIANCE_SCALING_FACTOR = 0.0109132
REFLECTANCE_SCALING_FACTOR = 0.00132017
MEX:REFLECTANCE_OFFSET = 0.0
/* IMAGE OBJECT DEFINITIONS */
OBJECT = IMAGE
  INTERCHANGE_FORMAT = BINARY
  LINES = 4019
  LINE_SAMPLES = 2187
  SAMPLE_TYPE = UNSIGNED_INTEGER
  SAMPLE_BITS = 8
  BANDS = 1
  BAND_STORAGE_TYPE = BAND_SEQUENTIAL
  MAXIMUM = 255
  MEAN = 91.8841
  MINIMUM = 1
  STANDARD_DEVIATION = 95.1268
END_OBJECT = IMAGE
/* MAP OBJECT DEFINITIONS */
OBJECT = IMAGE_MAP_PROJECTION
  ^DATA_SET_MAP_PROJECTION_CATALOG= "DSMAP.CAT"
  A_AXIS_RADIUS = 3396.0
  B_AXIS_RADIUS = 3396.0
  C_AXIS_RADIUS = 3396.0
  CENTER_LATITUDE = 79.0215
  CENTER_LONGITUDE = 265.91
  COORDINATE_SYSTEM_NAME = PLANETOGRAPHIC
  COORDINATE_SYSTEM_TYPE = "BODY-FIXED ROTATING"
  EASTERNMOST_LONGITUDE = 360.0
  FIRST_STANDARD_PARALLEL = "N/A"
  LINE_FIRST_PIXEL = 1
  LINE_LAST_PIXEL = 4019
  LINE_PROJECTION_OFFSET = 2018.25
  MAP_PROJECTION_ROTATION = 0.0
  MAP_PROJECTION_TYPE = ORTHOGRAPHIC
  MAP_RESOLUTION = 37.0446127416667
  MAP_SCALE = 1.6
  MAXIMUM_LATITUDE = 90.0
  MINIMUM_LATITUDE = 7.2243
  POSITIVE_LONGITUDE_DIRECTION = EAST
  REFERENCE_LATITUDE = "N/A"
  REFERENCE_LONGITUDE = "N/A"
  SAMPLE_FIRST_PIXEL = 1
  SAMPLE_LAST_PIXEL = 2187
  SAMPLE_PROJECTION_OFFSET = 1057.75
  SECOND_STANDARD_PARALLEL = "N/A"
  WESTERNMOST_LONGITUDE = 0.0
END_OBJECT = IMAGE_MAP_PROJECTION
END
