PDS_VERSION_ID = PDS3
/* FILE DATA ELEMENTS */
RECORD_TYPE = UNDEFINED
/* POINTERS TO DATA OBJECTS */
^IMAGE = ("HG972_0000_BL4.TIF")
/* IDENTIFICATION DATA ELEMENTS */
DATA_SET_ID = "MEX-M-HRSC-4-REFDR-MAPPROJECT-EXT6-V4.0"
DATA_SET_NAME = "MARS EXPRESS HRSC MAP PROJECTED REFDR EXTENSION6 V4.0"
DETECTOR_ID = MEX_HRSC_BLUE
EVENT_TYPE = "MARS-REGIONAL-MAPPING-Fl-Gl-Pf"
INSTRUMENT_HOST_ID = MEX
INSTRUMENT_HOST_NAME = "MARS EXPRESS"
INSTRUMENT_ID = HRSC
INSTRUMENT_NAME = "HIGH RESOLUTION STEREO CAMERA"
MISSION_NAME = "MARS EXPRESS"
MISSION_PHASE_NAME = ME_Phase_36
PROCESSING_LEVEL_ID = 4
PRODUCT_CREATION_TIME = 2023-01-26T14:39:22.000Z
PRODUCT_ID = "HG972_0000_BL4.TIF"
RELEASE_ID = 0001
REVISION_ID = 0000
/* QUALITY DATA ELEMENTS */
DATA_QUALITY_ID = 1
DATA_QUALITY_DESC = "Data calculated based on original SPICE kernels"
/* TIME DATA ELEMENTS */
SPACECRAFT_CLOCK_START_COUNT = "1/0443977168.08265"
SPACECRAFT_CLOCK_STOP_COUNT = "1/0443977361.21585"
START_TIME = 2017-05-27T15:00:00.883Z
STOP_TIME = 2017-05-27T15:02:08.372Z
/* ORBITAL DATA ELEMENTS */
ASCENDING_NODE_LONGITUDE = 255.2
MAXIMUM_RESOLUTION = 0.0526
FOOTPRINT_POINT_LATITUDE = (-60.7552,-60.7433,-60.7242,-60.7088, -60.6696,-60.6686,-60.6493,-60.3242, -59.9995,-59.8368,-59.6744,-59.3499, -59.1875,-58.8646,-58.5394,-58.2977, -57.9731,-57.7296,-57.5666,-57.3222, -57.0753,-56.8256,-56.5692,-56.3153, -56.1458,-55.9784,-55.8111,-55.6439, -55.393,-55.2259,-55.0588,-54.8919, -54.7247,-54.5577,-54.3907,-54.2238, -54.057,-53.8903,-53.7235,-53.5568, -53.3902,-53.1404,-52.9739,-52.8074, -52.6411,-52.4748,-52.3916,-52.3351, -52.3467,-52.3625,-52.3715,-52.386, -52.397,-52.3974,-52.3984,-52.5651, -52.8153,-52.9823,-53.1494,-53.3998, -53.5668,-53.7339,-53.9849,-54.1522, -54.3195,-54.4868,-54.6543,-54.8218, -55.0731,-55.2407,-55.4084,-55.5761, -55.7442,-55.9119,-56.0799,-56.3319, -56.5015,-56.7547,-56.9212,-57.0893, -57.2568,-57.4242,-57.5883,-57.9128, -58.2385,-58.4021,-58.5659,-58.7295, -58.8929,-59.2182,-59.3811,-59.5443, -59.7888,-59.9522,-60.1153,-60.278, -60.4408,-60.6037,-60.6853,-60.7552)
FOOTPRINT_POINT_LONGITUDE = (320.665,320.289,319.747,319.352, 318.458,318.437,318.384,318.444,318.504 ,318.532,318.561,318.617,318.645, 318.702,318.753,318.795,318.844,318.879 ,318.901,318.932,318.977,319.015, 319.035,319.061,319.077,319.098,319.118 ,319.139,319.169,319.188,319.208, 319.227,319.245,319.263,319.281,319.299 ,319.316,319.334,319.35,319.367,319.383 ,319.408,319.423,319.439,319.454, 319.469,319.477,319.482,319.787,320.247 ,320.535,321.054,321.515,321.534,321.54 ,321.528,321.51,321.498,321.485,321.466 ,321.454,321.441,321.421,321.407, 321.394,321.38,321.366,321.352,321.331, 321.317,321.302,321.287,321.271,321.257 ,321.241,321.217,321.196,321.167, 321.156,321.14,321.125,321.106,321.085, 321.055,321.021,321.001,320.98,320.959, 320.939,320.905,320.886,320.866,320.837 ,320.816,320.796,320.777,320.758, 320.738,320.727,320.665)
ORBIT_NUMBER = 16972
ORBITAL_ECCENTRICITY = 0.578
ORBITAL_INCLINATION = 86.96
ORBITAL_SEMIMAJOR_AXIS = 8774.92
PERIAPSIS_ALTITUDE = 327.26
PERIAPSIS_ARGUMENT_ANGLE = 294.02
PERIAPSIS_TIME = 2017-05-27T14:58:49.000Z
SPACECRAFT_ORIENTATION = (0.0,1.0,0.0)
^MEX_ORIENTATION_DESC = "MEX_ORIENTATION_DESC.TXT"
SPACECRAFT_POINTING_MODE = NADIR
^MEX_POINTING_DESC = "MEX_POINTING_DESC.TXT"
RIGHT_ASCENSION = -1e+32
DECLINATION = -1e+32
OFFSET_ANGLE = -1e+32
SPACECRAFT_SOLAR_DISTANCE = 2.36933e+08
TARGET_NAME = MARS
/* CAMERA DATA ELEMENTS */
DETECTOR_TEMPERATURE = 17.9627
FOCAL_PLANE_TEMPERATURE = 8.1755
INST_CMPRS_NAME = "DISCRETE COSINE TRANSFORMATION (DCT)"
INST_CMPRS_RATIO = 5.77264
INST_CMPRS_QUALITY = 0
INST_CMPRS_QUANTZ_TBL_ID = 0
INSTRUMENT_TEMPERATURE = 11.234
LENS_TEMPERATURE = 8.3794
MACROPIXEL_SIZE = 4
MISSING_FRAMES = 0
PIXEL_SUBSAMPLING_FLAG = N
SIGNAL_CHAIN_ID = 2
/* RADIOMETRIC DATA ELEMENTS */
BANDWIDTH = 76.0
CENTER_FILTER_WAVELENGTH = 444.0
RADIANCE_OFFSET = 0.278726
RADIANCE_SCALING_FACTOR = 0.00236826
REFLECTANCE_SCALING_FACTOR = 0.000136596
MEX:REFLECTANCE_OFFSET = 0.0160763
/* IMAGE OBJECT DEFINITIONS */
OBJECT = IMAGE
  INTERCHANGE_FORMAT = BINARY
  LINES = 9960
  LINE_SAMPLES = 2068
  SAMPLE_TYPE = UNSIGNED_INTEGER
  SAMPLE_BITS = 8
  BANDS = 1
  BAND_STORAGE_TYPE = BAND_SEQUENTIAL
  MAXIMUM = 255
  MEAN = 154.756
  MINIMUM = 1
  STANDARD_DEVIATION = 28.1559
END_OBJECT = IMAGE
/* MAP OBJECT DEFINITIONS */
OBJECT = IMAGE_MAP_PROJECTION
  ^DATA_SET_MAP_PROJECTION_CATALOG= "DSMAP.CAT"
  A_AXIS_RADIUS = 3396.0
  B_AXIS_RADIUS = 3396.0
  C_AXIS_RADIUS = 3396.0
  CENTER_LATITUDE = 0.0
  CENTER_LONGITUDE = 320.0
  COORDINATE_SYSTEM_NAME = PLANETOGRAPHIC
  COORDINATE_SYSTEM_TYPE = "BODY-FIXED ROTATING"
  EASTERNMOST_LONGITUDE = 321.54
  FIRST_STANDARD_PARALLEL = "N/A"
  LINE_FIRST_PIXEL = 1
  LINE_LAST_PIXEL = 9960
  LINE_PROJECTION_OFFSET = -62045.125
  MAP_PROJECTION_ROTATION = 0.0
  MAP_PROJECTION_TYPE = SINUSOIDAL
  MAP_RESOLUTION = 1185.42760773333
  MAP_SCALE = 0.05
  MAXIMUM_LATITUDE = -52.3351
  MINIMUM_LATITUDE = -60.7552
  POSITIVE_LONGITUDE_DIRECTION = EAST
  REFERENCE_LATITUDE = "N/A"
  REFERENCE_LONGITUDE = "N/A"
  SAMPLE_FIRST_PIXEL = 1
  SAMPLE_LAST_PIXEL = 2068
  SAMPLE_PROJECTION_OFFSET = 949.125
  SECOND_STANDARD_PARALLEL = "N/A"
  WESTERNMOST_LONGITUDE = 318.384
END_OBJECT = IMAGE_MAP_PROJECTION
END
