PDS_VERSION_ID = PDS3
/* FILE DATA ELEMENTS */
RECORD_TYPE = UNDEFINED
/* POINTERS TO DATA OBJECTS */
^IMAGE = ("HG972_0000_GR4.TIF")
/* IDENTIFICATION DATA ELEMENTS */
DATA_SET_ID = "MEX-M-HRSC-4-REFDR-MAPPROJECT-EXT6-V4.0"
DATA_SET_NAME = "MARS EXPRESS HRSC MAP PROJECTED REFDR EXTENSION6 V4.0"
DETECTOR_ID = MEX_HRSC_GREEN
EVENT_TYPE = "MARS-REGIONAL-MAPPING-Fl-Gl-Pf"
INSTRUMENT_HOST_ID = MEX
INSTRUMENT_HOST_NAME = "MARS EXPRESS"
INSTRUMENT_ID = HRSC
INSTRUMENT_NAME = "HIGH RESOLUTION STEREO CAMERA"
MISSION_NAME = "MARS EXPRESS"
MISSION_PHASE_NAME = ME_Phase_36
PROCESSING_LEVEL_ID = 4
PRODUCT_CREATION_TIME = 2023-01-26T14:39:22.000Z
PRODUCT_ID = "HG972_0000_GR4.TIF"
RELEASE_ID = 0001
REVISION_ID = 0000
/* QUALITY DATA ELEMENTS */
DATA_QUALITY_ID = 1
DATA_QUALITY_DESC = "Data calculated based on original SPICE kernels"
/* TIME DATA ELEMENTS */
SPACECRAFT_CLOCK_START_COUNT = "1/0443977168.08265"
SPACECRAFT_CLOCK_STOP_COUNT = "1/0443977361.21585"
START_TIME = 2017-05-27T15:00:10.816Z
STOP_TIME = 2017-05-27T15:02:19.377Z
/* ORBITAL DATA ELEMENTS */
ASCENDING_NODE_LONGITUDE = 255.2
MAXIMUM_RESOLUTION = 0.0528
FOOTPRINT_POINT_LATITUDE = (-60.7266,-60.7024,-60.69,-60.6645, -60.6412,-60.6402,-60.6494,-60.4045, -60.1597,-59.9963,-59.6699,-59.4251, -59.1803,-59.017,-58.8532,-58.5274, -58.2006,-57.956,-57.7877,-57.6202, -57.3689,-57.1151,-56.9462,-56.7782, -56.6127,-56.4462,-56.1968,-55.9459, -55.7784,-55.6041,-55.4369,-55.186, -55.0188,-54.8516,-54.6847,-54.5178, -54.351,-54.1842,-54.0175,-53.8509, -53.6844,-53.4347,-53.2683,-53.102, -52.9359,-52.7698,-52.6038,-52.4379, -52.3549,-52.3431,-52.3654,-52.3754, -52.3861,-52.3935,-52.4048,-52.4053, -52.4063,-52.5726,-52.7391,-52.9888, -53.2387,-53.4055,-53.5725,-53.823, -53.99,-54.1572,-54.3245,-54.4918, -54.6592,-54.8267,-54.9943,-55.162, -55.3297,-55.4975,-55.7489,-56.0079, -56.1756,-56.3439,-56.5107,-56.6774, -56.8469,-57.1002,-57.2693,-57.4373, -57.6047,-57.8583,-58.0276,-58.3551, -58.6804,-59.0074,-59.2534,-59.4172, -59.5807,-59.7447,-59.9904,-60.1546, -60.4012,-60.6475,-60.7296,-60.7266)
FOOTPRINT_POINT_LONGITUDE = (320.673,319.94,319.605,318.979,318.456 ,318.436,318.378,318.423,318.467, 318.497,318.554,318.596,318.637,318.666 ,318.696,318.747,318.801,318.837, 318.862,318.884,318.916,318.959,318.986 ,319.009,319.022,319.038,319.061, 319.091,319.112,319.133,319.152,319.181 ,319.201,319.22,319.238,319.256,319.273 ,319.291,319.308,319.325,319.342, 319.366,319.383,319.398,319.414,319.429 ,319.444,319.459,319.466,319.467, 320.087,320.398,320.767,321.039,321.525 ,321.544,321.551,321.538,321.527, 321.508,321.488,321.476,321.463,321.443 ,321.43,321.416,321.403,321.389,321.375 ,321.361,321.347,321.332,321.318, 321.303,321.279,321.256,321.239,321.224 ,321.203,321.182,321.169,321.146, 321.131,321.112,321.09,321.066,321.05, 321.013,320.971,320.933,320.906,320.887 ,320.866,320.847,320.816,320.797, 320.767,320.736,320.725,320.673)
ORBIT_NUMBER = 16972
ORBITAL_ECCENTRICITY = 0.578
ORBITAL_INCLINATION = 86.96
ORBITAL_SEMIMAJOR_AXIS = 8774.92
PERIAPSIS_ALTITUDE = 327.26
PERIAPSIS_ARGUMENT_ANGLE = 294.02
PERIAPSIS_TIME = 2017-05-27T14:58:49.000Z
SPACECRAFT_ORIENTATION = (0.0,1.0,0.0)
^MEX_ORIENTATION_DESC = "MEX_ORIENTATION_DESC.TXT"
SPACECRAFT_POINTING_MODE = NADIR
^MEX_POINTING_DESC = "MEX_POINTING_DESC.TXT"
RIGHT_ASCENSION = -1e+32
DECLINATION = -1e+32
OFFSET_ANGLE = -1e+32
SPACECRAFT_SOLAR_DISTANCE = 2.36933e+08
TARGET_NAME = MARS
/* CAMERA DATA ELEMENTS */
DETECTOR_TEMPERATURE = 17.9627
FOCAL_PLANE_TEMPERATURE = 8.1755
INST_CMPRS_NAME = "DISCRETE COSINE TRANSFORMATION (DCT)"
INST_CMPRS_RATIO = 19.7983
INST_CMPRS_QUALITY = 0
INST_CMPRS_QUANTZ_TBL_ID = 0
INSTRUMENT_TEMPERATURE = 11.234
LENS_TEMPERATURE = 8.3794
MACROPIXEL_SIZE = 4
MISSING_FRAMES = 1
PIXEL_SUBSAMPLING_FLAG = N
SIGNAL_CHAIN_ID = 2
/* RADIOMETRIC DATA ELEMENTS */
BANDWIDTH = 88.0
CENTER_FILTER_WAVELENGTH = 538.0
RADIANCE_OFFSET = 0.569295
RADIANCE_SCALING_FACTOR = 0.0055527
REFLECTANCE_SCALING_FACTOR = 0.000268377
MEX:REFLECTANCE_OFFSET = 0.0275156
/* IMAGE OBJECT DEFINITIONS */
OBJECT = IMAGE
  INTERCHANGE_FORMAT = BINARY
  LINES = 9960
  LINE_SAMPLES = 2068
  SAMPLE_TYPE = UNSIGNED_INTEGER
  SAMPLE_BITS = 8
  BANDS = 1
  BAND_STORAGE_TYPE = BAND_SEQUENTIAL
  MAXIMUM = 255
  MEAN = 147.42
  MINIMUM = 1
  STANDARD_DEVIATION = 35.2673
END_OBJECT = IMAGE
/* MAP OBJECT DEFINITIONS */
OBJECT = IMAGE_MAP_PROJECTION
  ^DATA_SET_MAP_PROJECTION_CATALOG= "DSMAP.CAT"
  A_AXIS_RADIUS = 3396.0
  B_AXIS_RADIUS = 3396.0
  C_AXIS_RADIUS = 3396.0
  CENTER_LATITUDE = 0.0
  CENTER_LONGITUDE = 320.0
  COORDINATE_SYSTEM_NAME = PLANETOGRAPHIC
  COORDINATE_SYSTEM_TYPE = "BODY-FIXED ROTATING"
  EASTERNMOST_LONGITUDE = 321.551
  FIRST_STANDARD_PARALLEL = "N/A"
  LINE_FIRST_PIXEL = 1
  LINE_LAST_PIXEL = 9960
  LINE_PROJECTION_OFFSET = -62045.125
  MAP_PROJECTION_ROTATION = 0.0
  MAP_PROJECTION_TYPE = SINUSOIDAL
  MAP_RESOLUTION = 1185.42760773333
  MAP_SCALE = 0.05
  MAXIMUM_LATITUDE = -52.3431
  MINIMUM_LATITUDE = -60.7296
  POSITIVE_LONGITUDE_DIRECTION = EAST
  REFERENCE_LATITUDE = "N/A"
  REFERENCE_LONGITUDE = "N/A"
  SAMPLE_FIRST_PIXEL = 1
  SAMPLE_LAST_PIXEL = 2068
  SAMPLE_PROJECTION_OFFSET = 949.125
  SECOND_STANDARD_PARALLEL = "N/A"
  WESTERNMOST_LONGITUDE = 318.378
END_OBJECT = IMAGE_MAP_PROJECTION
END
