PDS_VERSION_ID = PDS3
/* FILE DATA ELEMENTS */
RECORD_TYPE = UNDEFINED
/* POINTERS TO DATA OBJECTS */
^IMAGE = ("HG972_0000_ND4.TIF")
/* IDENTIFICATION DATA ELEMENTS */
DATA_SET_ID = "MEX-M-HRSC-4-REFDR-MAPPROJECT-EXT6-V4.0"
DATA_SET_NAME = "MARS EXPRESS HRSC MAP PROJECTED REFDR EXTENSION6 V4.0"
DETECTOR_ID = MEX_HRSC_NADIR
EVENT_TYPE = "MARS-REGIONAL-MAPPING-Fl-Gl-Pf"
INSTRUMENT_HOST_ID = MEX
INSTRUMENT_HOST_NAME = "MARS EXPRESS"
INSTRUMENT_ID = HRSC
INSTRUMENT_NAME = "HIGH RESOLUTION STEREO CAMERA"
MISSION_NAME = "MARS EXPRESS"
MISSION_PHASE_NAME = ME_Phase_36
PROCESSING_LEVEL_ID = 4
PRODUCT_CREATION_TIME = 2023-01-26T14:39:22.000Z
PRODUCT_ID = "HG972_0000_ND4.TIF"
RELEASE_ID = 0001
REVISION_ID = 0000
/* QUALITY DATA ELEMENTS */
DATA_QUALITY_ID = 1
DATA_QUALITY_DESC = "Data calculated based on original SPICE kernels"
/* TIME DATA ELEMENTS */
SPACECRAFT_CLOCK_START_COUNT = "1/0443977168.08265"
SPACECRAFT_CLOCK_STOP_COUNT = "1/0443977361.21585"
START_TIME = 2017-05-27T15:00:05.829Z
STOP_TIME = 2017-05-27T15:02:13.836Z
/* ORBITAL DATA ELEMENTS */
ASCENDING_NODE_LONGITUDE = 255.2
MAXIMUM_RESOLUTION = 0.0132
FOOTPRINT_POINT_LATITUDE = (-60.7412,-60.7171,-60.6953,-60.6798, -60.656,-60.6549,-60.6504,-60.4871, -60.1603,-59.8337,-59.5073,-59.1809, -58.855,-58.5286,-58.1217,-57.7956, -57.548,-57.3796,-57.2114,-56.9599, -56.792,-56.5389,-56.2864,-56.118, -55.9501,-55.7823,-55.6145,-55.4468, -55.2791,-55.1115,-54.944,-54.7765, -54.609,-54.4416,-54.2743,-54.1071, -53.9399,-53.7728,-53.6057,-53.4387, -53.2718,-53.1049,-52.9381,-52.7714, -52.6048,-52.4382,-52.355,-52.3392, -52.3551,-52.3738,-52.3881,-52.4007, -52.4011,-52.4015,-52.5685,-52.7356, -52.9027,-53.1536,-53.321,-53.4884, -53.6558,-53.8234,-53.991,-54.1587, -54.3265,-54.4943,-54.6622,-54.8302, -54.9982,-55.1663,-55.3344,-55.5026, -55.7551,-55.9234,-56.0918,-56.2603, -56.4289,-56.5975,-56.7661,-56.9348, -57.1035,-57.2723,-57.4411,-57.61, -57.777,-58.1041,-58.4313,-58.6768, -58.8406,-59.1681,-59.332,-59.5778, -59.7417,-59.9056,-60.0696,-60.2336, -60.3976,-60.6437,-60.7257,-60.7412)
FOOTPRINT_POINT_LONGITUDE = (320.668,319.935,319.358,318.982,318.45 ,318.428,318.367,318.399,318.457, 318.515,318.572,318.628,318.686,318.736 ,318.806,318.853,318.886,318.907, 318.931,318.976,319.002,319.022,319.047 ,319.062,319.083,319.104,319.124, 319.144,319.164,319.183,319.203,319.221 ,319.239,319.257,319.275,319.293,319.31 ,319.327,319.344,319.36,319.376,319.392 ,319.408,319.423,319.439,319.454, 319.461,319.462,319.893,320.467,320.98, 321.514,321.535,321.545,321.533,321.521 ,321.508,321.489,321.477,321.464, 321.451,321.438,321.424,321.411,321.397 ,321.384,321.37,321.356,321.341,321.327 ,321.312,321.298,321.274,321.259, 321.243,321.228,321.209,321.189,321.17, 321.158,321.141,321.126,321.108,321.086 ,321.069,321.037,321.0,320.968,320.947, 320.912,320.894,320.864,320.845,320.824 ,320.804,320.784,320.765,320.734, 320.723,320.668)
ORBIT_NUMBER = 16972
ORBITAL_ECCENTRICITY = 0.578
ORBITAL_INCLINATION = 86.96
ORBITAL_SEMIMAJOR_AXIS = 8774.92
PERIAPSIS_ALTITUDE = 327.26
PERIAPSIS_ARGUMENT_ANGLE = 294.02
PERIAPSIS_TIME = 2017-05-27T14:58:49.000Z
SPACECRAFT_ORIENTATION = (0.0,1.0,0.0)
^MEX_ORIENTATION_DESC = "MEX_ORIENTATION_DESC.TXT"
SPACECRAFT_POINTING_MODE = NADIR
^MEX_POINTING_DESC = "MEX_POINTING_DESC.TXT"
RIGHT_ASCENSION = -1e+32
DECLINATION = -1e+32
OFFSET_ANGLE = -1e+32
SPACECRAFT_SOLAR_DISTANCE = 2.36933e+08
TARGET_NAME = MARS
/* CAMERA DATA ELEMENTS */
DETECTOR_TEMPERATURE = 17.9627
FOCAL_PLANE_TEMPERATURE = 8.1755
INST_CMPRS_NAME = "DISCRETE COSINE TRANSFORMATION (DCT)"
INST_CMPRS_RATIO = 8.12455
INST_CMPRS_QUALITY = 0
INST_CMPRS_QUANTZ_TBL_ID = 0
INSTRUMENT_TEMPERATURE = 11.234
LENS_TEMPERATURE = 8.3794
MACROPIXEL_SIZE = 1
MISSING_FRAMES = 0
PIXEL_SUBSAMPLING_FLAG = N
SIGNAL_CHAIN_ID = 0
/* RADIOMETRIC DATA ELEMENTS */
BANDWIDTH = 177.0
CENTER_FILTER_WAVELENGTH = 677.5
RADIANCE_OFFSET = 1.20878
RADIANCE_SCALING_FACTOR = 0.0180132
REFLECTANCE_SCALING_FACTOR = 0.000537189
MEX:REFLECTANCE_OFFSET = 0.0360482
/* IMAGE OBJECT DEFINITIONS */
OBJECT = IMAGE
  INTERCHANGE_FORMAT = BINARY
  LINES = 39840
  LINE_SAMPLES = 8269
  SAMPLE_TYPE = UNSIGNED_INTEGER
  SAMPLE_BITS = 8
  BANDS = 1
  BAND_STORAGE_TYPE = BAND_SEQUENTIAL
  MAXIMUM = 255
  MEAN = 124.454
  MINIMUM = 1
  STANDARD_DEVIATION = 34.7775
END_OBJECT = IMAGE
/* MAP OBJECT DEFINITIONS */
OBJECT = IMAGE_MAP_PROJECTION
  ^DATA_SET_MAP_PROJECTION_CATALOG= "DSMAP.CAT"
  A_AXIS_RADIUS = 3396.0
  B_AXIS_RADIUS = 3396.0
  C_AXIS_RADIUS = 3396.0
  CENTER_LATITUDE = 0.0
  CENTER_LONGITUDE = 320.0
  COORDINATE_SYSTEM_NAME = PLANETOGRAPHIC
  COORDINATE_SYSTEM_TYPE = "BODY-FIXED ROTATING"
  EASTERNMOST_LONGITUDE = 321.545
  FIRST_STANDARD_PARALLEL = "N/A"
  LINE_FIRST_PIXEL = 1
  LINE_LAST_PIXEL = 39840
  LINE_PROJECTION_OFFSET = -248179.0
  MAP_PROJECTION_ROTATION = 0.0
  MAP_PROJECTION_TYPE = SINUSOIDAL
  MAP_RESOLUTION = 4741.71043093333
  MAP_SCALE = 0.0125
  MAXIMUM_LATITUDE = -52.3392
  MINIMUM_LATITUDE = -60.7412
  POSITIVE_LONGITUDE_DIRECTION = EAST
  REFERENCE_LATITUDE = "N/A"
  REFERENCE_LONGITUDE = "N/A"
  SAMPLE_FIRST_PIXEL = 1
  SAMPLE_LAST_PIXEL = 8269
  SAMPLE_PROJECTION_OFFSET = 3798.0
  SECOND_STANDARD_PARALLEL = "N/A"
  WESTERNMOST_LONGITUDE = 318.367
END_OBJECT = IMAGE_MAP_PROJECTION
END
