PDS_VERSION_ID = PDS3
/* FILE DATA ELEMENTS */
RECORD_TYPE = UNDEFINED
/* POINTERS TO DATA OBJECTS */
^IMAGE = ("HH050_0000_P24.TIF")
/* IDENTIFICATION DATA ELEMENTS */
DATA_SET_ID = "MEX-M-HRSC-4-REFDR-MAPPROJECT-EXT6-V4.0"
DATA_SET_NAME = "MARS EXPRESS HRSC MAP PROJECTED REFDR EXTENSION6 V4.0"
DETECTOR_ID = MEX_HRSC_P2
EVENT_TYPE = "MARS-TERMINATOR-CALIBRATION-Tc"
INSTRUMENT_HOST_ID = MEX
INSTRUMENT_HOST_NAME = "MARS EXPRESS"
INSTRUMENT_ID = HRSC
INSTRUMENT_NAME = "HIGH RESOLUTION STEREO CAMERA"
MISSION_NAME = "MARS EXPRESS"
MISSION_PHASE_NAME = ME_Phase_36
PROCESSING_LEVEL_ID = 4
PRODUCT_CREATION_TIME = 2023-01-28T19:11:35.000Z
PRODUCT_ID = "HH050_0000_P24.TIF"
RELEASE_ID = 0002
REVISION_ID = 0000
/* QUALITY DATA ELEMENTS */
DATA_QUALITY_ID = 1
DATA_QUALITY_DESC = "Data calculated based on original SPICE kernels"
/* TIME DATA ELEMENTS */
SPACECRAFT_CLOCK_START_COUNT = "1/0445947108.08289"
SPACECRAFT_CLOCK_STOP_COUNT = "1/0445947587.06418"
START_TIME = 2017-06-19T10:12:36.524Z
STOP_TIME = 2017-06-19T10:16:33.547Z
/* ORBITAL DATA ELEMENTS */
ASCENDING_NODE_LONGITUDE = 253.78
MAXIMUM_RESOLUTION = 1.2203
FOOTPRINT_POINT_LATITUDE = (-8.07264,-8.14603,-7.11236,-7.05375, -6.32733,-5.93851,-6.05835,-7.19531, -4.95961,-6.76702,-3.34257,-1.00953, 4.1815,7.4688,11.4872,14.9441,19.2041, 23.0418,25.8212,28.0512,30.657,34.1101, 38.028,40.1922,43.7107,47.864,50.0506, 52.4187,55.4731,59.1018,61.8454,65.0709 ,67.596,69.4633,70.8337,72.4611,73.6576 ,74.2477,73.7183,72.9942,71.1945,69.651 ,67.2965,65.3224,65.2348,65.2018, 68.7673,70.3565,71.7019,73.5582,74.1043 ,73.2017,72.2231,70.9208,69.3143, 66.0585,65.7731,65.7566,68.3349,71.9755 ,74.6525,76.8014,77.4537,76.9008, 75.5478,72.7858,70.6361,67.1586,64.6225 ,61.226,59.1331,55.9748,53.231,49.7273, 46.5494,43.9728,41.3368,38.5563,34.7862 ,30.9119,28.365,25.409,23.3248,19.2824, 16.8162,13.1202,10.3875,7.01112,4.90218 ,2.29245,-0.608301,-2.97565,-4.95556, -6.07719,-4.94592,-7.02001,-6.53759, -6.68305,-8.07264)
FOOTPRINT_POINT_LONGITUDE = (255.212,255.188,251.949,249.551, 246.558,244.461,242.033,239.809,239.345 ,238.31,238.558,238.69,238.877,238.922, 238.879,238.776,238.539,238.226,237.931 ,237.647,237.256,236.629,235.737, 235.148,234.009,232.322,231.246,229.895 ,227.799,224.61,221.483,216.609,211.365 ,206.153,201.13,192.717,182.334,165.491 ,152.643,145.345,134.647,128.657, 122.102,118.014,117.853,117.793,111.677 ,107.39,102.324,89.8562,75.176,60.6152, 54.1493,48.4504,43.5668,37.2813,36.8777 ,36.8291,32.9509,24.7613,14.5219, 358.046,342.465,323.894,311.316,298.455 ,292.434,285.929,282.629,279.367, 277.817,275.951,274.681,273.417,272.552 ,271.993,271.541,271.177,270.828, 270.632,270.57,270.564,270.598,270.744, 270.887,271.163,271.418,271.795,272.063 ,272.427,272.886,273.298,272.399, 269.452,265.293,263.418,260.337,259.447 ,255.212)
ORBIT_NUMBER = 17050
ORBITAL_ECCENTRICITY = 0.577
ORBITAL_INCLINATION = 86.95
ORBITAL_SEMIMAJOR_AXIS = 8764.21
PERIAPSIS_ALTITUDE = 327.0
PERIAPSIS_ARGUMENT_ANGLE = 280.8
PERIAPSIS_TIME = 2017-06-19T08:35:57.000Z
SPACECRAFT_ORIENTATION = (0.0,1.0,0.0)
^MEX_ORIENTATION_DESC = "MEX_ORIENTATION_DESC.TXT"
SPACECRAFT_POINTING_MODE = INERT
^MEX_POINTING_DESC = "MEX_POINTING_DESC.TXT"
RIGHT_ASCENSION = 132.484
DECLINATION = -25.811
OFFSET_ANGLE = -1e+32
SPACECRAFT_SOLAR_DISTANCE = 2.40566e+08
TARGET_NAME = MARS
/* CAMERA DATA ELEMENTS */
DETECTOR_TEMPERATURE = 18.7783
FOCAL_PLANE_TEMPERATURE = 8.9911
INST_CMPRS_NAME = "DISCRETE COSINE TRANSFORMATION (DCT)"
INST_CMPRS_RATIO = 11.7744
INST_CMPRS_QUALITY = 0
INST_CMPRS_QUANTZ_TBL_ID = 0
INSTRUMENT_TEMPERATURE = 11.6418
LENS_TEMPERATURE = 9.6028
MACROPIXEL_SIZE = 4
MISSING_FRAMES = 0
PIXEL_SUBSAMPLING_FLAG = N
SIGNAL_CHAIN_ID = 3
/* RADIOMETRIC DATA ELEMENTS */
BANDWIDTH = 177.0
CENTER_FILTER_WAVELENGTH = 676.5
RADIANCE_OFFSET = 0.0
RADIANCE_SCALING_FACTOR = 0.0502888
REFLECTANCE_SCALING_FACTOR = 0.00154325
MEX:REFLECTANCE_OFFSET = 0.0
/* IMAGE OBJECT DEFINITIONS */
OBJECT = IMAGE
  INTERCHANGE_FORMAT = BINARY
  LINES = 3461
  LINE_SAMPLES = 1435
  SAMPLE_TYPE = UNSIGNED_INTEGER
  SAMPLE_BITS = 8
  BANDS = 1
  BAND_STORAGE_TYPE = BAND_SEQUENTIAL
  MAXIMUM = 255
  MEAN = 139.187
  MINIMUM = 1
  STANDARD_DEVIATION = 65.7778
END_OBJECT = IMAGE
/* MAP OBJECT DEFINITIONS */
OBJECT = IMAGE_MAP_PROJECTION
  ^DATA_SET_MAP_PROJECTION_CATALOG= "DSMAP.CAT"
  A_AXIS_RADIUS = 3396.0
  B_AXIS_RADIUS = 3396.0
  C_AXIS_RADIUS = 3396.0
  CENTER_LATITUDE = 59.9546
  CENTER_LONGITUDE = 251.976
  COORDINATE_SYSTEM_NAME = PLANETOGRAPHIC
  COORDINATE_SYSTEM_TYPE = "BODY-FIXED ROTATING"
  EASTERNMOST_LONGITUDE = 360.0
  FIRST_STANDARD_PARALLEL = "N/A"
  LINE_FIRST_PIXEL = 1
  LINE_LAST_PIXEL = 3461
  LINE_PROJECTION_OFFSET = 1504.75
  MAP_PROJECTION_ROTATION = 0.0
  MAP_PROJECTION_TYPE = ORTHOGRAPHIC
  MAP_RESOLUTION = 37.0446127416667
  MAP_SCALE = 1.6
  MAXIMUM_LATITUDE = 90.0
  MINIMUM_LATITUDE = -8.14603
  POSITIVE_LONGITUDE_DIRECTION = EAST
  REFERENCE_LATITUDE = "N/A"
  REFERENCE_LONGITUDE = "N/A"
  SAMPLE_FIRST_PIXEL = 1
  SAMPLE_LAST_PIXEL = 1435
  SAMPLE_PROJECTION_OFFSET = 619.75
  SECOND_STANDARD_PARALLEL = "N/A"
  WESTERNMOST_LONGITUDE = 0.0
END_OBJECT = IMAGE_MAP_PROJECTION
END
