PDS_VERSION_ID = PDS3
/* FILE DATA ELEMENTS */
RECORD_TYPE = UNDEFINED
/* POINTERS TO DATA OBJECTS */
^IMAGE = ("HH388_0000_IR4.TIF")
/* IDENTIFICATION DATA ELEMENTS */
DATA_SET_ID = "MEX-M-HRSC-4-REFDR-MAPPROJECT-EXT6-V4.0"
DATA_SET_NAME = "MARS EXPRESS HRSC MAP PROJECTED REFDR EXTENSION6 V4.0"
DETECTOR_ID = MEX_HRSC_IR
EVENT_TYPE = "MARS-TERMINATOR-CALIBRATION-Tc"
INSTRUMENT_HOST_ID = MEX
INSTRUMENT_HOST_NAME = "MARS EXPRESS"
INSTRUMENT_ID = HRSC
INSTRUMENT_NAME = "HIGH RESOLUTION STEREO CAMERA"
MISSION_NAME = "MARS EXPRESS"
MISSION_PHASE_NAME = ME_Phase_37
PROCESSING_LEVEL_ID = 4
PRODUCT_CREATION_TIME = 2023-01-28T19:11:35.000Z
PRODUCT_ID = "HH388_0000_IR4.TIF"
RELEASE_ID = 0002
REVISION_ID = 0000
/* QUALITY DATA ELEMENTS */
DATA_QUALITY_ID = 1
DATA_QUALITY_DESC = "Data calculated based on original SPICE kernels"
/* TIME DATA ELEMENTS */
SPACECRAFT_CLOCK_START_COUNT = "1/0454461910.09030"
SPACECRAFT_CLOCK_STOP_COUNT = "1/0454462359.05968"
START_TIME = 2017-09-25T23:25:38.705Z
STOP_TIME = 2017-09-25T23:29:00.739Z
/* ORBITAL DATA ELEMENTS */
ASCENDING_NODE_LONGITUDE = 247.61
MAXIMUM_RESOLUTION = 0.7724
FOOTPRINT_POINT_LATITUDE = (-39.003,-39.0603,-38.5112,-34.9331, -31.9014,-29.5845,-26.0818,-22.0503, -20.0616,-16.6862,-13.8847,-11.8451, -8.89191,-6.67903,-3.06079,-0.50811, 1.77319,5.86297,8.49179,12.3168,15.4038 ,18.3716,22.4224,25.5591,28.5166, 32.9399,36.3466,40.0655,43.803,49.4537, 53.2301,56.088,60.5567,64.1089,67.6268, 73.0538,75.6929,78.8425,82.7898,84.016, 83.4988,81.5748,78.0511,77.1048,73.5709 ,69.8323,64.6558,64.1239,64.0202, 62.9445,60.4548,56.6482,52.7203,52.1068 ,52.3697,47.8757,45.314,41.9971,41.4045 ,42.4817,42.9123,43.2322,43.2265, 42.8483,41.6773,40.1965,38.8054,37.5637 ,35.2526,33.2622,31.5138,28.9412, 24.5805,22.6062,19.8059,16.7044,14.0291 ,10.0844,7.20543,3.22125,0.614739, -2.70981,-6.38994,-9.37701,-14.3926, -18.7732,-21.5579,-26.0001,-29.8501, -34.4418,-39.1238,-42.0328,-46.6134, -46.6763,-45.3019,-44.4882,-42.1727, -40.4935,-39.003)
FOOTPRINT_POINT_LONGITUDE = (259.704,259.792,260.51,264.012,267.097 ,269.163,273.875,274.239,271.62,267.663 ,264.735,262.789,260.146,258.311,255.55 ,253.719,252.164,249.546,247.963, 245.758,244.055,242.474,240.401,238.835 ,237.388,235.258,233.633,231.857, 230.049,227.197,225.156,223.502,220.633 ,217.982,214.843,208.168,203.377, 194.748,169.7,137.254,111.047,88.4086, 75.3517,93.3497,93.7095,101.558,109.663 ,110.018,110.48,122.119,125.533,125.765 ,120.815,119.039,120.056,122.5,125.651, 125.107,129.918,135.898,139.612,145.093 ,149.339,155.257,163.009,168.96,173.193 ,176.346,181.226,184.733,187.433, 190.925,195.89,197.841,200.364,202.882, 204.86,207.499,209.275,211.529,212.903, 214.566,216.274,217.592,219.679,221.398 ,222.451,224.078,225.452,227.068, 228.698,229.722,231.963,236.793,243.383 ,248.25,250.412,256.361,259.704)
ORBIT_NUMBER = 17388
ORBITAL_ECCENTRICITY = 0.578
ORBITAL_INCLINATION = 86.97
ORBITAL_SEMIMAJOR_AXIS = 8814.63
PERIAPSIS_ALTITUDE = 330.2
PERIAPSIS_ARGUMENT_ANGLE = 223.52
PERIAPSIS_TIME = 2017-09-25T21:00:20.000Z
SPACECRAFT_ORIENTATION = (0.0,-1.0,0.0)
^MEX_ORIENTATION_DESC = "MEX_ORIENTATION_DESC.TXT"
SPACECRAFT_POINTING_MODE = FIXED
^MEX_POINTING_DESC = "MEX_POINTING_DESC.TXT"
RIGHT_ASCENSION = -1e+32
DECLINATION = -1e+32
OFFSET_ANGLE = -1e+32
SPACECRAFT_SOLAR_DISTANCE = 2.49135e+08
TARGET_NAME = MARS
/* CAMERA DATA ELEMENTS */
DETECTOR_TEMPERATURE = 18.1666
FOCAL_PLANE_TEMPERATURE = 9.195
INST_CMPRS_NAME = "DISCRETE COSINE TRANSFORMATION (DCT)"
INST_CMPRS_RATIO = 6.78261
INST_CMPRS_QUALITY = 0
INST_CMPRS_QUANTZ_TBL_ID = 0
INSTRUMENT_TEMPERATURE = 11.8457
LENS_TEMPERATURE = 10.2145
MACROPIXEL_SIZE = 2
MISSING_FRAMES = 0
PIXEL_SUBSAMPLING_FLAG = N
SIGNAL_CHAIN_ID = 3
/* RADIOMETRIC DATA ELEMENTS */
BANDWIDTH = 81.0
CENTER_FILTER_WAVELENGTH = 955.5
RADIANCE_OFFSET = 0.0
RADIANCE_SCALING_FACTOR = 0.012871
REFLECTANCE_SCALING_FACTOR = 0.00172352
MEX:REFLECTANCE_OFFSET = 0.0
/* IMAGE OBJECT DEFINITIONS */
OBJECT = IMAGE
  INTERCHANGE_FORMAT = BINARY
  LINES = 9995
  LINE_SAMPLES = 9350
  SAMPLE_TYPE = UNSIGNED_INTEGER
  SAMPLE_BITS = 8
  BANDS = 1
  BAND_STORAGE_TYPE = BAND_SEQUENTIAL
  MAXIMUM = 255
  MEAN = 135.477
  MINIMUM = 1
  STANDARD_DEVIATION = 57.6782
END_OBJECT = IMAGE
/* MAP OBJECT DEFINITIONS */
OBJECT = IMAGE_MAP_PROJECTION
  ^DATA_SET_MAP_PROJECTION_CATALOG= "DSMAP.CAT"
  A_AXIS_RADIUS = 3396.0
  B_AXIS_RADIUS = 3396.0
  C_AXIS_RADIUS = 3396.0
  CENTER_LATITUDE = 0.0
  CENTER_LONGITUDE = 219.0
  COORDINATE_SYSTEM_NAME = PLANETOGRAPHIC
  COORDINATE_SYSTEM_TYPE = "BODY-FIXED ROTATING"
  EASTERNMOST_LONGITUDE = 360.0
  FIRST_STANDARD_PARALLEL = "N/A"
  LINE_FIRST_PIXEL = 1
  LINE_LAST_PIXEL = 9995
  LINE_PROJECTION_OFFSET = 6393.25
  MAP_PROJECTION_ROTATION = 0.0
  MAP_PROJECTION_TYPE = SINUSOIDAL
  MAP_RESOLUTION = 74.08922548333329
  MAP_SCALE = 0.8
  MAXIMUM_LATITUDE = 90.0
  MINIMUM_LATITUDE = -46.6763
  POSITIVE_LONGITUDE_DIRECTION = EAST
  REFERENCE_LATITUDE = "N/A"
  REFERENCE_LONGITUDE = "N/A"
  SAMPLE_FIRST_PIXEL = 1
  SAMPLE_LAST_PIXEL = 9350
  SAMPLE_PROJECTION_OFFSET = 5320.25
  SECOND_STANDARD_PARALLEL = "N/A"
  WESTERNMOST_LONGITUDE = 0.0
END_OBJECT = IMAGE_MAP_PROJECTION
END
