PDS_VERSION_ID = PDS3
/* FILE DATA ELEMENTS */
RECORD_TYPE = UNDEFINED
/* POINTERS TO DATA OBJECTS */
^IMAGE = ("HH388_0000_ND4.TIF")
/* IDENTIFICATION DATA ELEMENTS */
DATA_SET_ID = "MEX-M-HRSC-4-REFDR-MAPPROJECT-EXT6-V4.0"
DATA_SET_NAME = "MARS EXPRESS HRSC MAP PROJECTED REFDR EXTENSION6 V4.0"
DETECTOR_ID = MEX_HRSC_NADIR
EVENT_TYPE = "MARS-TERMINATOR-CALIBRATION-Tc"
INSTRUMENT_HOST_ID = MEX
INSTRUMENT_HOST_NAME = "MARS EXPRESS"
INSTRUMENT_ID = HRSC
INSTRUMENT_NAME = "HIGH RESOLUTION STEREO CAMERA"
MISSION_NAME = "MARS EXPRESS"
MISSION_PHASE_NAME = ME_Phase_37
PROCESSING_LEVEL_ID = 4
PRODUCT_CREATION_TIME = 2023-01-28T19:11:35.000Z
PRODUCT_ID = "HH388_0000_ND4.TIF"
RELEASE_ID = 0002
REVISION_ID = 0000
/* QUALITY DATA ELEMENTS */
DATA_QUALITY_ID = 1
DATA_QUALITY_DESC = "Data calculated based on original SPICE kernels"
/* TIME DATA ELEMENTS */
SPACECRAFT_CLOCK_START_COUNT = "1/0454461910.09030"
SPACECRAFT_CLOCK_STOP_COUNT = "1/0454462359.05968"
START_TIME = 2017-09-25T23:27:22.699Z
STOP_TIME = 2017-09-25T23:30:43.692Z
/* ORBITAL DATA ELEMENTS */
ASCENDING_NODE_LONGITUDE = 247.61
MAXIMUM_RESOLUTION = 0.3873
FOOTPRINT_POINT_LATITUDE = (-38.7998,-38.8254,-37.8386,-34.3124, -32.1658,-30.1721,-27.6926,-24.8792, -19.8241,-16.6565,-14.7778,-12.0087, -8.77597,-6.01021,-3.96917,-0.74867, 2.93668,5.30321,7.61537,10.2469,12.4548 ,14.9633,17.7233,20.7991,24.5822, 27.6585,30.6848,33.5883,37.643,40.9592, 44.3209,48.1913,52.1665,54.8505,57.7125 ,60.2479,64.1801,67.4882,72.6774, 76.3573,79.6567,84.8979,86.063,84.3247, 80.9142,76.928,74.5105,71.023,66.9355, 66.8069,66.5588,67.5759,66.3693,64.4019 ,61.8695,57.8986,52.3555,49.2747, 48.9477,48.7437,44.2115,41.1611,42.1827 ,43.2289,43.7237,43.5849,43.0946, 41.9046,40.1693,37.7043,35.8533,33.1104 ,28.8509,25.7694,21.4805,18.6802, 16.4249,11.9172,8.6768,3.62767, -0.0753506,-4.71726,-8.3563,-13.6585, -18.2574,-21.8688,-26.7969,-30.8486, -33.7316,-36.5269,-39.0908,-41.635, -44.7953,-46.6516,-47.3649,-46.416, -44.2997,-40.8191,-38.7998)
FOOTPRINT_POINT_LONGITUDE = (258.989,259.029,259.607,263.448, 265.804,267.84,271.732,272.372,274.928, 270.876,268.709,265.791,262.742,260.363 ,258.688,256.265,253.683,252.132, 250.693,249.132,247.861,246.466,244.987 ,243.404,241.532,240.062,238.65,237.324 ,235.512,234.049,232.575,230.856, 229.044,227.777,226.365,225.043,222.796 ,220.629,216.3,211.875,205.719,178.587, 113.861,83.6161,65.8221,84.1668,89.6583 ,96.097,103.215,103.613,103.041,114.823 ,122.872,127.74,130.531,131.33,127.544, 122.009,121.103,120.532,124.459,126.674 ,131.071,137.833,146.024,151.743,157.06 ,164.008,170.461,177.009,180.886, 185.647,191.551,195.069,199.243,201.624 ,203.383,206.555,208.601,211.485, 213.407,215.633,217.262,219.479,221.284 ,222.643,224.434,225.87,226.881,227.857 ,228.755,229.663,230.805,233.406, 237.005,240.992,247.632,253.689, 258.989)
ORBIT_NUMBER = 17388
ORBITAL_ECCENTRICITY = 0.578
ORBITAL_INCLINATION = 86.97
ORBITAL_SEMIMAJOR_AXIS = 8814.63
PERIAPSIS_ALTITUDE = 330.2
PERIAPSIS_ARGUMENT_ANGLE = 223.52
PERIAPSIS_TIME = 2017-09-25T21:00:20.000Z
SPACECRAFT_ORIENTATION = (0.0,-1.0,0.0)
^MEX_ORIENTATION_DESC = "MEX_ORIENTATION_DESC.TXT"
SPACECRAFT_POINTING_MODE = FIXED
^MEX_POINTING_DESC = "MEX_POINTING_DESC.TXT"
RIGHT_ASCENSION = -1e+32
DECLINATION = -1e+32
OFFSET_ANGLE = -1e+32
SPACECRAFT_SOLAR_DISTANCE = 2.49135e+08
TARGET_NAME = MARS
/* CAMERA DATA ELEMENTS */
DETECTOR_TEMPERATURE = 18.5744
FOCAL_PLANE_TEMPERATURE = 9.195
INST_CMPRS_NAME = "DISCRETE COSINE TRANSFORMATION (DCT)"
INST_CMPRS_RATIO = 7.85053
INST_CMPRS_QUALITY = 0
INST_CMPRS_QUANTZ_TBL_ID = 0
INSTRUMENT_TEMPERATURE = 11.8457
LENS_TEMPERATURE = 10.2145
MACROPIXEL_SIZE = 1
MISSING_FRAMES = 0
PIXEL_SUBSAMPLING_FLAG = N
SIGNAL_CHAIN_ID = 0
/* RADIOMETRIC DATA ELEMENTS */
BANDWIDTH = 177.0
CENTER_FILTER_WAVELENGTH = 677.5
RADIANCE_OFFSET = 0.0
RADIANCE_SCALING_FACTOR = 0.0498149
REFLECTANCE_SCALING_FACTOR = 0.00164255
MEX:REFLECTANCE_OFFSET = 0.0
/* IMAGE OBJECT DEFINITIONS */
OBJECT = IMAGE
  INTERCHANGE_FORMAT = BINARY
  LINES = 19990
  LINE_SAMPLES = 18700
  SAMPLE_TYPE = UNSIGNED_INTEGER
  SAMPLE_BITS = 8
  BANDS = 1
  BAND_STORAGE_TYPE = BAND_SEQUENTIAL
  MAXIMUM = 255
  MEAN = 140.677
  MINIMUM = 1
  STANDARD_DEVIATION = 50.6959
END_OBJECT = IMAGE
/* MAP OBJECT DEFINITIONS */
OBJECT = IMAGE_MAP_PROJECTION
  ^DATA_SET_MAP_PROJECTION_CATALOG= "DSMAP.CAT"
  A_AXIS_RADIUS = 3396.0
  B_AXIS_RADIUS = 3396.0
  C_AXIS_RADIUS = 3396.0
  CENTER_LATITUDE = 0.0
  CENTER_LONGITUDE = 219.0
  COORDINATE_SYSTEM_NAME = PLANETOGRAPHIC
  COORDINATE_SYSTEM_TYPE = "BODY-FIXED ROTATING"
  EASTERNMOST_LONGITUDE = 360.0
  FIRST_STANDARD_PARALLEL = "N/A"
  LINE_FIRST_PIXEL = 1
  LINE_LAST_PIXEL = 19990
  LINE_PROJECTION_OFFSET = 12787.0
  MAP_PROJECTION_ROTATION = 0.0
  MAP_PROJECTION_TYPE = SINUSOIDAL
  MAP_RESOLUTION = 148.178450966667
  MAP_SCALE = 0.4
  MAXIMUM_LATITUDE = 90.0
  MINIMUM_LATITUDE = -47.3649
  POSITIVE_LONGITUDE_DIRECTION = EAST
  REFERENCE_LATITUDE = "N/A"
  REFERENCE_LONGITUDE = "N/A"
  SAMPLE_FIRST_PIXEL = 1
  SAMPLE_LAST_PIXEL = 18700
  SAMPLE_PROJECTION_OFFSET = 10641.0
  SECOND_STANDARD_PARALLEL = "N/A"
  WESTERNMOST_LONGITUDE = 0.0
END_OBJECT = IMAGE_MAP_PROJECTION
END
