PDS_VERSION_ID = PDS3
/* FILE DATA ELEMENTS */
RECORD_TYPE = UNDEFINED
/* POINTERS TO DATA OBJECTS */
^IMAGE = ("HH388_0000_S24.TIF")
/* IDENTIFICATION DATA ELEMENTS */
DATA_SET_ID = "MEX-M-HRSC-4-REFDR-MAPPROJECT-EXT6-V4.0"
DATA_SET_NAME = "MARS EXPRESS HRSC MAP PROJECTED REFDR EXTENSION6 V4.0"
DETECTOR_ID = MEX_HRSC_S2
EVENT_TYPE = "MARS-TERMINATOR-CALIBRATION-Tc"
INSTRUMENT_HOST_ID = MEX
INSTRUMENT_HOST_NAME = "MARS EXPRESS"
INSTRUMENT_ID = HRSC
INSTRUMENT_NAME = "HIGH RESOLUTION STEREO CAMERA"
MISSION_NAME = "MARS EXPRESS"
MISSION_PHASE_NAME = ME_Phase_37
PROCESSING_LEVEL_ID = 4
PRODUCT_CREATION_TIME = 2023-01-28T19:11:35.000Z
PRODUCT_ID = "HH388_0000_S24.TIF"
RELEASE_ID = 0002
REVISION_ID = 0000
/* QUALITY DATA ELEMENTS */
DATA_QUALITY_ID = 1
DATA_QUALITY_DESC = "Data calculated based on original SPICE kernels"
/* TIME DATA ELEMENTS */
SPACECRAFT_CLOCK_START_COUNT = "1/0454461910.09030"
SPACECRAFT_CLOCK_STOP_COUNT = "1/0454462359.05968"
START_TIME = 2017-09-25T23:29:25.754Z
STOP_TIME = 2017-09-25T23:32:45.697Z
/* ORBITAL DATA ELEMENTS */
ASCENDING_NODE_LONGITUDE = 247.61
MAXIMUM_RESOLUTION = 0.7798
FOOTPRINT_POINT_LATITUDE = (-38.3702,-38.4049,-37.526,-32.7648, -30.4182,-27.2358,-25.3458,-21.6081, -17.9475,-16.0564,-13.3743,-9.8021, -5.88285,-1.11507,1.04617,3.34521, 7.2481,12.0871,16.8755,20.1401,24.5514, 29.4351,32.4647,34.8629,40.3244,43.8072 ,48.4507,51.3075,55.7037,59.0282, 64.4684,69.1664,73.4566,76.0974,78.6724 ,82.9421,85.6842,86.618,84.9735,81.1305 ,77.5868,77.2755,74.7937,70.9601, 70.3432,70.0997,71.2544,71.3846,69.5771 ,67.1205,64.5016,59.3029,56.5529, 53.6937,50.5845,47.817,45.8813,45.3928, 44.7097,44.3822,45.3188,46.0709,46.4453 ,46.3535,45.8111,45.22,43.3508,41.7523, 38.793,35.6458,33.9739,32.0153,29.0145, 26.9037,24.1281,19.7816,15.9796,10.9936 ,7.74497,5.32453,2.27436,-2.20344, -5.15335,-8.54917,-11.3483,-13.777, -16.4215,-18.9724,-22.5928,-26.5313, -30.6752,-35.7046,-39.8811,-43.1319, -46.356,-44.1003,-42.1012,-40.4833, -38.3702)
FOOTPRINT_POINT_LONGITUDE = (258.103,258.164,258.17,264.327,268.16, 269.121,272.992,273.171,272.833,270.533 ,267.54,263.989,260.553,256.843,255.292 ,253.719,251.229,248.394,245.772, 244.083,241.91,239.615,238.239,237.171, 234.79,233.298,231.294,230.038,228.04, 226.442,223.548,220.545,216.985,214.061 ,210.194,198.194,175.775,117.883,83.232 ,63.1576,64.6736,84.132,92.4791,98.0859 ,96.4368,96.3743,103.714,115.024, 126.971,133.005,136.11,137.618,136.855, 135.171,132.255,128.456,124.7,123.53, 121.698,127.234,132.028,137.898,146.033 ,150.019,156.513,160.545,168.765, 173.689,180.59,186.204,188.72,191.376, 194.957,197.195,199.859,203.525,206.339 ,209.607,211.534,212.884,214.49,216.7, 218.079,219.595,220.798,221.814,222.896 ,223.918,225.344,226.877,228.486, 230.463,232.153,233.521,237.193,243.105 ,247.202,254.201,258.103)
ORBIT_NUMBER = 17388
ORBITAL_ECCENTRICITY = 0.578
ORBITAL_INCLINATION = 86.97
ORBITAL_SEMIMAJOR_AXIS = 8814.63
PERIAPSIS_ALTITUDE = 330.2
PERIAPSIS_ARGUMENT_ANGLE = 223.52
PERIAPSIS_TIME = 2017-09-25T21:00:20.000Z
SPACECRAFT_ORIENTATION = (0.0,-1.0,0.0)
^MEX_ORIENTATION_DESC = "MEX_ORIENTATION_DESC.TXT"
SPACECRAFT_POINTING_MODE = FIXED
^MEX_POINTING_DESC = "MEX_POINTING_DESC.TXT"
RIGHT_ASCENSION = -1e+32
DECLINATION = -1e+32
OFFSET_ANGLE = -1e+32
SPACECRAFT_SOLAR_DISTANCE = 2.49135e+08
TARGET_NAME = MARS
/* CAMERA DATA ELEMENTS */
DETECTOR_TEMPERATURE = 19.1861
FOCAL_PLANE_TEMPERATURE = 9.195
INST_CMPRS_NAME = "DISCRETE COSINE TRANSFORMATION (DCT)"
INST_CMPRS_RATIO = 13.1393
INST_CMPRS_QUALITY = 0
INST_CMPRS_QUANTZ_TBL_ID = 0
INSTRUMENT_TEMPERATURE = 11.8457
LENS_TEMPERATURE = 10.2145
MACROPIXEL_SIZE = 2
MISSING_FRAMES = 0
PIXEL_SUBSAMPLING_FLAG = N
SIGNAL_CHAIN_ID = 1
/* RADIOMETRIC DATA ELEMENTS */
BANDWIDTH = 178.0
CENTER_FILTER_WAVELENGTH = 679.0
RADIANCE_OFFSET = 0.0
RADIANCE_SCALING_FACTOR = 0.0506241
REFLECTANCE_SCALING_FACTOR = 0.00166404
MEX:REFLECTANCE_OFFSET = 0.0
/* IMAGE OBJECT DEFINITIONS */
OBJECT = IMAGE
  INTERCHANGE_FORMAT = BINARY
  LINES = 9995
  LINE_SAMPLES = 9350
  SAMPLE_TYPE = UNSIGNED_INTEGER
  SAMPLE_BITS = 8
  BANDS = 1
  BAND_STORAGE_TYPE = BAND_SEQUENTIAL
  MAXIMUM = 255
  MEAN = 150.296
  MINIMUM = 1
  STANDARD_DEVIATION = 47.9202
END_OBJECT = IMAGE
/* MAP OBJECT DEFINITIONS */
OBJECT = IMAGE_MAP_PROJECTION
  ^DATA_SET_MAP_PROJECTION_CATALOG= "DSMAP.CAT"
  A_AXIS_RADIUS = 3396.0
  B_AXIS_RADIUS = 3396.0
  C_AXIS_RADIUS = 3396.0
  CENTER_LATITUDE = 0.0
  CENTER_LONGITUDE = 219.0
  COORDINATE_SYSTEM_NAME = PLANETOGRAPHIC
  COORDINATE_SYSTEM_TYPE = "BODY-FIXED ROTATING"
  EASTERNMOST_LONGITUDE = 360.0
  FIRST_STANDARD_PARALLEL = "N/A"
  LINE_FIRST_PIXEL = 1
  LINE_LAST_PIXEL = 9995
  LINE_PROJECTION_OFFSET = 6393.25
  MAP_PROJECTION_ROTATION = 0.0
  MAP_PROJECTION_TYPE = SINUSOIDAL
  MAP_RESOLUTION = 74.08922548333329
  MAP_SCALE = 0.8
  MAXIMUM_LATITUDE = 90.0
  MINIMUM_LATITUDE = -46.356
  POSITIVE_LONGITUDE_DIRECTION = EAST
  REFERENCE_LATITUDE = "N/A"
  REFERENCE_LONGITUDE = "N/A"
  SAMPLE_FIRST_PIXEL = 1
  SAMPLE_LAST_PIXEL = 9350
  SAMPLE_PROJECTION_OFFSET = 5320.25
  SECOND_STANDARD_PARALLEL = "N/A"
  WESTERNMOST_LONGITUDE = 0.0
END_OBJECT = IMAGE_MAP_PROJECTION
END
