PDS_VERSION_ID = PDS3
/* FILE DATA ELEMENTS */
RECORD_TYPE = UNDEFINED
/* POINTERS TO DATA OBJECTS */
^IMAGE = ("HH444_0000_IR4.TIF")
/* IDENTIFICATION DATA ELEMENTS */
DATA_SET_ID = "MEX-M-HRSC-4-REFDR-MAPPROJECT-EXT6-V4.0"
DATA_SET_NAME = "MARS EXPRESS HRSC MAP PROJECTED REFDR EXTENSION6 V4.0"
DETECTOR_ID = MEX_HRSC_IR
EVENT_TYPE = "MARS-TERMINATOR-CALIBRATION-Tc"
INSTRUMENT_HOST_ID = MEX
INSTRUMENT_HOST_NAME = "MARS EXPRESS"
INSTRUMENT_ID = HRSC
INSTRUMENT_NAME = "HIGH RESOLUTION STEREO CAMERA"
MISSION_NAME = "MARS EXPRESS"
MISSION_PHASE_NAME = ME_Phase_37
PROCESSING_LEVEL_ID = 4
PRODUCT_CREATION_TIME = 2023-01-28T19:11:35.000Z
PRODUCT_ID = "HH444_0000_IR4.TIF"
RELEASE_ID = 0002
REVISION_ID = 0000
/* QUALITY DATA ELEMENTS */
DATA_QUALITY_ID = 1
DATA_QUALITY_DESC = "Data calculated based on original SPICE kernels"
/* TIME DATA ELEMENTS */
SPACECRAFT_CLOCK_START_COUNT = "1/0455873673.07345"
SPACECRAFT_CLOCK_STOP_COUNT = "1/0455874114.05393"
START_TIME = 2017-10-12T07:35:00.711Z
STOP_TIME = 2017-10-12T07:38:14.695Z
/* ORBITAL DATA ELEMENTS */
ASCENDING_NODE_LONGITUDE = 246.57
MAXIMUM_RESOLUTION = 0.8173
FOOTPRINT_POINT_LATITUDE = (-39.7632,-39.7676,-38.2821,-35.2908, -31.519,-29.006,-22.4004,-19.4853, -17.4386,-14.8805,-12.9158,-10.6159, -6.6553,-0.860468,1.4864,4.91371, 9.66893,13.0729,17.1791,19.9534,22.5094 ,27.6902,31.3316,33.8049,37.1326, 39.8268,43.9262,47.044,51.8705,54.6433, 58.2754,62.7266,65.6335,70.4681,74.0974 ,79.2664,84.0141,83.9864,82.2264, 79.7691,79.1958,76.9016,78.381,75.6471, 74.8264,73.0832,72.9571,68.5077,63.6986 ,60.6277,57.4409,56.4335,55.1245, 51.6734,48.6337,46.3047,41.8363,39.5235 ,40.7773,41.1246,41.0897,40.6566, 39.3345,37.7922,36.4452,35.2388,33.4808 ,30.8866,28.5053,26.8559,24.4568, 22.0196,18.2485,14.9936,11.4641,7.39156 ,4.45122,1.27276,-2.44148,-4.91467, -7.28073,-9.5882,-12.1388,-15.6432, -20.2366,-24.4321,-27.3552,-30.7943, -33.5528,-37.1754,-41.464,-44.2098, -47.8495,-50.3073,-47.6459,-48.8921, -45.9311,-43.802,-42.36,-39.7632)
FOOTPRINT_POINT_LONGITUDE = (289.076,289.112,290.073,293.986, 295.694,299.869,301.547,306.232,302.883 ,299.205,296.764,293.914,289.78,284.531 ,282.537,279.94,276.555,274.306,271.74, 270.077,268.593,265.703,263.741,262.425 ,260.668,259.23,257.071,255.412,252.724 ,251.089,248.793,245.621,243.225, 238.256,233.093,220.392,178.844,139.353 ,114.759,103.466,121.631,112.682, 122.908,119.733,132.584,125.579,134.853 ,133.733,140.926,143.03,144.247,144.224 ,144.624,147.341,148.124,151.256, 152.001,156.23,164.655,170.956,175.195, 181.289,189.456,195.378,199.368,202.399 ,206.198,210.895,214.567,216.821, 219.791,222.527,226.392,229.121,231.862 ,234.778,236.73,238.696,240.867,242.245 ,243.502,244.684,245.966,247.672, 249.844,251.789,253.13,254.729,256.012, 257.722,259.826,261.224,263.211,265.634 ,266.211,270.602,272.461,278.734, 283.343,289.076)
ORBIT_NUMBER = 17444
ORBITAL_ECCENTRICITY = 0.579
ORBITAL_INCLINATION = 86.95
ORBITAL_SEMIMAJOR_AXIS = 8832.54
PERIAPSIS_ALTITUDE = 332.59
PERIAPSIS_ARGUMENT_ANGLE = 213.96
PERIAPSIS_TIME = 2017-10-12T04:45:44.000Z
SPACECRAFT_ORIENTATION = (0.0,-1.0,0.0)
^MEX_ORIENTATION_DESC = "MEX_ORIENTATION_DESC.TXT"
SPACECRAFT_POINTING_MODE = FIXED
^MEX_POINTING_DESC = "MEX_POINTING_DESC.TXT"
RIGHT_ASCENSION = -1e+32
DECLINATION = -1e+32
OFFSET_ANGLE = -1e+32
SPACECRAFT_SOLAR_DISTANCE = 2.4923e+08
TARGET_NAME = MARS
/* CAMERA DATA ELEMENTS */
DETECTOR_TEMPERATURE = 17.5549
FOCAL_PLANE_TEMPERATURE = 8.3794
INST_CMPRS_NAME = "DISCRETE COSINE TRANSFORMATION (DCT)"
INST_CMPRS_RATIO = 12.7066
INST_CMPRS_QUALITY = 0
INST_CMPRS_QUANTZ_TBL_ID = 0
INSTRUMENT_TEMPERATURE = 11.6418
LENS_TEMPERATURE = 8.3794
MACROPIXEL_SIZE = 2
MISSING_FRAMES = 0
PIXEL_SUBSAMPLING_FLAG = N
SIGNAL_CHAIN_ID = 1
/* RADIOMETRIC DATA ELEMENTS */
BANDWIDTH = 81.0
CENTER_FILTER_WAVELENGTH = 955.5
RADIANCE_OFFSET = 0.0
RADIANCE_SCALING_FACTOR = 0.0134714
REFLECTANCE_SCALING_FACTOR = 0.00180524
MEX:REFLECTANCE_OFFSET = 0.0
/* IMAGE OBJECT DEFINITIONS */
OBJECT = IMAGE
  INTERCHANGE_FORMAT = BINARY
  LINES = 10127
  LINE_SAMPLES = 9785
  SAMPLE_TYPE = UNSIGNED_INTEGER
  SAMPLE_BITS = 8
  BANDS = 1
  BAND_STORAGE_TYPE = BAND_SEQUENTIAL
  MAXIMUM = 255
  MEAN = 117.954
  MINIMUM = 1
  STANDARD_DEVIATION = 59.0662
END_OBJECT = IMAGE
/* MAP OBJECT DEFINITIONS */
OBJECT = IMAGE_MAP_PROJECTION
  ^DATA_SET_MAP_PROJECTION_CATALOG= "DSMAP.CAT"
  A_AXIS_RADIUS = 3396.0
  B_AXIS_RADIUS = 3396.0
  C_AXIS_RADIUS = 3396.0
  CENTER_LATITUDE = 0.0
  CENTER_LONGITUDE = 245.0
  COORDINATE_SYSTEM_NAME = PLANETOGRAPHIC
  COORDINATE_SYSTEM_TYPE = "BODY-FIXED ROTATING"
  EASTERNMOST_LONGITUDE = 306.232
  FIRST_STANDARD_PARALLEL = "N/A"
  LINE_FIRST_PIXEL = 1
  LINE_LAST_PIXEL = 10127
  LINE_PROJECTION_OFFSET = 6419.0
  MAP_PROJECTION_ROTATION = 0.0
  MAP_PROJECTION_TYPE = SINUSOIDAL
  MAP_RESOLUTION = 74.08922548333329
  MAP_SCALE = 0.8
  MAXIMUM_LATITUDE = 84.0141
  MINIMUM_LATITUDE = -50.3073
  POSITIVE_LONGITUDE_DIRECTION = EAST
  REFERENCE_LATITUDE = "N/A"
  REFERENCE_LONGITUDE = "N/A"
  SAMPLE_FIRST_PIXEL = 1
  SAMPLE_LAST_PIXEL = 9785
  SAMPLE_PROJECTION_OFFSET = 5359.0
  SECOND_STANDARD_PARALLEL = "N/A"
  WESTERNMOST_LONGITUDE = 103.466
END_OBJECT = IMAGE_MAP_PROJECTION
END
