PDS_VERSION_ID = PDS3
/* FILE DATA ELEMENTS */
RECORD_TYPE = UNDEFINED
/* POINTERS TO DATA OBJECTS */
^IMAGE = ("HH610_0000_BL4.TIF")
/* IDENTIFICATION DATA ELEMENTS */
DATA_SET_ID = "MEX-M-HRSC-4-REFDR-MAPPROJECT-EXT6-V4.0"
DATA_SET_NAME = "MARS EXPRESS HRSC MAP PROJECTED REFDR EXTENSION6 V4.0"
DETECTOR_ID = MEX_HRSC_BLUE
EVENT_TYPE = "MARS-TERMINATOR-CALIBRATION-Tc"
INSTRUMENT_HOST_ID = MEX
INSTRUMENT_HOST_NAME = "MARS EXPRESS"
INSTRUMENT_ID = HRSC
INSTRUMENT_NAME = "HIGH RESOLUTION STEREO CAMERA"
MISSION_NAME = "MARS EXPRESS"
MISSION_PHASE_NAME = ME_Phase_37
PROCESSING_LEVEL_ID = 4
PRODUCT_CREATION_TIME = 2023-01-28T19:29:54.000Z
PRODUCT_ID = "HH610_0000_BL4.TIF"
RELEASE_ID = 0003
REVISION_ID = 0000
/* QUALITY DATA ELEMENTS */
DATA_QUALITY_ID = 1
DATA_QUALITY_DESC = "Data calculated based on original SPICE kernels"
/* TIME DATA ELEMENTS */
SPACECRAFT_CLOCK_START_COUNT = "1/0460037584.08255"
SPACECRAFT_CLOCK_STOP_COUNT = "1/0460038062.08980"
START_TIME = 2017-11-29T12:15:33.950Z
STOP_TIME = 2017-11-29T12:19:27.963Z
/* ORBITAL DATA ELEMENTS */
ASCENDING_NODE_LONGITUDE = 243.48
MAXIMUM_RESOLUTION = 0.6096
FOOTPRINT_POINT_LATITUDE = (27.951,28.3431,28.5989,28.8504,29.0976 ,29.3406,29.5795,29.8143,30.0451,30.272 ,30.4949,30.7141,30.9294,31.141,31.3486 ,31.5526,31.7527,31.9491,32.3308, 32.6978,33.05,33.3873,33.7097,34.017, 34.165,34.3093,34.4498,34.5865,34.7194, 34.8484,34.9736,35.0948,35.2121,35.3254 ,35.4346,35.5399,35.6411,35.7382, 35.8311,35.9196,36.0036,36.083,36.1578, 36.2279,36.3243,36.354,36.352,37.0093, 37.6108,38.4296,38.9747,39.8999,40.7147 ,41.745,41.7992,41.8118,41.768,41.6893, 41.6311,41.5677,41.4996,41.427,41.3494, 41.2673,41.1808,41.09,40.9951,40.896, 40.7929,40.6857,40.4593,40.2174,39.9599 ,39.6871,39.3986,39.0953,38.6969, 38.3616,38.0113,37.6472,37.268,36.8739, 36.4652,36.0423,35.6045,35.1523,34.6843 ,34.2014,34.0782,34.0334,33.4918, 32.4662,31.8612,31.1944,30.6474,29.7335 ,29.0613,28.0176,27.9562,27.951)
FOOTPRINT_POINT_LONGITUDE = (239.459,240.298,240.858,241.419, 241.981,242.543,243.107,243.671,244.236 ,244.803,245.372,245.942,246.514, 247.088,247.664,248.241,248.821,249.402 ,250.572,251.752,252.942,254.142, 255.353,256.576,257.192,257.812,258.435 ,259.061,259.691,260.325,260.962, 261.604,262.25,262.899,263.553,264.212, 264.875,265.544,266.217,266.895,267.577 ,268.264,268.956,269.653,270.708, 271.063,271.219,271.288,271.358,271.462 ,271.538,271.68,271.818,272.011,272.022 ,272.024,271.27,270.149,269.404,268.668 ,267.934,267.205,266.482,265.764, 265.053,264.346,263.646,262.949,262.258 ,261.57,260.209,258.866,257.543,256.239 ,254.952,253.679,252.107,250.866, 249.638,248.423,247.22,246.026,244.843, 243.669,242.504,241.346,240.195,239.051 ,238.766,238.663,238.739,238.879, 238.959,239.047,239.118,239.234,239.317 ,239.443,239.451,239.459)
ORBIT_NUMBER = 17610
ORBITAL_ECCENTRICITY = 0.578
ORBITAL_INCLINATION = 86.94
ORBITAL_SEMIMAJOR_AXIS = 8863.68
PERIAPSIS_ALTITUDE = 342.9
PERIAPSIS_ARGUMENT_ANGLE = 185.4
PERIAPSIS_TIME = 2017-11-29T13:59:13.000Z
SPACECRAFT_ORIENTATION = (0.0,-1.0,0.0)
^MEX_ORIENTATION_DESC = "MEX_ORIENTATION_DESC.TXT"
SPACECRAFT_POINTING_MODE = FIXED
^MEX_POINTING_DESC = "MEX_POINTING_DESC.TXT"
RIGHT_ASCENSION = -1e+32
DECLINATION = -1e+32
OFFSET_ANGLE = -1e+32
SPACECRAFT_SOLAR_DISTANCE = 2.47198e+08
TARGET_NAME = MARS
/* CAMERA DATA ELEMENTS */
DETECTOR_TEMPERATURE = 18.3705
FOCAL_PLANE_TEMPERATURE = 8.3794
INST_CMPRS_NAME = "DISCRETE COSINE TRANSFORMATION (DCT)"
INST_CMPRS_RATIO = 3.37073
INST_CMPRS_QUALITY = 0
INST_CMPRS_QUANTZ_TBL_ID = 0
INSTRUMENT_TEMPERATURE = 11.0301
LENS_TEMPERATURE = 8.7872
MACROPIXEL_SIZE = 2
MISSING_FRAMES = 0
PIXEL_SUBSAMPLING_FLAG = N
SIGNAL_CHAIN_ID = 2
/* RADIOMETRIC DATA ELEMENTS */
BANDWIDTH = 76.0
CENTER_FILTER_WAVELENGTH = 444.0
RADIANCE_OFFSET = 0.309372
RADIANCE_SCALING_FACTOR = 0.00305144
REFLECTANCE_SCALING_FACTOR = 0.000191589
MEX:REFLECTANCE_OFFSET = 0.0194244
/* IMAGE OBJECT DEFINITIONS */
OBJECT = IMAGE
  INTERCHANGE_FORMAT = BINARY
  LINES = 1103
  LINE_SAMPLES = 1929
  SAMPLE_TYPE = UNSIGNED_INTEGER
  SAMPLE_BITS = 8
  BANDS = 1
  BAND_STORAGE_TYPE = BAND_SEQUENTIAL
  MAXIMUM = 251
  MEAN = 123.623
  MINIMUM = 2
  STANDARD_DEVIATION = 23.7859
END_OBJECT = IMAGE
/* MAP OBJECT DEFINITIONS */
OBJECT = IMAGE_MAP_PROJECTION
  ^DATA_SET_MAP_PROJECTION_CATALOG= "DSMAP.CAT"
  A_AXIS_RADIUS = 3396.0
  B_AXIS_RADIUS = 3396.0
  C_AXIS_RADIUS = 3396.0
  CENTER_LATITUDE = 43.0574
  CENTER_LONGITUDE = 251.049
  COORDINATE_SYSTEM_NAME = PLANETOGRAPHIC
  COORDINATE_SYSTEM_TYPE = "BODY-FIXED ROTATING"
  EASTERNMOST_LONGITUDE = 272.024
  FIRST_STANDARD_PARALLEL = "N/A"
  LINE_FIRST_PIXEL = 1
  LINE_LAST_PIXEL = 1103
  LINE_PROJECTION_OFFSET = 551.0
  MAP_PROJECTION_ROTATION = 0.0
  MAP_PROJECTION_TYPE = ORTHOGRAPHIC
  MAP_RESOLUTION = 74.08922548333329
  MAP_SCALE = 0.8
  MAXIMUM_LATITUDE = 41.8118
  MINIMUM_LATITUDE = 27.951
  POSITIVE_LONGITUDE_DIRECTION = EAST
  REFERENCE_LATITUDE = "N/A"
  REFERENCE_LONGITUDE = "N/A"
  SAMPLE_FIRST_PIXEL = 1
  SAMPLE_LAST_PIXEL = 1929
  SAMPLE_PROJECTION_OFFSET = 949.0
  SECOND_STANDARD_PARALLEL = "N/A"
  WESTERNMOST_LONGITUDE = 238.663
END_OBJECT = IMAGE_MAP_PROJECTION
END
