PDS_VERSION_ID = PDS3
/* FILE DATA ELEMENTS */
RECORD_TYPE = UNDEFINED
/* POINTERS TO DATA OBJECTS */
^IMAGE = ("HH680_0000_S24.TIF")
/* IDENTIFICATION DATA ELEMENTS */
DATA_SET_ID = "MEX-M-HRSC-4-REFDR-MAPPROJECT-EXT6-V4.0"
DATA_SET_NAME = "MARS EXPRESS HRSC MAP PROJECTED REFDR EXTENSION6 V4.0"
DETECTOR_ID = MEX_HRSC_S2
EVENT_TYPE = "MARS-REGIONAL-MAPPING-Lc-Pf"
INSTRUMENT_HOST_ID = MEX
INSTRUMENT_HOST_NAME = "MARS EXPRESS"
INSTRUMENT_ID = HRSC
INSTRUMENT_NAME = "HIGH RESOLUTION STEREO CAMERA"
MISSION_NAME = "MARS EXPRESS"
MISSION_PHASE_NAME = ME_Phase_37
PROCESSING_LEVEL_ID = 4
PRODUCT_CREATION_TIME = 2023-01-28T19:29:54.000Z
PRODUCT_ID = "HH680_0000_S24.TIF"
RELEASE_ID = 0003
REVISION_ID = 0000
/* QUALITY DATA ELEMENTS */
DATA_QUALITY_ID = 1
DATA_QUALITY_DESC = "Data calculated based on original SPICE kernels"
/* TIME DATA ELEMENTS */
SPACECRAFT_CLOCK_START_COUNT = "1/0461805816.08297"
SPACECRAFT_CLOCK_STOP_COUNT = "1/0461806221.65467"
START_TIME = 2017-12-19T23:27:17.814Z
STOP_TIME = 2017-12-19T23:30:28.981Z
/* ORBITAL DATA ELEMENTS */
ASCENDING_NODE_LONGITUDE = 242.18
MAXIMUM_RESOLUTION = 0.05
FOOTPRINT_POINT_LATITUDE = (54.0095,54.0088,54.0052,53.9987, 53.9894,53.9772,53.955,53.9538,54.0608, 53.7988,53.5383,53.2789,53.0212,52.7647 ,52.5075,52.25,51.9918,51.7331,51.3442, 51.0846,50.6949,50.4656,50.2363,49.8917 ,49.6617,49.4314,49.2005,48.9696, 48.6222,48.3905,48.1584,47.9273,47.6982 ,47.3547,47.1285,46.7892,46.5656, 46.2305,46.0099,45.7891,45.5688,45.3513 ,45.1336,44.9167,44.4872,44.0616, 43.6388,43.2218,42.6019,42.4988,42.4824 ,42.4753,42.4692,42.4581,42.4493, 42.4371,42.4365,42.437,42.9543,43.2693, 43.6896,44.2231,44.546,44.9778,45.1978, 45.4166,45.7482,45.9707,46.3055,46.531, 46.7562,46.9835,47.2116,47.4402,47.6715 ,47.9023,48.2532,48.4871,48.838,49.188, 49.4208,49.6535,49.886,50.1181,50.3498, 50.6972,50.957,51.2197,51.4823,51.7443, 52.0054,52.2667,52.5281,52.7883,53.1787 ,53.4408,53.7035,53.9687,54.1015, 54.0095)
FOOTPRINT_POINT_LONGITUDE = (80.8219,80.1235,79.4194,78.7092, 77.9932,77.2703,76.2627,76.2166,76.0676 ,76.131,76.1929,76.2533,76.3126,76.3698 ,76.4263,76.4818,76.5367,76.5908, 76.6703,76.722,76.798,76.8421,76.8851, 76.9487,76.9901,77.031,77.0715,77.1112, 77.1701,77.2084,77.2462,77.2832,77.3194 ,77.3729,77.4072,77.458,77.491,77.5389, 77.57,77.6009,77.6311,77.6605,77.6894, 77.7181,77.7735,77.827,77.8785,77.9276, 77.9985,78.0101,78.0119,78.7004,79.1524 ,79.8207,80.2873,80.8561,80.883,80.8927 ,80.8927,80.8926,80.8923,80.8917, 80.8913,80.8906,80.89,80.8896,80.8887, 80.888,80.8869,80.8861,80.8853,80.8844, 80.8834,80.8823,80.8812,80.8801,80.878, 80.8766,80.8744,80.872,80.8703,80.8685, 80.8666,80.8647,80.8627,80.8595,80.857, 80.8543,80.8515,80.8485,80.8455,80.8424 ,80.839,80.8356,80.8302,80.8264,80.8224 ,80.8182,80.816,80.8219)
ORBIT_NUMBER = 17680
ORBITAL_ECCENTRICITY = 0.578
ORBITAL_INCLINATION = 86.96
ORBITAL_SEMIMAJOR_AXIS = 8863.0
PERIAPSIS_ALTITUDE = 348.56
PERIAPSIS_ARGUMENT_ANGLE = 173.25
PERIAPSIS_TIME = 2017-12-19T23:39:06.000Z
SPACECRAFT_ORIENTATION = (0.0,-1.0,0.0)
^MEX_ORIENTATION_DESC = "MEX_ORIENTATION_DESC.TXT"
SPACECRAFT_POINTING_MODE = ACROSSTRACK
^MEX_POINTING_DESC = "MEX_POINTING_DESC.TXT"
RIGHT_ASCENSION = -1e+32
DECLINATION = -1e+32
OFFSET_ANGLE = -1.3
SPACECRAFT_SOLAR_DISTANCE = 2.45347e+08
TARGET_NAME = MARS
/* CAMERA DATA ELEMENTS */
DETECTOR_TEMPERATURE = 18.9822
FOCAL_PLANE_TEMPERATURE = 7.9716
INST_CMPRS_NAME = "DISCRETE COSINE TRANSFORMATION (DCT)"
INST_CMPRS_RATIO = 9.69509
INST_CMPRS_QUALITY = 0
INST_CMPRS_QUANTZ_TBL_ID = 0
INSTRUMENT_TEMPERATURE = 11.8457
LENS_TEMPERATURE = 8.5833
MACROPIXEL_SIZE = 2
MISSING_FRAMES = 0
PIXEL_SUBSAMPLING_FLAG = N
SIGNAL_CHAIN_ID = 1
/* RADIOMETRIC DATA ELEMENTS */
BANDWIDTH = 178.0
CENTER_FILTER_WAVELENGTH = 679.0
RADIANCE_OFFSET = 1.52918
RADIANCE_SCALING_FACTOR = 0.0118061
REFLECTANCE_SCALING_FACTOR = 0.000376358
MEX:REFLECTANCE_OFFSET = 0.0487473
/* IMAGE OBJECT DEFINITIONS */
OBJECT = IMAGE
  INTERCHANGE_FORMAT = BINARY
  LINES = 13976
  LINE_SAMPLES = 3960
  SAMPLE_TYPE = UNSIGNED_INTEGER
  SAMPLE_BITS = 8
  BANDS = 1
  BAND_STORAGE_TYPE = BAND_SEQUENTIAL
  MAXIMUM = 255
  MEAN = 96.5355
  MINIMUM = 1
  STANDARD_DEVIATION = 35.899
END_OBJECT = IMAGE
/* MAP OBJECT DEFINITIONS */
OBJECT = IMAGE_MAP_PROJECTION
  ^DATA_SET_MAP_PROJECTION_CATALOG= "DSMAP.CAT"
  A_AXIS_RADIUS = 3396.0
  B_AXIS_RADIUS = 3396.0
  C_AXIS_RADIUS = 3396.0
  CENTER_LATITUDE = 0.0
  CENTER_LONGITUDE = 79.0
  COORDINATE_SYSTEM_NAME = PLANETOGRAPHIC
  COORDINATE_SYSTEM_TYPE = "BODY-FIXED ROTATING"
  EASTERNMOST_LONGITUDE = 80.8927
  FIRST_STANDARD_PARALLEL = "N/A"
  LINE_FIRST_PIXEL = 1
  LINE_LAST_PIXEL = 13976
  LINE_PROJECTION_OFFSET = 64239.75
  MAP_PROJECTION_ROTATION = 0.0
  MAP_PROJECTION_TYPE = SINUSOIDAL
  MAP_RESOLUTION = 1185.42760773333
  MAP_SCALE = 0.05
  MAXIMUM_LATITUDE = 54.1015
  MINIMUM_LATITUDE = 42.4365
  POSITIVE_LONGITUDE_DIRECTION = EAST
  REFERENCE_LATITUDE = "N/A"
  REFERENCE_LONGITUDE = "N/A"
  SAMPLE_FIRST_PIXEL = 1
  SAMPLE_LAST_PIXEL = 3960
  SAMPLE_PROJECTION_OFFSET = 2199.75
  SECOND_STANDARD_PARALLEL = "N/A"
  WESTERNMOST_LONGITUDE = 76.0676
END_OBJECT = IMAGE_MAP_PROJECTION
END
