PDS_VERSION_ID = PDS3
/* FILE DATA ELEMENTS */
RECORD_TYPE = UNDEFINED
/* POINTERS TO DATA OBJECTS */
^IMAGE = ("HH684_0000_BL4.TIF")
/* IDENTIFICATION DATA ELEMENTS */
DATA_SET_ID = "MEX-M-HRSC-4-REFDR-MAPPROJECT-EXT6-V4.0"
DATA_SET_NAME = "MARS EXPRESS HRSC MAP PROJECTED REFDR EXTENSION6 V4.0"
DETECTOR_ID = MEX_HRSC_BLUE
EVENT_TYPE = "MARS-LOCAL-MAPPING-Im-Pf"
INSTRUMENT_HOST_ID = MEX
INSTRUMENT_HOST_NAME = "MARS EXPRESS"
INSTRUMENT_ID = HRSC
INSTRUMENT_NAME = "HIGH RESOLUTION STEREO CAMERA"
MISSION_NAME = "MARS EXPRESS"
MISSION_PHASE_NAME = ME_Phase_37
PROCESSING_LEVEL_ID = 4
PRODUCT_CREATION_TIME = 2023-01-28T19:29:54.000Z
PRODUCT_ID = "HH684_0000_BL4.TIF"
RELEASE_ID = 0003
REVISION_ID = 0000
/* QUALITY DATA ELEMENTS */
DATA_QUALITY_ID = 1
DATA_QUALITY_DESC = "Data calculated based on original SPICE kernels"
/* TIME DATA ELEMENTS */
SPACECRAFT_CLOCK_START_COUNT = "1/0461906965.07357"
SPACECRAFT_CLOCK_STOP_COUNT = "1/0461907130.62901"
START_TIME = 2017-12-21T03:30:39.952Z
STOP_TIME = 2017-12-21T03:31:41.941Z
/* ORBITAL DATA ELEMENTS */
ASCENDING_NODE_LONGITUDE = 242.1
MAXIMUM_RESOLUTION = 0.0766
FOOTPRINT_POINT_LATITUDE = (35.6987,35.699,35.699,35.6987,35.6983, 35.6976,35.6968,35.6957,35.6945,35.693, 35.6914,35.6902,35.6874,35.6851,35.6848 ,35.6925,35.6144,35.5362,35.4197, 35.3431,35.2664,35.1896,35.1128,34.9975 ,34.9207,34.8439,34.7671,34.652,34.4259 ,34.275,34.1994,34.0861,34.0107,33.9351 ,33.7855,33.6744,33.5262,33.3777, 33.2664,33.1176,32.9691,32.8237,32.7146 ,32.5689,32.3866,32.1676,31.9877,31.952 ,31.922,31.9235,31.9243,31.9252,31.9264 ,31.927,31.9278,31.9285,31.9292,31.9296 ,31.93,31.9302,31.9302,31.9303,31.9302, 31.93,31.9297,31.9296,31.9307,32.1097, 32.2557,32.4019,32.5114,32.6572,32.8031 ,32.9489,33.0597,33.2084,33.3571, 33.5057,33.6917,33.8401,33.991,34.0667, 34.1423,34.2179,34.2935,34.4069,34.5202 ,34.6711,34.748,34.8635,34.9404,35.0558 ,35.1712,35.248,35.3248,35.44,35.5569, 35.6351,35.6742,35.6987)
FOOTPRINT_POINT_LONGITUDE = (33.7921,33.5841,33.4183,33.2527, 33.0874,32.9225,32.7578,32.5934,32.4295 ,32.2659,32.1025,32.0004,31.7759, 31.6132,31.5929,31.5778,31.5815,31.5851 ,31.5904,31.5939,31.5974,31.6009, 31.6044,31.6098,31.6131,31.6164,31.6197 ,31.6245,31.6341,31.6405,31.6437, 31.6483,31.6513,31.6543,31.6603,31.6647 ,31.6705,31.6762,31.6805,31.6863,31.692 ,31.6972,31.701,31.7062,31.7126,31.7203 ,31.7265,31.7277,31.7287,31.8721, 31.9629,32.0539,32.1994,32.2904,32.4361 ,32.6002,32.7465,32.8383,32.9303, 33.0588,33.1507,33.2983,33.4275,33.557, 33.6682,33.6867,33.6929,33.6986,33.7031 ,33.7074,33.7107,33.7148,33.7193, 33.7238,33.7274,33.7318,33.7363,33.7412 ,33.7481,33.7532,33.7583,33.7608, 33.7632,33.7657,33.7681,33.772,33.7758, 33.7808,33.7833,33.7872,33.7897,33.7937 ,33.7978,33.8005,33.8033,33.8075, 33.8115,33.8141,33.8154,33.7921)
ORBIT_NUMBER = 17684
ORBITAL_ECCENTRICITY = 0.577
ORBITAL_INCLINATION = 86.94
ORBITAL_SEMIMAJOR_AXIS = 8861.89
PERIAPSIS_ALTITUDE = 349.51
PERIAPSIS_ARGUMENT_ANGLE = 172.58
PERIAPSIS_TIME = 2017-12-21T03:38:00.000Z
SPACECRAFT_ORIENTATION = (0.0,-1.0,0.0)
^MEX_ORIENTATION_DESC = "MEX_ORIENTATION_DESC.TXT"
SPACECRAFT_POINTING_MODE = ACROSSTRACK
^MEX_POINTING_DESC = "MEX_POINTING_DESC.TXT"
RIGHT_ASCENSION = -1e+32
DECLINATION = -1e+32
OFFSET_ANGLE = 0.4
SPACECRAFT_SOLAR_DISTANCE = 2.45224e+08
TARGET_NAME = MARS
/* CAMERA DATA ELEMENTS */
DETECTOR_TEMPERATURE = 18.9822
FOCAL_PLANE_TEMPERATURE = 8.9911
INST_CMPRS_NAME = "DISCRETE COSINE TRANSFORMATION (DCT)"
INST_CMPRS_RATIO = 5.17017
INST_CMPRS_QUALITY = 0
INST_CMPRS_QUANTZ_TBL_ID = 0
INSTRUMENT_TEMPERATURE = 12.4574
LENS_TEMPERATURE = 9.6028
MACROPIXEL_SIZE = 4
MISSING_FRAMES = 0
PIXEL_SUBSAMPLING_FLAG = N
SIGNAL_CHAIN_ID = 2
/* RADIOMETRIC DATA ELEMENTS */
BANDWIDTH = 76.0
CENTER_FILTER_WAVELENGTH = 444.0
RADIANCE_OFFSET = 0.193756
RADIANCE_SCALING_FACTOR = 0.00116507
REFLECTANCE_SCALING_FACTOR = 7.19841e-05
MEX:REFLECTANCE_OFFSET = 0.0119713
/* IMAGE OBJECT DEFINITIONS */
OBJECT = IMAGE
  INTERCHANGE_FORMAT = BINARY
  LINES = 2246
  LINE_SAMPLES = 1097
  SAMPLE_TYPE = UNSIGNED_INTEGER
  SAMPLE_BITS = 8
  BANDS = 1
  BAND_STORAGE_TYPE = BAND_SEQUENTIAL
  MAXIMUM = 255
  MEAN = 105.281
  MINIMUM = 2
  STANDARD_DEVIATION = 20.3566
END_OBJECT = IMAGE
/* MAP OBJECT DEFINITIONS */
OBJECT = IMAGE_MAP_PROJECTION
  ^DATA_SET_MAP_PROJECTION_CATALOG= "DSMAP.CAT"
  A_AXIS_RADIUS = 3396.0
  B_AXIS_RADIUS = 3396.0
  C_AXIS_RADIUS = 3396.0
  CENTER_LATITUDE = 0.0
  CENTER_LONGITUDE = 33.0
  COORDINATE_SYSTEM_NAME = PLANETOGRAPHIC
  COORDINATE_SYSTEM_TYPE = "BODY-FIXED ROTATING"
  EASTERNMOST_LONGITUDE = 33.8154
  FIRST_STANDARD_PARALLEL = "N/A"
  LINE_FIRST_PIXEL = 1
  LINE_LAST_PIXEL = 2246
  LINE_PROJECTION_OFFSET = 21162.625
  MAP_PROJECTION_ROTATION = 0.0
  MAP_PROJECTION_TYPE = SINUSOIDAL
  MAP_RESOLUTION = 592.713803866667
  MAP_SCALE = 0.1
  MAXIMUM_LATITUDE = 35.699
  MINIMUM_LATITUDE = 31.922
  POSITIVE_LONGITUDE_DIRECTION = EAST
  REFERENCE_LATITUDE = "N/A"
  REFERENCE_LONGITUDE = "N/A"
  SAMPLE_FIRST_PIXEL = 1
  SAMPLE_LAST_PIXEL = 1097
  SAMPLE_PROJECTION_OFFSET = 697.375
  SECOND_STANDARD_PARALLEL = "N/A"
  WESTERNMOST_LONGITUDE = 31.5778
END_OBJECT = IMAGE_MAP_PROJECTION
END
