PDS_VERSION_ID = PDS3
/* FILE DATA ELEMENTS */
RECORD_TYPE = UNDEFINED
/* POINTERS TO DATA OBJECTS */
^IMAGE = ("HH684_0000_ND4.TIF")
/* IDENTIFICATION DATA ELEMENTS */
DATA_SET_ID = "MEX-M-HRSC-4-REFDR-MAPPROJECT-EXT6-V4.0"
DATA_SET_NAME = "MARS EXPRESS HRSC MAP PROJECTED REFDR EXTENSION6 V4.0"
DETECTOR_ID = MEX_HRSC_NADIR
EVENT_TYPE = "MARS-LOCAL-MAPPING-Im-Pf"
INSTRUMENT_HOST_ID = MEX
INSTRUMENT_HOST_NAME = "MARS EXPRESS"
INSTRUMENT_ID = HRSC
INSTRUMENT_NAME = "HIGH RESOLUTION STEREO CAMERA"
MISSION_NAME = "MARS EXPRESS"
MISSION_PHASE_NAME = ME_Phase_37
PROCESSING_LEVEL_ID = 4
PRODUCT_CREATION_TIME = 2023-01-28T19:29:54.000Z
PRODUCT_ID = "HH684_0000_ND4.TIF"
RELEASE_ID = 0003
REVISION_ID = 0000
/* QUALITY DATA ELEMENTS */
DATA_QUALITY_ID = 1
DATA_QUALITY_DESC = "Data calculated based on original SPICE kernels"
/* TIME DATA ELEMENTS */
SPACECRAFT_CLOCK_START_COUNT = "1/0461906965.07357"
SPACECRAFT_CLOCK_STOP_COUNT = "1/0461907130.62901"
START_TIME = 2017-12-21T03:30:31.304Z
STOP_TIME = 2017-12-21T03:31:34.277Z
/* ORBITAL DATA ELEMENTS */
ASCENDING_NODE_LONGITUDE = 242.1
MAXIMUM_RESOLUTION = 0.0193
FOOTPRINT_POINT_LATITUDE = (35.7033,35.7043,35.7046,35.7047, 35.7045,35.7041,35.7034,35.7025,35.7013 ,35.6995,35.6977,35.696,35.6938,35.6935 ,35.6937,35.6162,35.5387,35.4611, 35.3835,35.3059,35.2282,35.1505,35.0727 ,34.9949,34.9176,34.765,34.6887,34.6123 ,34.5359,34.4594,34.3829,34.3064, 34.2298,34.1533,34.0032,33.853,33.7026, 33.5521,33.3639,33.2163,33.0685,32.9576 ,32.8097,32.6616,32.4768,32.3317, 32.1864,31.9683,31.9319,31.9173,31.9189 ,31.9201,31.921,31.9216,31.9222,31.9227 ,31.923,31.9231,31.9229,31.9227,31.9223 ,31.9216,31.921,31.9208,31.9211,32.1396 ,32.2851,32.4305,32.6145,32.7628, 32.9111,33.0592,33.2072,33.355,33.5433, 33.6941,33.8447,33.9953,34.1456,34.2603 ,34.337,34.4136,34.4903,34.5668,34.6434 ,34.7199,34.7964,34.8728,34.9492, 35.0272,35.1051,35.183,35.2608,35.3387, 35.4164,35.4942,35.5719,35.6495,35.6883 ,35.7033)
FOOTPRINT_POINT_LONGITUDE = (33.8047,33.5362,33.3579,33.18,33.0244, 32.8469,32.6699,32.4933,32.3172,32.0972 ,31.9214,31.7676,31.5923,31.5704, 31.5498,31.5536,31.5573,31.5611,31.5647 ,31.5683,31.572,31.5757,31.5793,31.583, 31.5864,31.5934,31.5967,31.6001,31.6034 ,31.6067,31.6101,31.6135,31.6168, 31.6202,31.6264,31.6325,31.6386,31.6448 ,31.6523,31.6582,31.664,31.6684,31.6739 ,31.6794,31.6862,31.6914,31.6967, 31.7044,31.7057,31.7063,31.8811,32.0374 ,32.1936,32.2914,32.4284,32.6046, 32.7815,32.9592,33.1367,33.2356,33.3742 ,33.5529,33.6723,33.6922,33.702,33.709, 33.7136,33.7181,33.7236,33.7281,33.7328 ,33.7376,33.7422,33.7467,33.753,33.7591 ,33.7643,33.7695,33.7745,33.7783,33.781 ,33.7837,33.7863,33.7889,33.7914,33.794 ,33.7966,33.7993,33.8018,33.8047, 33.8076,33.8104,33.8132,33.8162,33.8189 ,33.8217,33.8245,33.8271,33.8285, 33.8047)
ORBIT_NUMBER = 17684
ORBITAL_ECCENTRICITY = 0.577
ORBITAL_INCLINATION = 86.94
ORBITAL_SEMIMAJOR_AXIS = 8861.89
PERIAPSIS_ALTITUDE = 349.51
PERIAPSIS_ARGUMENT_ANGLE = 172.58
PERIAPSIS_TIME = 2017-12-21T03:38:00.000Z
SPACECRAFT_ORIENTATION = (0.0,-1.0,0.0)
^MEX_ORIENTATION_DESC = "MEX_ORIENTATION_DESC.TXT"
SPACECRAFT_POINTING_MODE = ACROSSTRACK
^MEX_POINTING_DESC = "MEX_POINTING_DESC.TXT"
RIGHT_ASCENSION = -1e+32
DECLINATION = -1e+32
OFFSET_ANGLE = 0.4
SPACECRAFT_SOLAR_DISTANCE = 2.45224e+08
TARGET_NAME = MARS
/* CAMERA DATA ELEMENTS */
DETECTOR_TEMPERATURE = 18.9822
FOCAL_PLANE_TEMPERATURE = 8.9911
INST_CMPRS_NAME = "DISCRETE COSINE TRANSFORMATION (DCT)"
INST_CMPRS_RATIO = 5.16621
INST_CMPRS_QUALITY = 0
INST_CMPRS_QUANTZ_TBL_ID = 0
INSTRUMENT_TEMPERATURE = 12.4574
LENS_TEMPERATURE = 9.6028
MACROPIXEL_SIZE = 1
MISSING_FRAMES = 0
PIXEL_SUBSAMPLING_FLAG = N
SIGNAL_CHAIN_ID = 0
/* RADIOMETRIC DATA ELEMENTS */
BANDWIDTH = 177.0
CENTER_FILTER_WAVELENGTH = 677.5
RADIANCE_OFFSET = 1.07069
RADIANCE_SCALING_FACTOR = 0.0130761
REFLECTANCE_SCALING_FACTOR = 0.000417727
MEX:REFLECTANCE_OFFSET = 0.0342038
/* IMAGE OBJECT DEFINITIONS */
OBJECT = IMAGE
  INTERCHANGE_FORMAT = BINARY
  LINES = 8981
  LINE_SAMPLES = 4388
  SAMPLE_TYPE = UNSIGNED_INTEGER
  SAMPLE_BITS = 8
  BANDS = 1
  BAND_STORAGE_TYPE = BAND_SEQUENTIAL
  MAXIMUM = 255
  MEAN = 85.3084
  MINIMUM = 1
  STANDARD_DEVIATION = 19.7265
END_OBJECT = IMAGE
/* MAP OBJECT DEFINITIONS */
OBJECT = IMAGE_MAP_PROJECTION
  ^DATA_SET_MAP_PROJECTION_CATALOG= "DSMAP.CAT"
  A_AXIS_RADIUS = 3396.0
  B_AXIS_RADIUS = 3396.0
  C_AXIS_RADIUS = 3396.0
  CENTER_LATITUDE = 0.0
  CENTER_LONGITUDE = 33.0
  COORDINATE_SYSTEM_NAME = PLANETOGRAPHIC
  COORDINATE_SYSTEM_TYPE = "BODY-FIXED ROTATING"
  EASTERNMOST_LONGITUDE = 33.8285
  FIRST_STANDARD_PARALLEL = "N/A"
  LINE_FIRST_PIXEL = 1
  LINE_LAST_PIXEL = 8981
  LINE_PROJECTION_OFFSET = 84652.0
  MAP_PROJECTION_ROTATION = 0.0
  MAP_PROJECTION_TYPE = SINUSOIDAL
  MAP_RESOLUTION = 2370.85521546667
  MAP_SCALE = 0.025
  MAXIMUM_LATITUDE = 35.7047
  MINIMUM_LATITUDE = 31.9173
  POSITIVE_LONGITUDE_DIRECTION = EAST
  REFERENCE_LATITUDE = "N/A"
  REFERENCE_LONGITUDE = "N/A"
  SAMPLE_FIRST_PIXEL = 1
  SAMPLE_LAST_PIXEL = 4388
  SAMPLE_PROJECTION_OFFSET = 2791.0
  SECOND_STANDARD_PARALLEL = "N/A"
  WESTERNMOST_LONGITUDE = 31.5498
END_OBJECT = IMAGE_MAP_PROJECTION
END
