PDS_VERSION_ID = PDS3
/* FILE DATA ELEMENTS */
RECORD_TYPE = UNDEFINED
/* POINTERS TO DATA OBJECTS */
^IMAGE = ("HH690_0000_GR4.TIF")
/* IDENTIFICATION DATA ELEMENTS */
DATA_SET_ID = "MEX-M-HRSC-4-REFDR-MAPPROJECT-EXT6-V4.0"
DATA_SET_NAME = "MARS EXPRESS HRSC MAP PROJECTED REFDR EXTENSION6 V4.0"
DETECTOR_ID = MEX_HRSC_GREEN
EVENT_TYPE = "MARS-REGIONAL-MAPPING-Im-Fl-Pf"
INSTRUMENT_HOST_ID = MEX
INSTRUMENT_HOST_NAME = "MARS EXPRESS"
INSTRUMENT_ID = HRSC
INSTRUMENT_NAME = "HIGH RESOLUTION STEREO CAMERA"
MISSION_NAME = "MARS EXPRESS"
MISSION_PHASE_NAME = ME_Phase_37
PROCESSING_LEVEL_ID = 4
PRODUCT_CREATION_TIME = 2023-01-28T19:29:54.000Z
PRODUCT_ID = "HH690_0000_GR4.TIF"
RELEASE_ID = 0003
REVISION_ID = 0000
/* QUALITY DATA ELEMENTS */
DATA_QUALITY_ID = 1
DATA_QUALITY_DESC = "Data calculated based on original SPICE kernels"
/* TIME DATA ELEMENTS */
SPACECRAFT_CLOCK_START_COUNT = "1/0462057709.07320"
SPACECRAFT_CLOCK_STOP_COUNT = "1/0462058179.45809"
START_TIME = 2017-12-22T21:23:34.255Z
STOP_TIME = 2017-12-22T21:28:49.498Z
/* ORBITAL DATA ELEMENTS */
ASCENDING_NODE_LONGITUDE = 241.98
MAXIMUM_RESOLUTION = 0.0858
FOOTPRINT_POINT_LATITUDE = (53.7315,53.7249,53.7149,53.6965, 53.6628,53.6354,53.6076,53.6054,53.5827 ,53.1747,52.7701,52.3686,51.9706, 51.5759,51.1841,50.7958,50.4105,50.0281 ,49.6487,49.2715,48.8928,48.5125, 48.1308,47.7475,47.384,47.0448,46.7045, 46.363,46.0203,45.6766,45.3316,44.8169, 44.3079,43.8045,43.3064,42.9763,42.65, 42.1639,41.842,41.5232,41.0488,40.7339, 40.4233,40.1122,39.8056,39.196,38.5944, 38.1468,37.4116,36.6875,36.5445,36.542, 36.554,36.5612,36.5634,36.5634,36.5646, 37.143,37.8763,38.6207,39.2245,39.5281, 39.8362,40.1442,40.4564,40.7682,41.0844 ,41.5609,41.881,42.2044,42.6926,43.0207 ,43.3524,43.8531,44.3592,44.8709, 45.3885,45.7356,46.0816,46.4265,46.7707 ,47.1137,47.4537,47.8188,48.2049,48.59, 48.9753,49.3565,49.7365,50.1194,50.5051 ,50.894,51.286,51.6817,52.0804,52.4826, 52.8885,53.5036,53.7105,53.7315)
FOOTPRINT_POINT_LONGITUDE = (140.081,139.314,138.638,137.783,136.66 ,135.942,135.312,135.268,135.201, 135.282,135.359,135.433,135.505,135.573 ,135.64,135.704,135.765,135.825,135.882 ,135.938,135.992,136.045,136.096, 136.147,136.193,136.236,136.277,136.318 ,136.358,136.397,136.435,136.49,136.543 ,136.593,136.641,136.672,136.702, 136.744,136.772,136.799,136.838,136.863 ,136.887,136.911,136.934,136.978,137.02 ,137.049,137.095,137.139,137.147, 137.147,137.884,138.621,139.446,139.467 ,139.475,139.492,139.514,139.536, 139.555,139.565,139.575,139.584,139.595 ,139.605,139.615,139.631,139.642, 139.653,139.67,139.682,139.693,139.711, 139.73,139.749,139.769,139.782,139.795, 139.809,139.821,139.834,139.853,139.87, 139.887,139.902,139.912,139.93,139.948, 139.965,139.983,140.001,140.02,140.038, 140.058,140.078,140.098,140.129,140.14, 140.081)
ORBIT_NUMBER = 17690
ORBITAL_ECCENTRICITY = 0.577
ORBITAL_INCLINATION = 86.94
ORBITAL_SEMIMAJOR_AXIS = 8858.25
PERIAPSIS_ALTITUDE = 350.35
PERIAPSIS_ARGUMENT_ANGLE = 171.54
PERIAPSIS_TIME = 2017-12-22T21:36:25.000Z
SPACECRAFT_ORIENTATION = (0.0,-1.0,0.0)
^MEX_ORIENTATION_DESC = "MEX_ORIENTATION_DESC.TXT"
SPACECRAFT_POINTING_MODE = NADIR
^MEX_POINTING_DESC = "MEX_POINTING_DESC.TXT"
RIGHT_ASCENSION = -1e+32
DECLINATION = -1e+32
OFFSET_ANGLE = -1e+32
SPACECRAFT_SOLAR_DISTANCE = 2.45037e+08
TARGET_NAME = MARS
/* CAMERA DATA ELEMENTS */
DETECTOR_TEMPERATURE = 18.1666
FOCAL_PLANE_TEMPERATURE = 7.9716
INST_CMPRS_NAME = "DISCRETE COSINE TRANSFORMATION (DCT)"
INST_CMPRS_RATIO = 9.36924
INST_CMPRS_QUALITY = 0
INST_CMPRS_QUANTZ_TBL_ID = 0
INSTRUMENT_TEMPERATURE = 11.4379
LENS_TEMPERATURE = 8.3794
MACROPIXEL_SIZE = 4
MISSING_FRAMES = 0
PIXEL_SUBSAMPLING_FLAG = N
SIGNAL_CHAIN_ID = 2
/* RADIOMETRIC DATA ELEMENTS */
BANDWIDTH = 88.0
CENTER_FILTER_WAVELENGTH = 538.0
RADIANCE_OFFSET = 0.556165
RADIANCE_SCALING_FACTOR = 0.00392587
REFLECTANCE_SCALING_FACTOR = 0.000202951
MEX:REFLECTANCE_OFFSET = 0.0287514
/* IMAGE OBJECT DEFINITIONS */
OBJECT = IMAGE
  INTERCHANGE_FORMAT = BINARY
  LINES = 10177
  LINE_SAMPLES = 1709
  SAMPLE_TYPE = UNSIGNED_INTEGER
  SAMPLE_BITS = 8
  BANDS = 1
  BAND_STORAGE_TYPE = BAND_SEQUENTIAL
  MAXIMUM = 255
  MEAN = 98.5966
  MINIMUM = 1
  STANDARD_DEVIATION = 17.3515
END_OBJECT = IMAGE
/* MAP OBJECT DEFINITIONS */
OBJECT = IMAGE_MAP_PROJECTION
  ^DATA_SET_MAP_PROJECTION_CATALOG= "DSMAP.CAT"
  A_AXIS_RADIUS = 3396.0
  B_AXIS_RADIUS = 3396.0
  C_AXIS_RADIUS = 3396.0
  CENTER_LATITUDE = 0.0
  CENTER_LONGITUDE = 138.0
  COORDINATE_SYSTEM_NAME = PLANETOGRAPHIC
  COORDINATE_SYSTEM_TYPE = "BODY-FIXED ROTATING"
  EASTERNMOST_LONGITUDE = 140.14
  FIRST_STANDARD_PARALLEL = "N/A"
  LINE_FIRST_PIXEL = 1
  LINE_LAST_PIXEL = 10177
  LINE_PROJECTION_OFFSET = 31840.125
  MAP_PROJECTION_ROTATION = 0.0
  MAP_PROJECTION_TYPE = SINUSOIDAL
  MAP_RESOLUTION = 592.713803866667
  MAP_SCALE = 0.1
  MAXIMUM_LATITUDE = 53.7315
  MINIMUM_LATITUDE = 36.542
  POSITIVE_LONGITUDE_DIRECTION = EAST
  REFERENCE_LATITUDE = "N/A"
  REFERENCE_LONGITUDE = "N/A"
  SAMPLE_FIRST_PIXEL = 1
  SAMPLE_LAST_PIXEL = 1709
  SAMPLE_PROJECTION_OFFSET = 975.375
  SECOND_STANDARD_PARALLEL = "N/A"
  WESTERNMOST_LONGITUDE = 135.201
END_OBJECT = IMAGE_MAP_PROJECTION
END
