PDS_VERSION_ID = PDS3
/* FILE DATA ELEMENTS */
RECORD_TYPE = UNDEFINED
/* POINTERS TO DATA OBJECTS */
^IMAGE = ("HH701_0000_P24.TIF")
/* IDENTIFICATION DATA ELEMENTS */
DATA_SET_ID = "MEX-M-HRSC-4-REFDR-MAPPROJECT-EXT6-V4.0"
DATA_SET_NAME = "MARS EXPRESS HRSC MAP PROJECTED REFDR EXTENSION6 V4.0"
DETECTOR_ID = MEX_HRSC_P2
EVENT_TYPE = "MARS-REGIONAL-MAPPING-Im-Lc-Pf"
INSTRUMENT_HOST_ID = MEX
INSTRUMENT_HOST_NAME = "MARS EXPRESS"
INSTRUMENT_ID = HRSC
INSTRUMENT_NAME = "HIGH RESOLUTION STEREO CAMERA"
MISSION_NAME = "MARS EXPRESS"
MISSION_PHASE_NAME = ME_Phase_37
PROCESSING_LEVEL_ID = 4
PRODUCT_CREATION_TIME = 2023-01-28T19:29:54.000Z
PRODUCT_ID = "HH701_0000_P24.TIF"
RELEASE_ID = 0003
REVISION_ID = 0000
/* QUALITY DATA ELEMENTS */
DATA_QUALITY_ID = 1
DATA_QUALITY_DESC = "Data calculated based on original SPICE kernels"
/* TIME DATA ELEMENTS */
SPACECRAFT_CLOCK_START_COUNT = "1/0462335148.08309"
SPACECRAFT_CLOCK_STOP_COUNT = "1/0462335388.39153"
START_TIME = 2017-12-26T02:27:20.999Z
STOP_TIME = 2017-12-26T02:29:43.211Z
/* ORBITAL DATA ELEMENTS */
ASCENDING_NODE_LONGITUDE = 241.78
MAXIMUM_RESOLUTION = 0.0335
FOOTPRINT_POINT_LATITUDE = (36.0591,36.0638,36.068,36.0717,36.0749 ,36.0777,36.0805,36.0806,36.124,35.8269 ,35.5348,35.2426,35.0476,34.7581, 34.4716,34.1848,33.9935,33.8039,33.6169 ,33.4297,33.2424,33.0549,32.7736, 32.5905,32.4072,32.1321,31.9487,31.765, 31.5827,31.4035,31.224,30.9548,30.7751, 30.5951,30.4153,30.24,30.0645,29.8891, 29.6257,29.4501,29.2743,29.0127,28.67, 28.3265,27.9831,27.8113,27.4723,27.1374 ,27.0537,27.022,27.0163,27.0104,26.9999 ,26.9916,26.9854,26.9775,26.9771, 26.9774,27.2292,27.5648,27.9079,28.08, 28.252,28.4239,28.5958,29.0256,29.2892, 29.5533,29.8172,29.9932,30.1691,30.3448 ,30.5243,30.7052,30.9747,31.1547, 31.3346,31.6043,31.8803,32.0644,32.2482 ,32.524,32.708,32.895,33.0829,33.2708, 33.4589,33.6465,33.93,34.1219,34.4096, 34.6011,34.7925,35.0841,35.2798,35.4753 ,35.7684,35.966,36.0657,36.0591)
FOOTPRINT_POINT_LONGITUDE = (92.58,92.2645,91.9463,91.6245,91.2993, 90.9706,90.5117,90.4907,90.4245,90.4446 ,90.4641,90.483,90.4955,90.5139,90.5317 ,90.5492,90.5606,90.5713,90.582,90.5927 ,90.6033,90.6138,90.6296,90.6393, 90.6491,90.6634,90.6727,90.682,90.6911, 90.6998,90.7086,90.7214,90.7299,90.7386 ,90.7469,90.7547,90.7625,90.7699, 90.7813,90.7887,90.7961,90.8067,90.8202 ,90.834,90.8469,90.8533,90.8659,90.8776 ,90.8805,90.8816,91.1125,91.3413, 91.7272,92.0278,92.2463,92.509,92.5244, 92.5299,92.5313,92.5331,92.535,92.5359, 92.5368,92.5377,92.5387,92.5408,92.5422 ,92.5436,92.545,92.5458,92.5467,92.5476 ,92.5485,92.5492,92.5506,92.5515, 92.5524,92.5536,92.5549,92.5558,92.5566 ,92.5578,92.5586,92.5594,92.5602,92.561 ,92.5618,92.5625,92.5637,92.5645, 92.5656,92.5663,92.5671,92.5682,92.5689 ,92.5695,92.5705,92.5712,92.5715,92.58)
ORBIT_NUMBER = 17701
ORBITAL_ECCENTRICITY = 0.577
ORBITAL_INCLINATION = 86.95
ORBITAL_SEMIMAJOR_AXIS = 8861.66
PERIAPSIS_ALTITUDE = 350.76
PERIAPSIS_ARGUMENT_ANGLE = 169.61
PERIAPSIS_TIME = 2017-12-26T02:33:37.000Z
SPACECRAFT_ORIENTATION = (0.0,-1.0,0.0)
^MEX_ORIENTATION_DESC = "MEX_ORIENTATION_DESC.TXT"
SPACECRAFT_POINTING_MODE = ACROSSTRACK
^MEX_POINTING_DESC = "MEX_POINTING_DESC.TXT"
RIGHT_ASCENSION = -1e+32
DECLINATION = -1e+32
OFFSET_ANGLE = -1.078
SPACECRAFT_SOLAR_DISTANCE = 2.44684e+08
TARGET_NAME = MARS
/* CAMERA DATA ELEMENTS */
DETECTOR_TEMPERATURE = 18.5744
FOCAL_PLANE_TEMPERATURE = 7.9716
INST_CMPRS_NAME = "DISCRETE COSINE TRANSFORMATION (DCT)"
INST_CMPRS_RATIO = 5.35196
INST_CMPRS_QUALITY = 0
INST_CMPRS_QUANTZ_TBL_ID = 0
INSTRUMENT_TEMPERATURE = 11.4379
LENS_TEMPERATURE = 8.3794
MACROPIXEL_SIZE = 2
MISSING_FRAMES = 0
PIXEL_SUBSAMPLING_FLAG = N
SIGNAL_CHAIN_ID = 3
/* RADIOMETRIC DATA ELEMENTS */
BANDWIDTH = 177.0
CENTER_FILTER_WAVELENGTH = 676.5
RADIANCE_OFFSET = 1.41981
RADIANCE_SCALING_FACTOR = 0.0125675
REFLECTANCE_SCALING_FACTOR = 0.00039895
MEX:REFLECTANCE_OFFSET = 0.0450712
/* IMAGE OBJECT DEFINITIONS */
OBJECT = IMAGE
  INTERCHANGE_FORMAT = BINARY
  LINES = 21667
  LINE_SAMPLES = 4256
  SAMPLE_TYPE = UNSIGNED_INTEGER
  SAMPLE_BITS = 8
  BANDS = 1
  BAND_STORAGE_TYPE = BAND_SEQUENTIAL
  MAXIMUM = 255
  MEAN = 89.1525
  MINIMUM = 1
  STANDARD_DEVIATION = 23.8872
END_OBJECT = IMAGE
/* MAP OBJECT DEFINITIONS */
OBJECT = IMAGE_MAP_PROJECTION
  ^DATA_SET_MAP_PROJECTION_CATALOG= "DSMAP.CAT"
  A_AXIS_RADIUS = 3396.0
  B_AXIS_RADIUS = 3396.0
  C_AXIS_RADIUS = 3396.0
  CENTER_LATITUDE = 0.0
  CENTER_LONGITUDE = 92.0
  COORDINATE_SYSTEM_NAME = PLANETOGRAPHIC
  COORDINATE_SYSTEM_TYPE = "BODY-FIXED ROTATING"
  EASTERNMOST_LONGITUDE = 92.58
  FIRST_STANDARD_PARALLEL = "N/A"
  LINE_FIRST_PIXEL = 1
  LINE_LAST_PIXEL = 21667
  LINE_PROJECTION_OFFSET = 85646.25
  MAP_PROJECTION_ROTATION = 0.0
  MAP_PROJECTION_TYPE = SINUSOIDAL
  MAP_RESOLUTION = 2370.85521546667
  MAP_SCALE = 0.025
  MAXIMUM_LATITUDE = 36.124
  MINIMUM_LATITUDE = 26.9771
  POSITIVE_LONGITUDE_DIRECTION = EAST
  REFERENCE_LATITUDE = "N/A"
  REFERENCE_LONGITUDE = "N/A"
  SAMPLE_FIRST_PIXEL = 1
  SAMPLE_LAST_PIXEL = 4256
  SAMPLE_PROJECTION_OFFSET = 3073.75
  SECOND_STANDARD_PARALLEL = "N/A"
  WESTERNMOST_LONGITUDE = 90.42449999999999
END_OBJECT = IMAGE_MAP_PROJECTION
END
