PDS_VERSION_ID = PDS3
/* FILE DATA ELEMENTS */
RECORD_TYPE = UNDEFINED
/* POINTERS TO DATA OBJECTS */
^IMAGE = ("HH703_0000_ND4.TIF")
/* IDENTIFICATION DATA ELEMENTS */
DATA_SET_ID = "MEX-M-HRSC-4-REFDR-MAPPROJECT-EXT6-V4.0"
DATA_SET_NAME = "MARS EXPRESS HRSC MAP PROJECTED REFDR EXTENSION6 V4.0"
DETECTOR_ID = MEX_HRSC_NADIR
EVENT_TYPE = "MARS-REGIONAL-STEREO-Vo-Te"
INSTRUMENT_HOST_ID = MEX
INSTRUMENT_HOST_NAME = "MARS EXPRESS"
INSTRUMENT_ID = HRSC
INSTRUMENT_NAME = "HIGH RESOLUTION STEREO CAMERA"
MISSION_NAME = "MARS EXPRESS"
MISSION_PHASE_NAME = ME_Phase_37
PROCESSING_LEVEL_ID = 4
PRODUCT_CREATION_TIME = 2023-01-28T19:29:54.000Z
PRODUCT_ID = "HH703_0000_ND4.TIF"
RELEASE_ID = 0003
REVISION_ID = 0000
/* QUALITY DATA ELEMENTS */
DATA_QUALITY_ID = 1
DATA_QUALITY_DESC = "Data calculated based on original SPICE kernels"
/* TIME DATA ELEMENTS */
SPACECRAFT_CLOCK_START_COUNT = "1/0462385558.09046"
SPACECRAFT_CLOCK_STOP_COUNT = "1/0462385823.50923"
START_TIME = 2017-12-26T16:26:56.342Z
STOP_TIME = 2017-12-26T16:29:56.362Z
/* ORBITAL DATA ELEMENTS */
ASCENDING_NODE_LONGITUDE = 241.75
MAXIMUM_RESOLUTION = 0.0153
FOOTPRINT_POINT_LATITUDE = (34.295,34.2934,34.2915,34.2881,34.2796 ,34.2793,34.2789,34.0331,33.7884, 33.5476,33.3064,33.0649,32.8245,32.5881 ,32.3514,32.1144,31.7608,31.5288, 31.2965,31.064,30.716,30.4886,30.2609, 30.0329,29.8048,29.5774,29.3545,29.1314 ,28.9081,28.6845,28.3507,28.1324,27.914 ,27.6953,27.4765,27.2575,27.0395, 26.6121,26.1841,25.7554,25.326,24.8961, 24.4656,24.0345,23.8187,23.6028,23.3868 ,23.1706,23.0625,23.0408,23.0417, 23.0421,23.0421,23.0416,23.0403,23.0403 ,23.0405,23.3651,23.5814,23.7975, 24.0135,24.4451,24.8761,25.3065,25.7363 ,26.1656,26.5941,27.0221,27.2397,27.459 ,27.6782,27.8971,28.1159,28.3345, 28.6683,28.8921,29.1158,29.3393,29.5625 ,29.7897,30.0183,30.2466,30.4747, 30.7026,30.934,31.1671,31.3999,31.6325, 31.8648,32.1024,32.3399,32.5771,32.814, 33.0544,33.2964,33.5381,33.7795,34.1474 ,34.2706,34.295)
FOOTPRINT_POINT_LONGITUDE = (249.277,248.632,248.339,247.969, 247.324,247.305,247.293,247.304,247.314 ,247.324,247.335,247.345,247.355, 247.364,247.373,247.382,247.395,247.404 ,247.412,247.421,247.433,247.441, 247.448,247.456,247.463,247.471,247.478 ,247.484,247.49,247.497,247.507,247.512 ,247.518,247.523,247.529,247.534,247.54 ,247.55,247.56,247.569,247.578,247.586, 247.594,247.602,247.605,247.609,247.612 ,247.616,247.617,247.618,247.889, 248.146,248.431,248.701,249.044,249.058 ,249.065,249.07,249.074,249.077,249.081 ,249.088,249.095,249.102,249.11,249.118 ,249.125,249.132,249.136,249.14,249.144 ,249.148,249.151,249.156,249.163, 249.167,249.171,249.176,249.18,249.184, 249.189,249.194,249.199,249.204,249.209 ,249.213,249.218,249.223,249.228, 249.233,249.238,249.243,249.248,249.253 ,249.258,249.263,249.269,249.277, 249.279,249.277)
ORBIT_NUMBER = 17703
ORBITAL_ECCENTRICITY = 0.578
ORBITAL_INCLINATION = 86.94
ORBITAL_SEMIMAJOR_AXIS = 8870.7
PERIAPSIS_ALTITUDE = 351.12
PERIAPSIS_ARGUMENT_ANGLE = 169.28
PERIAPSIS_TIME = 2017-12-26T16:33:07.000Z
SPACECRAFT_ORIENTATION = (0.0,-1.0,0.0)
^MEX_ORIENTATION_DESC = "MEX_ORIENTATION_DESC.TXT"
SPACECRAFT_POINTING_MODE = NADIR
^MEX_POINTING_DESC = "MEX_POINTING_DESC.TXT"
RIGHT_ASCENSION = -1e+32
DECLINATION = -1e+32
OFFSET_ANGLE = -1e+32
SPACECRAFT_SOLAR_DISTANCE = 2.44618e+08
TARGET_NAME = MARS
/* CAMERA DATA ELEMENTS */
DETECTOR_TEMPERATURE = 18.3705
FOCAL_PLANE_TEMPERATURE = 8.7872
INST_CMPRS_NAME = "DISCRETE COSINE TRANSFORMATION (DCT)"
INST_CMPRS_RATIO = 5.29169
INST_CMPRS_QUALITY = 0
INST_CMPRS_QUANTZ_TBL_ID = 0
INSTRUMENT_TEMPERATURE = 12.4574
LENS_TEMPERATURE = 9.6028
MACROPIXEL_SIZE = 1
MISSING_FRAMES = 0
PIXEL_SUBSAMPLING_FLAG = N
SIGNAL_CHAIN_ID = 0
/* RADIOMETRIC DATA ELEMENTS */
BANDWIDTH = 177.0
CENTER_FILTER_WAVELENGTH = 677.5
RADIANCE_OFFSET = 0.712454
RADIANCE_SCALING_FACTOR = 0.0213167
REFLECTANCE_SCALING_FACTOR = 0.000677616
MEX:REFLECTANCE_OFFSET = 0.0226475
/* IMAGE OBJECT DEFINITIONS */
OBJECT = IMAGE
  INTERCHANGE_FORMAT = BINARY
  LINES = 53367
  LINE_SAMPLES = 7786
  SAMPLE_TYPE = UNSIGNED_INTEGER
  SAMPLE_BITS = 8
  BANDS = 1
  BAND_STORAGE_TYPE = BAND_SEQUENTIAL
  MAXIMUM = 255
  MEAN = 64.1251
  MINIMUM = 1
  STANDARD_DEVIATION = 22.6655
END_OBJECT = IMAGE
/* MAP OBJECT DEFINITIONS */
OBJECT = IMAGE_MAP_PROJECTION
  ^DATA_SET_MAP_PROJECTION_CATALOG= "DSMAP.CAT"
  A_AXIS_RADIUS = 3396.0
  B_AXIS_RADIUS = 3396.0
  C_AXIS_RADIUS = 3396.0
  CENTER_LATITUDE = 0.0
  CENTER_LONGITUDE = 248.0
  COORDINATE_SYSTEM_NAME = PLANETOGRAPHIC
  COORDINATE_SYSTEM_TYPE = "BODY-FIXED ROTATING"
  EASTERNMOST_LONGITUDE = 249.279
  FIRST_STANDARD_PARALLEL = "N/A"
  LINE_FIRST_PIXEL = 1
  LINE_LAST_PIXEL = 53367
  LINE_PROJECTION_OFFSET = 162617.0
  MAP_PROJECTION_ROTATION = 0.0
  MAP_PROJECTION_TYPE = SINUSOIDAL
  MAP_RESOLUTION = 4741.71043093333
  MAP_SCALE = 0.0125
  MAXIMUM_LATITUDE = 34.295
  MINIMUM_LATITUDE = 23.0403
  POSITIVE_LONGITUDE_DIRECTION = EAST
  REFERENCE_LATITUDE = "N/A"
  REFERENCE_LONGITUDE = "N/A"
  SAMPLE_FIRST_PIXEL = 1
  SAMPLE_LAST_PIXEL = 7786
  SAMPLE_PROJECTION_OFFSET = 2771.0
  SECOND_STANDARD_PARALLEL = "N/A"
  WESTERNMOST_LONGITUDE = 247.293
END_OBJECT = IMAGE_MAP_PROJECTION
END
