PDS_VERSION_ID = PDS3
/* FILE DATA ELEMENTS */
RECORD_TYPE = UNDEFINED
/* POINTERS TO DATA OBJECTS */
^IMAGE = ("HH703_0000_P24.TIF")
/* IDENTIFICATION DATA ELEMENTS */
DATA_SET_ID = "MEX-M-HRSC-4-REFDR-MAPPROJECT-EXT6-V4.0"
DATA_SET_NAME = "MARS EXPRESS HRSC MAP PROJECTED REFDR EXTENSION6 V4.0"
DETECTOR_ID = MEX_HRSC_P2
EVENT_TYPE = "MARS-REGIONAL-STEREO-Vo-Te"
INSTRUMENT_HOST_ID = MEX
INSTRUMENT_HOST_NAME = "MARS EXPRESS"
INSTRUMENT_ID = HRSC
INSTRUMENT_NAME = "HIGH RESOLUTION STEREO CAMERA"
MISSION_NAME = "MARS EXPRESS"
MISSION_PHASE_NAME = ME_Phase_37
PROCESSING_LEVEL_ID = 4
PRODUCT_CREATION_TIME = 2023-01-28T19:29:54.000Z
PRODUCT_ID = "HH703_0000_P24.TIF"
RELEASE_ID = 0003
REVISION_ID = 0000
/* QUALITY DATA ELEMENTS */
DATA_QUALITY_ID = 1
DATA_QUALITY_DESC = "Data calculated based on original SPICE kernels"
/* TIME DATA ELEMENTS */
SPACECRAFT_CLOCK_START_COUNT = "1/0462385558.09046"
SPACECRAFT_CLOCK_STOP_COUNT = "1/0462385823.50923"
START_TIME = 2017-12-26T16:27:25.091Z
STOP_TIME = 2017-12-26T16:30:19.121Z
/* ORBITAL DATA ELEMENTS */
ASCENDING_NODE_LONGITUDE = 241.75
MAXIMUM_RESOLUTION = 0.0309
FOOTPRINT_POINT_LATITUDE = (34.2658,34.2651,34.2632,34.2594, 34.2568,34.2531,34.2529,34.2577,34.016, 33.774,33.5329,33.2963,33.0593,32.8222, 32.5851,32.3504,32.1186,31.8867,31.6546 ,31.4222,31.1913,30.9643,30.6235, 30.3963,30.1692,29.9436,29.7214,29.3881 ,29.1658,28.9448,28.7215,28.5033, 28.0703,27.638,27.2046,26.7705,26.3361, 26.01,25.6842,25.4663,25.2487,25.031, 24.7048,24.487,24.2694,23.9429,23.616, 23.398,23.18,23.0709,23.0225,23.0223, 23.0217,23.0211,23.0202,23.0202,23.0207 ,23.3479,23.5661,23.7841,24.1111, 24.3292,24.5471,24.8738,25.0916,25.3091 ,25.5269,25.7447,25.9622,26.2883, 26.5056,26.9396,27.3725,27.5903,28.0224 ,28.4578,28.6757,28.8974,29.12,29.4535, 29.7861,30.0088,30.2366,30.4649,30.8066 ,31.034,31.2613,31.4942,31.7271,31.9594 ,32.308,32.5423,32.7801,33.1364,33.3736 ,33.6118,33.8547,34.0976,34.2188, 34.2658)
FOOTPRINT_POINT_LONGITUDE = (249.245,248.967,248.559,248.003, 247.706,247.353,247.335,247.326,247.336 ,247.346,247.355,247.365,247.374, 247.383,247.392,247.4,247.409,247.417, 247.425,247.433,247.441,247.448,247.46, 247.467,247.474,247.481,247.487,247.497 ,247.504,247.509,247.516,247.521, 247.532,247.542,247.552,247.562,247.571 ,247.578,247.584,247.589,247.593, 247.597,247.602,247.606,247.61,247.615, 247.62,247.623,247.626,247.628,247.628, 247.946,248.442,248.69,249.035,249.049, 249.054,249.059,249.062,249.065,249.07, 249.074,249.077,249.082,249.085,249.089 ,249.092,249.096,249.099,249.104, 249.108,249.115,249.121,249.125,249.132 ,249.14,249.144,249.147,249.152,249.157 ,249.163,249.167,249.172,249.176, 249.183,249.187,249.191,249.196,249.2, 249.204,249.211,249.215,249.22,249.227, 249.231,249.236,249.241,249.245,249.248 ,249.245)
ORBIT_NUMBER = 17703
ORBITAL_ECCENTRICITY = 0.578
ORBITAL_INCLINATION = 86.94
ORBITAL_SEMIMAJOR_AXIS = 8870.7
PERIAPSIS_ALTITUDE = 351.12
PERIAPSIS_ARGUMENT_ANGLE = 169.28
PERIAPSIS_TIME = 2017-12-26T16:33:07.000Z
SPACECRAFT_ORIENTATION = (0.0,-1.0,0.0)
^MEX_ORIENTATION_DESC = "MEX_ORIENTATION_DESC.TXT"
SPACECRAFT_POINTING_MODE = NADIR
^MEX_POINTING_DESC = "MEX_POINTING_DESC.TXT"
RIGHT_ASCENSION = -1e+32
DECLINATION = -1e+32
OFFSET_ANGLE = -1e+32
SPACECRAFT_SOLAR_DISTANCE = 2.44618e+08
TARGET_NAME = MARS
/* CAMERA DATA ELEMENTS */
DETECTOR_TEMPERATURE = 19.1861
FOCAL_PLANE_TEMPERATURE = 8.7872
INST_CMPRS_NAME = "DISCRETE COSINE TRANSFORMATION (DCT)"
INST_CMPRS_RATIO = 5.13802
INST_CMPRS_QUALITY = 0
INST_CMPRS_QUANTZ_TBL_ID = 0
INSTRUMENT_TEMPERATURE = 12.4574
LENS_TEMPERATURE = 9.6028
MACROPIXEL_SIZE = 2
MISSING_FRAMES = 0
PIXEL_SUBSAMPLING_FLAG = N
SIGNAL_CHAIN_ID = 3
/* RADIOMETRIC DATA ELEMENTS */
BANDWIDTH = 177.0
CENTER_FILTER_WAVELENGTH = 676.5
RADIANCE_OFFSET = 0.93925
RADIANCE_SCALING_FACTOR = 0.0206968
REFLECTANCE_SCALING_FACTOR = 0.00065666
MEX:REFLECTANCE_OFFSET = 0.0298001
/* IMAGE OBJECT DEFINITIONS */
OBJECT = IMAGE
  INTERCHANGE_FORMAT = BINARY
  LINES = 26684
  LINE_SAMPLES = 3893
  SAMPLE_TYPE = UNSIGNED_INTEGER
  SAMPLE_BITS = 8
  BANDS = 1
  BAND_STORAGE_TYPE = BAND_SEQUENTIAL
  MAXIMUM = 255
  MEAN = 65.6853
  MINIMUM = 1
  STANDARD_DEVIATION = 23.4229
END_OBJECT = IMAGE
/* MAP OBJECT DEFINITIONS */
OBJECT = IMAGE_MAP_PROJECTION
  ^DATA_SET_MAP_PROJECTION_CATALOG= "DSMAP.CAT"
  A_AXIS_RADIUS = 3396.0
  B_AXIS_RADIUS = 3396.0
  C_AXIS_RADIUS = 3396.0
  CENTER_LATITUDE = 0.0
  CENTER_LONGITUDE = 248.0
  COORDINATE_SYSTEM_NAME = PLANETOGRAPHIC
  COORDINATE_SYSTEM_TYPE = "BODY-FIXED ROTATING"
  EASTERNMOST_LONGITUDE = 249.248
  FIRST_STANDARD_PARALLEL = "N/A"
  LINE_FIRST_PIXEL = 1
  LINE_LAST_PIXEL = 26684
  LINE_PROJECTION_OFFSET = 81308.25
  MAP_PROJECTION_ROTATION = 0.0
  MAP_PROJECTION_TYPE = SINUSOIDAL
  MAP_RESOLUTION = 2370.85521546667
  MAP_SCALE = 0.025
  MAXIMUM_LATITUDE = 34.2658
  MINIMUM_LATITUDE = 23.0202
  POSITIVE_LONGITUDE_DIRECTION = EAST
  REFERENCE_LATITUDE = "N/A"
  REFERENCE_LONGITUDE = "N/A"
  SAMPLE_FIRST_PIXEL = 1
  SAMPLE_LAST_PIXEL = 3893
  SAMPLE_PROJECTION_OFFSET = 1385.25
  SECOND_STANDARD_PARALLEL = "N/A"
  WESTERNMOST_LONGITUDE = 247.326
END_OBJECT = IMAGE_MAP_PROJECTION
END
