PDS_VERSION_ID = PDS3
/* FILE DATA ELEMENTS */
RECORD_TYPE = UNDEFINED
/* POINTERS TO DATA OBJECTS */
^IMAGE = ("HH711_0000_P14.TIF")
/* IDENTIFICATION DATA ELEMENTS */
DATA_SET_ID = "MEX-M-HRSC-4-REFDR-MAPPROJECT-EXT6-V4.0"
DATA_SET_NAME = "MARS EXPRESS HRSC MAP PROJECTED REFDR EXTENSION6 V4.0"
DETECTOR_ID = MEX_HRSC_P1
EVENT_TYPE = "MARS-LOCAL-STEREO-Vo-Gl-Pf"
INSTRUMENT_HOST_ID = MEX
INSTRUMENT_HOST_NAME = "MARS EXPRESS"
INSTRUMENT_ID = HRSC
INSTRUMENT_NAME = "HIGH RESOLUTION STEREO CAMERA"
MISSION_NAME = "MARS EXPRESS"
MISSION_PHASE_NAME = ME_Phase_37
PROCESSING_LEVEL_ID = 4
PRODUCT_CREATION_TIME = 2023-01-28T19:29:54.000Z
PRODUCT_ID = "HH711_0000_P14.TIF"
RELEASE_ID = 0003
REVISION_ID = 0000
/* QUALITY DATA ELEMENTS */
DATA_QUALITY_ID = 1
DATA_QUALITY_DESC = "Data calculated based on original SPICE kernels"
/* TIME DATA ELEMENTS */
SPACECRAFT_CLOCK_START_COUNT = "1/0462587050.09057"
SPACECRAFT_CLOCK_STOP_COUNT = "1/0462587245.43820"
START_TIME = 2017-12-29T00:24:36.527Z
STOP_TIME = 2017-12-29T00:26:29.631Z
/* ORBITAL DATA ELEMENTS */
ASCENDING_NODE_LONGITUDE = 241.59
MAXIMUM_RESOLUTION = 0.0349
FOOTPRINT_POINT_LATITUDE = (35.2224,35.2189,35.2151,35.2111, 35.2068,35.2022,35.1973,35.1921,35.1866 ,35.1808,35.1746,35.1682,35.1561, 35.1552,35.1097,34.9682,34.7583,34.6196 ,34.4808,34.3415,34.2019,34.0626, 33.9259,33.7213,33.5849,33.4481,33.2431 ,33.1075,32.9735,32.8401,32.7062, 32.5723,32.4383,32.3038,32.17,32.0383, 31.841,31.7071,31.5099,31.3776,31.1791, 30.855,30.7249,30.4654,30.2052,30.0132, 29.7587,29.5681,29.3135,28.9949,28.5574 ,28.4949,28.4497,28.4584,28.4636, 28.4726,28.4781,28.4829,28.4893,28.493, 28.4933,28.4939,28.7448,28.9954,29.2497 ,29.57,29.8258,30.0173,30.2746,30.4055, 30.5381,30.6738,30.8065,31.0056,31.1397 ,31.3406,31.5453,31.6789,31.8772, 32.0743,32.2709,32.4037,32.5358,32.669, 32.9317,33.0628,33.2617,33.3959,33.6002 ,33.7369,33.9425,34.0796,34.2887, 34.4285,34.5681,34.7075,34.9165,35.0579 ,35.1289,35.2224)
FOOTPRINT_POINT_LONGITUDE = (150.052,149.893,149.733,149.573, 149.413,149.252,149.09,148.928,148.766, 148.604,148.44,148.277,147.989,147.968, 147.921,147.929,147.942,147.95,147.958, 147.966,147.974,147.982,147.99,148.002, 148.01,148.017,148.029,148.037,148.045, 148.053,148.06,148.068,148.075,148.082, 148.09,148.097,148.107,148.112,148.123, 148.13,148.139,148.154,148.16,148.172, 148.184,148.193,148.204,148.213,148.225 ,148.239,148.257,148.259,148.261, 148.512,148.678,148.977,149.191,149.388 ,149.698,149.942,149.958,149.964, 149.967,149.97,149.974,149.978,149.982, 149.984,149.988,149.99,149.991,149.992, 149.994,149.996,149.997,150.0,150.002, 150.003,150.006,150.009,150.012,150.015 ,150.017,150.019,150.024,150.027,150.03 ,150.033,150.036,150.038,150.041, 150.043,150.046,150.048,150.051,150.053 ,150.056,150.058,150.059,150.052)
ORBIT_NUMBER = 17711
ORBITAL_ECCENTRICITY = 0.577
ORBITAL_INCLINATION = 86.94
ORBITAL_SEMIMAJOR_AXIS = 8854.12
PERIAPSIS_ALTITUDE = 352.62
PERIAPSIS_ARGUMENT_ANGLE = 167.93
PERIAPSIS_TIME = 2017-12-29T00:31:12.000Z
SPACECRAFT_ORIENTATION = (0.0,-1.0,0.0)
^MEX_ORIENTATION_DESC = "MEX_ORIENTATION_DESC.TXT"
SPACECRAFT_POINTING_MODE = ACROSSTRACK
^MEX_POINTING_DESC = "MEX_POINTING_DESC.TXT"
RIGHT_ASCENSION = -1e+32
DECLINATION = -1e+32
OFFSET_ANGLE = -0.6
SPACECRAFT_SOLAR_DISTANCE = 2.44351e+08
TARGET_NAME = MARS
/* CAMERA DATA ELEMENTS */
DETECTOR_TEMPERATURE = 19.1861
FOCAL_PLANE_TEMPERATURE = 8.5833
INST_CMPRS_NAME = "DISCRETE COSINE TRANSFORMATION (DCT)"
INST_CMPRS_RATIO = 5.58327
INST_CMPRS_QUALITY = 0
INST_CMPRS_QUANTZ_TBL_ID = 0
INSTRUMENT_TEMPERATURE = 12.2535
LENS_TEMPERATURE = 8.5833
MACROPIXEL_SIZE = 2
MISSING_FRAMES = 0
PIXEL_SUBSAMPLING_FLAG = N
SIGNAL_CHAIN_ID = 3
/* RADIOMETRIC DATA ELEMENTS */
BANDWIDTH = 174.0
CENTER_FILTER_WAVELENGTH = 675.0
RADIANCE_OFFSET = 1.43015
RADIANCE_SCALING_FACTOR = 0.0196294
REFLECTANCE_SCALING_FACTOR = 0.000630414
MEX:REFLECTANCE_OFFSET = 0.0459301
/* IMAGE OBJECT DEFINITIONS */
OBJECT = IMAGE
  INTERCHANGE_FORMAT = BINARY
  LINES = 15913
  LINE_SAMPLES = 3979
  SAMPLE_TYPE = UNSIGNED_INTEGER
  SAMPLE_BITS = 8
  BANDS = 1
  BAND_STORAGE_TYPE = BAND_SEQUENTIAL
  MAXIMUM = 255
  MEAN = 71.6292
  MINIMUM = 1
  STANDARD_DEVIATION = 26.2059
END_OBJECT = IMAGE
/* MAP OBJECT DEFINITIONS */
OBJECT = IMAGE_MAP_PROJECTION
  ^DATA_SET_MAP_PROJECTION_CATALOG= "DSMAP.CAT"
  A_AXIS_RADIUS = 3396.0
  B_AXIS_RADIUS = 3396.0
  C_AXIS_RADIUS = 3396.0
  CENTER_LATITUDE = 0.0
  CENTER_LONGITUDE = 149.0
  COORDINATE_SYSTEM_NAME = PLANETOGRAPHIC
  COORDINATE_SYSTEM_TYPE = "BODY-FIXED ROTATING"
  EASTERNMOST_LONGITUDE = 150.059
  FIRST_STANDARD_PARALLEL = "N/A"
  LINE_FIRST_PIXEL = 1
  LINE_LAST_PIXEL = 15913
  LINE_PROJECTION_OFFSET = 83393.25
  MAP_PROJECTION_ROTATION = 0.0
  MAP_PROJECTION_TYPE = SINUSOIDAL
  MAP_RESOLUTION = 2370.85521546667
  MAP_SCALE = 0.025
  MAXIMUM_LATITUDE = 35.2224
  MINIMUM_LATITUDE = 28.4497
  POSITIVE_LONGITUDE_DIRECTION = EAST
  REFERENCE_LATITUDE = "N/A"
  REFERENCE_LONGITUDE = "N/A"
  SAMPLE_FIRST_PIXEL = 1
  SAMPLE_LAST_PIXEL = 3979
  SAMPLE_PROJECTION_OFFSET = 2011.75
  SECOND_STANDARD_PARALLEL = "N/A"
  WESTERNMOST_LONGITUDE = 147.921
END_OBJECT = IMAGE_MAP_PROJECTION
END
