PDS_VERSION_ID = PDS3
/* FILE DATA ELEMENTS */
RECORD_TYPE = UNDEFINED
/* POINTERS TO DATA OBJECTS */
^IMAGE = ("HH716_0000_P14.TIF")
/* IDENTIFICATION DATA ELEMENTS */
DATA_SET_ID = "MEX-M-HRSC-4-REFDR-MAPPROJECT-EXT6-V4.0"
DATA_SET_NAME = "MARS EXPRESS HRSC MAP PROJECTED REFDR EXTENSION6 V4.0"
DETECTOR_ID = MEX_HRSC_P1
EVENT_TYPE = "MARS-REGIONAL-MAPPING-Im-Lc-Pf"
INSTRUMENT_HOST_ID = MEX
INSTRUMENT_HOST_NAME = "MARS EXPRESS"
INSTRUMENT_ID = HRSC
INSTRUMENT_NAME = "HIGH RESOLUTION STEREO CAMERA"
MISSION_NAME = "MARS EXPRESS"
MISSION_PHASE_NAME = ME_Phase_37
PROCESSING_LEVEL_ID = 4
PRODUCT_CREATION_TIME = 2023-01-28T19:29:54.000Z
PRODUCT_ID = "HH716_0000_P14.TIF"
RELEASE_ID = 0003
REVISION_ID = 0000
/* QUALITY DATA ELEMENTS */
DATA_QUALITY_ID = 1
DATA_QUALITY_DESC = "Data calculated based on original SPICE kernels"
/* TIME DATA ELEMENTS */
SPACECRAFT_CLOCK_START_COUNT = "1/0462712590.09033"
SPACECRAFT_CLOCK_STOP_COUNT = "1/0462712892.33950"
START_TIME = 2017-12-30T11:17:16.684Z
STOP_TIME = 2017-12-30T11:19:57.281Z
/* ORBITAL DATA ELEMENTS */
ASCENDING_NODE_LONGITUDE = 241.51
MAXIMUM_RESOLUTION = 0.054
FOOTPRINT_POINT_LATITUDE = (54.986,54.983,54.9789,54.9738,54.9666, 54.9568,54.9493,54.9304,54.9134,54.8981 ,54.8815,54.8562,54.8362,54.8336, 54.7498,54.5781,54.4079,54.2374,54.0684 ,53.8149,53.6471,53.479,53.3125,53.0629 ,52.8972,52.7313,52.4854,52.3212, 52.0769,51.9137,51.5905,51.2658,51.1028 ,50.9397,50.7763,50.53,50.3655,50.2007, 50.0354,49.8725,49.5808,49.2881,48.9941 ,48.6992,48.403,48.1058,47.8821,47.5837 ,47.2881,46.9204,46.8472,46.829,46.8393 ,46.8534,46.8694,46.8779,46.8872, 46.8947,46.8986,46.903,46.9049,46.905, 46.9058,47.2752,47.7225,48.0985,48.4733 ,48.772,49.0699,49.366,49.6614,49.956, 50.2014,50.368,50.5343,50.7003,50.8659, 51.0313,51.1964,51.3613,51.5257,51.6894 ,51.853,52.0163,52.181,52.4281,52.5939, 52.8426,53.0103,53.2615,53.4305,53.5993 ,53.7691,53.9391,54.196,54.3672,54.6289 ,54.9754,55.0628,54.986)
FOOTPRINT_POINT_LONGITUDE = (359.897,359.563,359.229,358.896, 358.516,358.088,357.803,357.186,356.712 ,356.334,355.955,355.434,355.055, 355.008,354.941,354.979,355.015,355.051 ,355.087,355.139,355.173,355.206, 355.239,355.288,355.319,355.35,355.396, 355.426,355.47,355.499,355.555,355.61, 355.638,355.665,355.691,355.731,355.757 ,355.782,355.808,355.832,355.876, 355.919,355.961,356.002,356.043,356.083 ,356.112,356.151,356.188,356.233, 356.242,356.244,356.504,356.896,357.418 ,357.744,358.136,358.56,358.855,359.279 ,359.574,359.607,359.619,359.632, 359.648,359.663,359.677,359.688,359.7, 359.712,359.724,359.735,359.746,359.753 ,359.76,359.767,359.774,359.781,359.788 ,359.795,359.802,359.809,359.817, 359.824,359.831,359.843,359.85,359.862, 359.87,359.882,359.89,359.898,359.906, 359.915,359.927,359.936,359.792,359.807 ,359.811,359.897)
ORBIT_NUMBER = 17716
ORBITAL_ECCENTRICITY = 0.577
ORBITAL_INCLINATION = 86.94
ORBITAL_SEMIMAJOR_AXIS = 8853.49
PERIAPSIS_ALTITUDE = 353.15
PERIAPSIS_ARGUMENT_ANGLE = 167.02
PERIAPSIS_TIME = 2017-12-30T11:29:49.000Z
SPACECRAFT_ORIENTATION = (0.0,-1.0,0.0)
^MEX_ORIENTATION_DESC = "MEX_ORIENTATION_DESC.TXT"
SPACECRAFT_POINTING_MODE = NADIR
^MEX_POINTING_DESC = "MEX_POINTING_DESC.TXT"
RIGHT_ASCENSION = -1e+32
DECLINATION = -1e+32
OFFSET_ANGLE = -1e+32
SPACECRAFT_SOLAR_DISTANCE = 2.44181e+08
TARGET_NAME = MARS
/* CAMERA DATA ELEMENTS */
DETECTOR_TEMPERATURE = 17.5549
FOCAL_PLANE_TEMPERATURE = 7.9716
INST_CMPRS_NAME = "DISCRETE COSINE TRANSFORMATION (DCT)"
INST_CMPRS_RATIO = 10.9744
INST_CMPRS_QUALITY = 0
INST_CMPRS_QUANTZ_TBL_ID = 0
INSTRUMENT_TEMPERATURE = 11.0301
LENS_TEMPERATURE = 7.9716
MACROPIXEL_SIZE = 2
MISSING_FRAMES = 0
PIXEL_SUBSAMPLING_FLAG = N
SIGNAL_CHAIN_ID = 3
/* RADIOMETRIC DATA ELEMENTS */
BANDWIDTH = 174.0
CENTER_FILTER_WAVELENGTH = 675.0
RADIANCE_OFFSET = 1.40661
RADIANCE_SCALING_FACTOR = 0.0118882
REFLECTANCE_SCALING_FACTOR = 0.000381267
MEX:REFLECTANCE_OFFSET = 0.0451115
/* IMAGE OBJECT DEFINITIONS */
OBJECT = IMAGE
  INTERCHANGE_FORMAT = BINARY
  LINES = 9564
  LINE_SAMPLES = 3182
  SAMPLE_TYPE = UNSIGNED_INTEGER
  SAMPLE_BITS = 8
  BANDS = 1
  BAND_STORAGE_TYPE = BAND_SEQUENTIAL
  MAXIMUM = 255
  MEAN = 90.7294
  MINIMUM = 1
  STANDARD_DEVIATION = 35.9144
END_OBJECT = IMAGE
/* MAP OBJECT DEFINITIONS */
OBJECT = IMAGE_MAP_PROJECTION
  ^DATA_SET_MAP_PROJECTION_CATALOG= "DSMAP.CAT"
  A_AXIS_RADIUS = 3396.0
  B_AXIS_RADIUS = 3396.0
  C_AXIS_RADIUS = 3396.0
  CENTER_LATITUDE = 0.0
  CENTER_LONGITUDE = 358.0
  COORDINATE_SYSTEM_NAME = PLANETOGRAPHIC
  COORDINATE_SYSTEM_TYPE = "BODY-FIXED ROTATING"
  EASTERNMOST_LONGITUDE = 359.936
  FIRST_STANDARD_PARALLEL = "N/A"
  LINE_FIRST_PIXEL = 1
  LINE_LAST_PIXEL = 9564
  LINE_PROJECTION_OFFSET = 65097.75
  MAP_PROJECTION_ROTATION = 0.0
  MAP_PROJECTION_TYPE = SINUSOIDAL
  MAP_RESOLUTION = 1185.42760773333
  MAP_SCALE = 0.05
  MAXIMUM_LATITUDE = 55.0628
  MINIMUM_LATITUDE = 46.829
  POSITIVE_LONGITUDE_DIRECTION = EAST
  REFERENCE_LATITUDE = "N/A"
  REFERENCE_LONGITUDE = "N/A"
  SAMPLE_FIRST_PIXEL = 1
  SAMPLE_LAST_PIXEL = 3182
  SAMPLE_PROJECTION_OFFSET = 1965.25
  SECOND_STANDARD_PARALLEL = "N/A"
  WESTERNMOST_LONGITUDE = 354.941
END_OBJECT = IMAGE_MAP_PROJECTION
END
