PDS_VERSION_ID = PDS3
/* FILE DATA ELEMENTS */
RECORD_TYPE = UNDEFINED
/* POINTERS TO DATA OBJECTS */
^IMAGE = ("HH717_0000_P24.TIF")
/* IDENTIFICATION DATA ELEMENTS */
DATA_SET_ID = "MEX-M-HRSC-4-REFDR-MAPPROJECT-EXT6-V4.0"
DATA_SET_NAME = "MARS EXPRESS HRSC MAP PROJECTED REFDR EXTENSION6 V4.0"
DETECTOR_ID = MEX_HRSC_P2
EVENT_TYPE = "MARS-REGIONAL-STEREO-Vo-Te"
INSTRUMENT_HOST_ID = MEX
INSTRUMENT_HOST_NAME = "MARS EXPRESS"
INSTRUMENT_ID = HRSC
INSTRUMENT_NAME = "HIGH RESOLUTION STEREO CAMERA"
MISSION_NAME = "MARS EXPRESS"
MISSION_PHASE_NAME = ME_Phase_37
PROCESSING_LEVEL_ID = 4
PRODUCT_CREATION_TIME = 2023-01-28T19:29:54.000Z
PRODUCT_ID = "HH717_0000_P24.TIF"
RELEASE_ID = 0003
REVISION_ID = 0000
/* QUALITY DATA ELEMENTS */
DATA_QUALITY_ID = 1
DATA_QUALITY_DESC = "Data calculated based on original SPICE kernels"
/* TIME DATA ELEMENTS */
SPACECRAFT_CLOCK_START_COUNT = "1/0462738218.09037"
SPACECRAFT_CLOCK_STOP_COUNT = "1/0462738431.50502"
START_TIME = 2017-12-30T18:24:57.232Z
STOP_TIME = 2017-12-30T18:27:07.229Z
/* ORBITAL DATA ELEMENTS */
ASCENDING_NODE_LONGITUDE = 241.49
MAXIMUM_RESOLUTION = 0.0306
FOOTPRINT_POINT_LATITUDE = (32.6422,32.6416,32.64,32.6369,32.6348, 32.6318,32.6317,32.6428,32.4685,32.2937 ,32.1208,31.9502,31.6946,31.5239, 31.3534,31.0975,30.9267,30.7571,30.5075 ,30.1746,29.8412,29.5912,29.4244, 29.2576,29.0906,28.9237,28.7567,28.5063 ,28.3393,28.1722,27.9216,27.6707, 27.5035,27.3363,27.0854,26.9182,26.7506 ,26.5829,26.4155,26.2482,26.0806, 25.7453,25.4942,25.3268,25.0755,24.8239 ,24.4885,24.3207,24.2368,24.2109, 24.2114,24.2117,24.2115,24.211,24.2131, 24.2121,24.2126,24.4647,24.7149,24.8833 ,25.0502,25.2181,25.386,25.6391,25.8897 ,26.0574,26.3089,26.4767,26.6445, 26.8123,26.9799,27.147,27.3145,27.566, 27.7338,27.9013,28.0687,28.2358,28.4029 ,28.6537,28.9882,29.1562,29.4889, 29.6559,29.8228,30.073,30.4063,30.7399, 30.9092,31.0802,31.251,31.4218,31.5927, 31.7635,31.9344,32.1052,32.3657,32.5408 ,32.6283,32.6422)
FOOTPRINT_POINT_LONGITUDE = (256.805,256.551,256.179,255.672, 255.402,255.08,255.063,255.052,255.058, 255.064,255.07,255.076,255.084,255.09, 255.095,255.103,255.109,255.114,255.121 ,255.131,255.141,255.148,255.152, 255.157,255.161,255.165,255.17,255.176, 255.18,255.184,255.19,255.195,255.199, 255.203,255.208,255.211,255.215,255.218 ,255.222,255.225,255.228,255.234, 255.239,255.241,255.246,255.25,255.255, 255.258,255.259,255.259,255.508,255.812 ,256.033,256.434,256.67,256.683,256.688 ,256.692,256.694,256.697,256.699, 256.701,256.703,256.707,256.71,256.713, 256.716,256.719,256.721,256.723,256.726 ,256.728,256.73,256.734,256.737,256.739 ,256.742,256.744,256.746,256.75,256.755 ,256.758,256.762,256.765,256.767, 256.771,256.776,256.781,256.784,256.787 ,256.789,256.792,256.794,256.797,256.8, 256.803,256.807,256.81,256.811,256.805)
ORBIT_NUMBER = 17717
ORBITAL_ECCENTRICITY = 0.577
ORBITAL_INCLINATION = 86.94
ORBITAL_SEMIMAJOR_AXIS = 8868.89
PERIAPSIS_ALTITUDE = 352.53
PERIAPSIS_ARGUMENT_ANGLE = 166.87
PERIAPSIS_TIME = 2017-12-30T18:29:37.000Z
SPACECRAFT_ORIENTATION = (0.0,-1.0,0.0)
^MEX_ORIENTATION_DESC = "MEX_ORIENTATION_DESC.TXT"
SPACECRAFT_POINTING_MODE = NADIR
^MEX_POINTING_DESC = "MEX_POINTING_DESC.TXT"
RIGHT_ASCENSION = -1e+32
DECLINATION = -1e+32
OFFSET_ANGLE = -1e+32
SPACECRAFT_SOLAR_DISTANCE = 2.44147e+08
TARGET_NAME = MARS
/* CAMERA DATA ELEMENTS */
DETECTOR_TEMPERATURE = 18.9822
FOCAL_PLANE_TEMPERATURE = 9.3989
INST_CMPRS_NAME = "DISCRETE COSINE TRANSFORMATION (DCT)"
INST_CMPRS_RATIO = 6.02502
INST_CMPRS_QUALITY = 0
INST_CMPRS_QUANTZ_TBL_ID = 0
INSTRUMENT_TEMPERATURE = 12.4574
LENS_TEMPERATURE = 9.6028
MACROPIXEL_SIZE = 2
MISSING_FRAMES = 0
PIXEL_SUBSAMPLING_FLAG = N
SIGNAL_CHAIN_ID = 3
/* RADIOMETRIC DATA ELEMENTS */
BANDWIDTH = 177.0
CENTER_FILTER_WAVELENGTH = 676.5
RADIANCE_OFFSET = 1.11385
RADIANCE_SCALING_FACTOR = 0.0215905
REFLECTANCE_SCALING_FACTOR = 0.00068238
MEX:REFLECTANCE_OFFSET = 0.0352037
/* IMAGE OBJECT DEFINITIONS */
OBJECT = IMAGE
  INTERCHANGE_FORMAT = BINARY
  LINES = 20061
  LINE_SAMPLES = 3608
  SAMPLE_TYPE = UNSIGNED_INTEGER
  SAMPLE_BITS = 8
  BANDS = 1
  BAND_STORAGE_TYPE = BAND_SEQUENTIAL
  MAXIMUM = 255
  MEAN = 72.8967
  MINIMUM = 1
  STANDARD_DEVIATION = 14.8857
END_OBJECT = IMAGE
/* MAP OBJECT DEFINITIONS */
OBJECT = IMAGE_MAP_PROJECTION
  ^DATA_SET_MAP_PROJECTION_CATALOG= "DSMAP.CAT"
  A_AXIS_RADIUS = 3396.0
  B_AXIS_RADIUS = 3396.0
  C_AXIS_RADIUS = 3396.0
  CENTER_LATITUDE = 0.0
  CENTER_LONGITUDE = 256.0
  COORDINATE_SYSTEM_NAME = PLANETOGRAPHIC
  COORDINATE_SYSTEM_TYPE = "BODY-FIXED ROTATING"
  EASTERNMOST_LONGITUDE = 256.811
  FIRST_STANDARD_PARALLEL = "N/A"
  LINE_FIRST_PIXEL = 1
  LINE_LAST_PIXEL = 20061
  LINE_PROJECTION_OFFSET = 77475.25
  MAP_PROJECTION_ROTATION = 0.0
  MAP_PROJECTION_TYPE = SINUSOIDAL
  MAP_RESOLUTION = 2370.85521546667
  MAP_SCALE = 0.025
  MAXIMUM_LATITUDE = 32.6428
  MINIMUM_LATITUDE = 24.2109
  POSITIVE_LONGITUDE_DIRECTION = EAST
  REFERENCE_LATITUDE = "N/A"
  REFERENCE_LONGITUDE = "N/A"
  SAMPLE_FIRST_PIXEL = 1
  SAMPLE_LAST_PIXEL = 3608
  SAMPLE_PROJECTION_OFFSET = 1940.75
  SECOND_STANDARD_PARALLEL = "N/A"
  WESTERNMOST_LONGITUDE = 255.052
END_OBJECT = IMAGE_MAP_PROJECTION
END
