PDS_VERSION_ID = PDS3
/* FILE DATA ELEMENTS */
RECORD_TYPE = UNDEFINED
/* POINTERS TO DATA OBJECTS */
^IMAGE = ("HH718_0000_S14.TIF")
/* IDENTIFICATION DATA ELEMENTS */
DATA_SET_ID = "MEX-M-HRSC-4-REFDR-MAPPROJECT-EXT6-V4.0"
DATA_SET_NAME = "MARS EXPRESS HRSC MAP PROJECTED REFDR EXTENSION6 V4.0"
DETECTOR_ID = MEX_HRSC_S1
EVENT_TYPE = "MARS-REGIONAL-MAPPING-Vo-Pf-Mw"
INSTRUMENT_HOST_ID = MEX
INSTRUMENT_HOST_NAME = "MARS EXPRESS"
INSTRUMENT_ID = HRSC
INSTRUMENT_NAME = "HIGH RESOLUTION STEREO CAMERA"
MISSION_NAME = "MARS EXPRESS"
MISSION_PHASE_NAME = ME_Phase_37
PROCESSING_LEVEL_ID = 4
PRODUCT_CREATION_TIME = 2023-01-28T19:29:54.000Z
PRODUCT_ID = "HH718_0000_S14.TIF"
RELEASE_ID = 0003
REVISION_ID = 0000
/* QUALITY DATA ELEMENTS */
DATA_QUALITY_ID = 1
DATA_QUALITY_DESC = "Data calculated based on original SPICE kernels"
/* TIME DATA ELEMENTS */
SPACECRAFT_CLOCK_START_COUNT = "1/0462763270.09079"
SPACECRAFT_CLOCK_STOP_COUNT = "1/0462763508.50164"
START_TIME = 2017-12-31T01:21:19.195Z
STOP_TIME = 2017-12-31T01:23:54.986Z
/* ORBITAL DATA ELEMENTS */
ASCENDING_NODE_LONGITUDE = 241.46
MAXIMUM_RESOLUTION = 0.0386
FOOTPRINT_POINT_LATITUDE = (40.3524,40.3511,40.3496,40.3455, 40.3415,40.3341,40.3235,40.3113,40.3105 ,40.2317,40.0432,39.7641,39.578,39.392, 39.2082,38.932,38.7479,38.5666,38.3851, 38.2032,38.0224,37.8435,37.6641,37.4846 ,37.3062,37.1297,36.953,36.7757,36.5991 ,36.425,36.2506,36.0759,35.8148,35.5569 ,35.3846,35.2121,35.0405,34.8711, 34.7013,34.532,34.3627,34.0274,33.7774, 33.4437,33.1961,32.7858,32.4566,32.1346 ,31.8922,31.6497,31.5684,31.5277, 31.5322,31.5375,31.5403,31.5426,31.5428 ,31.5424,31.5424,31.5429,31.787,32.1116 ,32.4354,32.7653,33.1772,33.5085, 33.8437,34.1773,34.6007,34.7707,34.9404 ,35.11,35.2829,35.5422,35.7144,35.8866, 36.0614,36.2367,36.4115,36.5861,36.8515 ,37.0291,37.2065,37.3836,37.5632, 37.7432,37.9231,38.1026,38.3762,38.5588 ,38.7407,38.9247,39.1096,39.2942, 39.4786,39.6661,39.8533,40.1337,40.2287 ,40.3524)
FOOTPRINT_POINT_LONGITUDE = (154.764,154.395,154.174,153.781, 153.511,153.119,152.677,152.26,152.235, 152.2,152.215,152.236,152.25,152.263, 152.276,152.296,152.309,152.321,152.333 ,152.345,152.357,152.369,152.38,152.392 ,152.403,152.414,152.425,152.435, 152.446,152.456,152.466,152.476,152.49, 152.504,152.513,152.522,152.531,152.54, 152.549,152.557,152.566,152.582,152.594 ,152.61,152.622,152.64,152.654,152.668, 152.678,152.688,152.691,152.693,152.982 ,153.361,153.632,154.012,154.301, 154.536,154.554,154.561,154.566,154.574 ,154.582,154.589,154.599,154.608, 154.616,154.625,154.635,154.64,154.644, 154.648,154.653,154.66,154.664,154.669, 154.673,154.678,154.683,154.688,154.695 ,154.7,154.705,154.71,154.715,154.72, 154.725,154.73,154.738,154.743,154.749, 154.754,154.76,154.765,154.771,154.777, 154.782,154.791,154.794,154.764)
ORBIT_NUMBER = 17718
ORBITAL_ECCENTRICITY = 0.577
ORBITAL_INCLINATION = 86.95
ORBITAL_SEMIMAJOR_AXIS = 8852.29
PERIAPSIS_ALTITUDE = 353.42
PERIAPSIS_ARGUMENT_ANGLE = 166.73
PERIAPSIS_TIME = 2017-12-31T01:29:24.000Z
SPACECRAFT_ORIENTATION = (0.0,-1.0,0.0)
^MEX_ORIENTATION_DESC = "MEX_ORIENTATION_DESC.TXT"
SPACECRAFT_POINTING_MODE = NADIR
^MEX_POINTING_DESC = "MEX_POINTING_DESC.TXT"
RIGHT_ASCENSION = -1e+32
DECLINATION = -1e+32
OFFSET_ANGLE = -1e+32
SPACECRAFT_SOLAR_DISTANCE = 2.44112e+08
TARGET_NAME = MARS
/* CAMERA DATA ELEMENTS */
DETECTOR_TEMPERATURE = 17.1471
FOCAL_PLANE_TEMPERATURE = 7.7677
INST_CMPRS_NAME = "DISCRETE COSINE TRANSFORMATION (DCT)"
INST_CMPRS_RATIO = 6.2579
INST_CMPRS_QUALITY = 0
INST_CMPRS_QUANTZ_TBL_ID = 0
INSTRUMENT_TEMPERATURE = 11.0301
LENS_TEMPERATURE = 8.1755
MACROPIXEL_SIZE = 2
MISSING_FRAMES = 0
PIXEL_SUBSAMPLING_FLAG = N
SIGNAL_CHAIN_ID = 1
/* RADIOMETRIC DATA ELEMENTS */
BANDWIDTH = 180.0
CENTER_FILTER_WAVELENGTH = 677.0
RADIANCE_OFFSET = 1.82192
RADIANCE_SCALING_FACTOR = 0.0160299
REFLECTANCE_SCALING_FACTOR = 0.000498375
MEX:REFLECTANCE_OFFSET = 0.0566438
/* IMAGE OBJECT DEFINITIONS */
OBJECT = IMAGE
  INTERCHANGE_FORMAT = BINARY
  LINES = 20762
  LINE_SAMPLES = 4321
  SAMPLE_TYPE = UNSIGNED_INTEGER
  SAMPLE_BITS = 8
  BANDS = 1
  BAND_STORAGE_TYPE = BAND_SEQUENTIAL
  MAXIMUM = 255
  MEAN = 100.265
  MINIMUM = 1
  STANDARD_DEVIATION = 17.4007
END_OBJECT = IMAGE
/* MAP OBJECT DEFINITIONS */
OBJECT = IMAGE_MAP_PROJECTION
  ^DATA_SET_MAP_PROJECTION_CATALOG= "DSMAP.CAT"
  A_AXIS_RADIUS = 3396.0
  B_AXIS_RADIUS = 3396.0
  C_AXIS_RADIUS = 3396.0
  CENTER_LATITUDE = 0.0
  CENTER_LONGITUDE = 154.0
  COORDINATE_SYSTEM_NAME = PLANETOGRAPHIC
  COORDINATE_SYSTEM_TYPE = "BODY-FIXED ROTATING"
  EASTERNMOST_LONGITUDE = 154.794
  FIRST_STANDARD_PARALLEL = "N/A"
  LINE_FIRST_PIXEL = 1
  LINE_LAST_PIXEL = 20762
  LINE_PROJECTION_OFFSET = 95525.75
  MAP_PROJECTION_ROTATION = 0.0
  MAP_PROJECTION_TYPE = SINUSOIDAL
  MAP_RESOLUTION = 2370.85521546667
  MAP_SCALE = 0.025
  MAXIMUM_LATITUDE = 40.3524
  MINIMUM_LATITUDE = 31.5277
  POSITIVE_LONGITUDE_DIRECTION = EAST
  REFERENCE_LATITUDE = "N/A"
  REFERENCE_LONGITUDE = "N/A"
  SAMPLE_FIRST_PIXEL = 1
  SAMPLE_LAST_PIXEL = 4321
  SAMPLE_PROJECTION_OFFSET = 3088.25
  SECOND_STANDARD_PARALLEL = "N/A"
  WESTERNMOST_LONGITUDE = 152.2
END_OBJECT = IMAGE_MAP_PROJECTION
END
