PDS_VERSION_ID = PDS3
/* FILE DATA ELEMENTS */
RECORD_TYPE = UNDEFINED
/* POINTERS TO DATA OBJECTS */
^IMAGE = ("HH721_0009_S14.TIF")
/* IDENTIFICATION DATA ELEMENTS */
DATA_SET_ID = "MEX-M-HRSC-4-REFDR-MAPPROJECT-EXT6-V4.0"
DATA_SET_NAME = "MARS EXPRESS HRSC MAP PROJECTED REFDR EXTENSION6 V4.0"
DETECTOR_ID = MEX_HRSC_S1
EVENT_TYPE = "MARS-REGIONAL-VARIABLE-Pf-Eo-At"
INSTRUMENT_HOST_ID = MEX
INSTRUMENT_HOST_NAME = "MARS EXPRESS"
INSTRUMENT_ID = HRSC
INSTRUMENT_NAME = "HIGH RESOLUTION STEREO CAMERA"
MISSION_NAME = "MARS EXPRESS"
MISSION_PHASE_NAME = ME_Phase_37
PROCESSING_LEVEL_ID = 4
PRODUCT_CREATION_TIME = 2023-01-28T19:29:54.000Z
PRODUCT_ID = "HH721_0009_S14.TIF"
RELEASE_ID = 0003
REVISION_ID = 0000
/* QUALITY DATA ELEMENTS */
DATA_QUALITY_ID = 1
DATA_QUALITY_DESC = "Data calculated based on original SPICE kernels"
/* TIME DATA ELEMENTS */
SPACECRAFT_CLOCK_START_COUNT = "1/0462838817.07352"
SPACECRAFT_CLOCK_STOP_COUNT = "1/0462839085.62167"
START_TIME = 2017-12-31T22:20:26.116Z
STOP_TIME = 2017-12-31T22:23:35.974Z
/* ORBITAL DATA ELEMENTS */
ASCENDING_NODE_LONGITUDE = 241.41
MAXIMUM_RESOLUTION = 0.0369
FOOTPRINT_POINT_LATITUDE = (40.7077,40.7049,40.7007,40.6967, 40.6893,40.6786,40.6664,40.6656,40.5839 ,40.3489,40.1136,39.8792,39.6469, 39.4141,39.0685,38.8387,38.6086,38.3825 ,38.1558,37.8164,37.5933,37.3695, 37.1455,36.9255,36.5946,36.3738,36.1567 ,35.9394,35.7215,35.5052,35.2912, 35.0768,34.862,34.5438,34.3328,34.1213, 33.8052,33.5977,33.3897,33.1813,32.8701 ,32.461,32.256,31.9486,31.5463,31.1427, 30.5446,29.9488,29.8492,29.8482,29.8535 ,29.8566,29.8587,29.8601,29.8598, 29.8598,29.8602,30.2588,30.7552,31.0548 ,31.4598,31.8633,32.1692,32.3749, 32.5802,32.785,32.9902,33.199,33.4079, 33.6166,33.825,34.1416,34.3536,34.5653, 34.7766,34.9925,35.3154,35.5298,35.7466 ,35.965,36.1832,36.4008,36.6225,36.9546 ,37.1754,37.4001,37.6247,37.8487, 38.0755,38.3031,38.5302,38.8746,39.105, 39.4522,39.6858,39.9187,40.2726,40.5088 ,40.6268,40.7077)
FOOTPRINT_POINT_LONGITUDE = (207.882,207.293,206.9,206.63,206.238, 205.796,205.379,205.355,205.319,205.337 ,205.354,205.372,205.389,205.405,205.43 ,205.445,205.461,205.476,205.491, 205.512,205.526,205.54,205.553,205.566, 205.586,205.598,205.61,205.622,205.634, 205.645,205.656,205.667,205.678,205.694 ,205.704,205.714,205.729,205.738, 205.747,205.757,205.77,205.787,205.795, 205.807,205.823,205.838,205.859,205.879 ,205.882,205.882,206.24,206.513,206.768 ,207.092,207.62,207.637,207.643,207.652 ,207.662,207.669,207.677,207.686, 207.693,207.698,207.702,207.707,207.712 ,207.717,207.722,207.726,207.731, 207.739,207.744,207.749,207.754,207.76, 207.767,207.773,207.779,207.784,207.79, 207.795,207.801,207.81,207.816,207.822, 207.828,207.834,207.84,207.847,207.853, 207.863,207.87,207.88,207.887,207.894, 207.904,207.912,207.915,207.882)
ORBIT_NUMBER = 17721
ORBITAL_ECCENTRICITY = 0.577
ORBITAL_INCLINATION = 86.96
ORBITAL_SEMIMAJOR_AXIS = 8852.99
PERIAPSIS_ALTITUDE = 353.29
PERIAPSIS_ARGUMENT_ANGLE = 166.17
PERIAPSIS_TIME = 2017-12-31T22:28:27.000Z
SPACECRAFT_ORIENTATION = (0.0,-1.0,0.0)
^MEX_ORIENTATION_DESC = "MEX_ORIENTATION_DESC.TXT"
SPACECRAFT_POINTING_MODE = NADIR
^MEX_POINTING_DESC = "MEX_POINTING_DESC.TXT"
RIGHT_ASCENSION = -1e+32
DECLINATION = -1e+32
OFFSET_ANGLE = -1e+32
SPACECRAFT_SOLAR_DISTANCE = 2.44008e+08
TARGET_NAME = MARS
/* CAMERA DATA ELEMENTS */
DETECTOR_TEMPERATURE = 17.7588
FOCAL_PLANE_TEMPERATURE = 7.7677
INST_CMPRS_NAME = "DISCRETE COSINE TRANSFORMATION (DCT)"
INST_CMPRS_RATIO = 6.35409
INST_CMPRS_QUALITY = 0
INST_CMPRS_QUANTZ_TBL_ID = 0
INSTRUMENT_TEMPERATURE = 11.4379
LENS_TEMPERATURE = 8.5833
MACROPIXEL_SIZE = 2
MISSING_FRAMES = 0
PIXEL_SUBSAMPLING_FLAG = N
SIGNAL_CHAIN_ID = 1
/* RADIOMETRIC DATA ELEMENTS */
BANDWIDTH = 180.0
CENTER_FILTER_WAVELENGTH = 677.0
RADIANCE_OFFSET = 2.4993
RADIANCE_SCALING_FACTOR = 0.010534
REFLECTANCE_SCALING_FACTOR = 0.000327224
MEX:REFLECTANCE_OFFSET = 0.0776375
/* IMAGE OBJECT DEFINITIONS */
OBJECT = IMAGE
  INTERCHANGE_FORMAT = BINARY
  LINES = 25541
  LINE_SAMPLES = 4303
  SAMPLE_TYPE = UNSIGNED_INTEGER
  SAMPLE_BITS = 8
  BANDS = 1
  BAND_STORAGE_TYPE = BAND_SEQUENTIAL
  MAXIMUM = 255
  MEAN = 98.2975
  MINIMUM = 1
  STANDARD_DEVIATION = 22.5881
END_OBJECT = IMAGE
/* MAP OBJECT DEFINITIONS */
OBJECT = IMAGE_MAP_PROJECTION
  ^DATA_SET_MAP_PROJECTION_CATALOG= "DSMAP.CAT"
  A_AXIS_RADIUS = 3396.0
  B_AXIS_RADIUS = 3396.0
  C_AXIS_RADIUS = 3396.0
  CENTER_LATITUDE = 0.0
  CENTER_LONGITUDE = 207.0
  COORDINATE_SYSTEM_NAME = PLANETOGRAPHIC
  COORDINATE_SYSTEM_TYPE = "BODY-FIXED ROTATING"
  EASTERNMOST_LONGITUDE = 207.915
  FIRST_STANDARD_PARALLEL = "N/A"
  LINE_FIRST_PIXEL = 1
  LINE_LAST_PIXEL = 25541
  LINE_PROJECTION_OFFSET = 96342.75
  MAP_PROJECTION_ROTATION = 0.0
  MAP_PROJECTION_TYPE = SINUSOIDAL
  MAP_RESOLUTION = 2370.85521546667
  MAP_SCALE = 0.025
  MAXIMUM_LATITUDE = 40.7077
  MINIMUM_LATITUDE = 29.8482
  POSITIVE_LONGITUDE_DIRECTION = EAST
  REFERENCE_LATITUDE = "N/A"
  REFERENCE_LONGITUDE = "N/A"
  SAMPLE_FIRST_PIXEL = 1
  SAMPLE_LAST_PIXEL = 4303
  SAMPLE_PROJECTION_OFFSET = 2860.25
  SECOND_STANDARD_PARALLEL = "N/A"
  WESTERNMOST_LONGITUDE = 205.319
END_OBJECT = IMAGE_MAP_PROJECTION
END
