PDS_VERSION_ID = PDS3
/* FILE DATA ELEMENTS */
RECORD_TYPE = UNDEFINED
/* POINTERS TO DATA OBJECTS */
^IMAGE = ("HH721_0009_S24.TIF")
/* IDENTIFICATION DATA ELEMENTS */
DATA_SET_ID = "MEX-M-HRSC-4-REFDR-MAPPROJECT-EXT6-V4.0"
DATA_SET_NAME = "MARS EXPRESS HRSC MAP PROJECTED REFDR EXTENSION6 V4.0"
DETECTOR_ID = MEX_HRSC_S2
EVENT_TYPE = "MARS-REGIONAL-VARIABLE-Pf-Eo-At"
INSTRUMENT_HOST_ID = MEX
INSTRUMENT_HOST_NAME = "MARS EXPRESS"
INSTRUMENT_ID = HRSC
INSTRUMENT_NAME = "HIGH RESOLUTION STEREO CAMERA"
MISSION_NAME = "MARS EXPRESS"
MISSION_PHASE_NAME = ME_Phase_37
PROCESSING_LEVEL_ID = 4
PRODUCT_CREATION_TIME = 2023-01-28T19:29:54.000Z
PRODUCT_ID = "HH721_0009_S24.TIF"
RELEASE_ID = 0003
REVISION_ID = 0000
/* QUALITY DATA ELEMENTS */
DATA_QUALITY_ID = 1
DATA_QUALITY_DESC = "Data calculated based on original SPICE kernels"
/* TIME DATA ELEMENTS */
SPACECRAFT_CLOCK_START_COUNT = "1/0462838817.07352"
SPACECRAFT_CLOCK_STOP_COUNT = "1/0462839085.62167"
START_TIME = 2017-12-31T22:22:08.478Z
STOP_TIME = 2017-12-31T22:24:52.970Z
/* ORBITAL DATA ELEMENTS */
ASCENDING_NODE_LONGITUDE = 241.41
MAXIMUM_RESOLUTION = 0.0342
FOOTPRINT_POINT_LATITUDE = (40.5614,40.5578,40.5546,40.5478, 40.5433,40.5371,40.5368,40.6164,40.3783 ,40.0273,39.7933,39.5591,39.2126, 38.8689,38.6394,38.4098,38.1849,37.9606 ,37.7359,37.5113,37.287,37.0674,36.7378 ,36.4081,36.1882,35.9722,35.7576, 35.5426,35.2202,35.0052,34.7935,34.5838 ,34.3739,34.164,33.8489,33.6388,33.4336 ,33.2288,33.0239,32.7165,32.5113,32.204 ,31.8045,31.4047,30.9049,30.505,30.3049 ,30.0048,29.9048,29.8912,29.8932, 29.8944,29.895,29.8952,29.8952,29.8957, 30.1963,30.3965,30.6971,30.8973,31.1977 ,31.3978,31.598,31.9981,32.1982,32.403, 32.6086,32.814,33.1222,33.3275,33.5324, 33.7401,33.9504,34.161,34.3713,34.6867, 34.8968,35.1106,35.3262,35.5418,35.7572 ,35.9723,36.1883,36.4087,36.739,37.0691 ,37.2892,37.6264,37.8515,38.189,38.5292 ,38.7593,38.9893,39.2192,39.4488, 39.6836,40.0359,40.5066,40.6263, 40.5614)
FOOTPRINT_POINT_LONGITUDE = (207.713,207.222,206.881,206.285, 205.945,205.539,205.518,205.476,205.492 ,205.514,205.528,205.542,205.562, 205.582,205.595,205.608,205.62,205.632, 205.644,205.655,205.667,205.677,205.694 ,205.709,205.719,205.729,205.739, 205.748,205.762,205.771,205.78,205.789, 205.797,205.805,205.817,205.825,205.833 ,205.84,205.847,205.858,205.865,205.875 ,205.888,205.901,205.916,205.927, 205.933,205.941,205.943,205.944,206.417 ,206.922,207.301,207.554,207.57,207.576 ,207.58,207.583,207.587,207.59,207.594, 207.597,207.6,207.606,207.609,207.612, 207.615,207.618,207.623,207.626,207.629 ,207.633,207.636,207.639,207.642, 207.647,207.651,207.654,207.657,207.661 ,207.664,207.667,207.671,207.674,207.68 ,207.685,207.689,207.694,207.698, 207.703,207.709,207.713,207.716,207.72, 207.724,207.728,207.734,207.742,207.744 ,207.713)
ORBIT_NUMBER = 17721
ORBITAL_ECCENTRICITY = 0.577
ORBITAL_INCLINATION = 86.96
ORBITAL_SEMIMAJOR_AXIS = 8852.99
PERIAPSIS_ALTITUDE = 353.29
PERIAPSIS_ARGUMENT_ANGLE = 166.17
PERIAPSIS_TIME = 2017-12-31T22:28:27.000Z
SPACECRAFT_ORIENTATION = (0.0,-1.0,0.0)
^MEX_ORIENTATION_DESC = "MEX_ORIENTATION_DESC.TXT"
SPACECRAFT_POINTING_MODE = NADIR
^MEX_POINTING_DESC = "MEX_POINTING_DESC.TXT"
RIGHT_ASCENSION = -1e+32
DECLINATION = -1e+32
OFFSET_ANGLE = -1e+32
SPACECRAFT_SOLAR_DISTANCE = 2.44008e+08
TARGET_NAME = MARS
/* CAMERA DATA ELEMENTS */
DETECTOR_TEMPERATURE = 18.9822
FOCAL_PLANE_TEMPERATURE = 7.7677
INST_CMPRS_NAME = "DISCRETE COSINE TRANSFORMATION (DCT)"
INST_CMPRS_RATIO = 6.34674
INST_CMPRS_QUALITY = 0
INST_CMPRS_QUANTZ_TBL_ID = 0
INSTRUMENT_TEMPERATURE = 11.4379
LENS_TEMPERATURE = 8.5833
MACROPIXEL_SIZE = 2
MISSING_FRAMES = 0
PIXEL_SUBSAMPLING_FLAG = N
SIGNAL_CHAIN_ID = 1
/* RADIOMETRIC DATA ELEMENTS */
BANDWIDTH = 178.0
CENTER_FILTER_WAVELENGTH = 679.0
RADIANCE_OFFSET = 2.31043
RADIANCE_SCALING_FACTOR = 0.0110425
REFLECTANCE_SCALING_FACTOR = 0.000348185
MEX:REFLECTANCE_OFFSET = 0.0728509
/* IMAGE OBJECT DEFINITIONS */
OBJECT = IMAGE
  INTERCHANGE_FORMAT = BINARY
  LINES = 25541
  LINE_SAMPLES = 4303
  SAMPLE_TYPE = UNSIGNED_INTEGER
  SAMPLE_BITS = 8
  BANDS = 1
  BAND_STORAGE_TYPE = BAND_SEQUENTIAL
  MAXIMUM = 255
  MEAN = 102.291
  MINIMUM = 1
  STANDARD_DEVIATION = 24.5862
END_OBJECT = IMAGE
/* MAP OBJECT DEFINITIONS */
OBJECT = IMAGE_MAP_PROJECTION
  ^DATA_SET_MAP_PROJECTION_CATALOG= "DSMAP.CAT"
  A_AXIS_RADIUS = 3396.0
  B_AXIS_RADIUS = 3396.0
  C_AXIS_RADIUS = 3396.0
  CENTER_LATITUDE = 0.0
  CENTER_LONGITUDE = 207.0
  COORDINATE_SYSTEM_NAME = PLANETOGRAPHIC
  COORDINATE_SYSTEM_TYPE = "BODY-FIXED ROTATING"
  EASTERNMOST_LONGITUDE = 207.744
  FIRST_STANDARD_PARALLEL = "N/A"
  LINE_FIRST_PIXEL = 1
  LINE_LAST_PIXEL = 25541
  LINE_PROJECTION_OFFSET = 96342.75
  MAP_PROJECTION_ROTATION = 0.0
  MAP_PROJECTION_TYPE = SINUSOIDAL
  MAP_RESOLUTION = 2370.85521546667
  MAP_SCALE = 0.025
  MAXIMUM_LATITUDE = 40.6263
  MINIMUM_LATITUDE = 29.8912
  POSITIVE_LONGITUDE_DIRECTION = EAST
  REFERENCE_LATITUDE = "N/A"
  REFERENCE_LONGITUDE = "N/A"
  SAMPLE_FIRST_PIXEL = 1
  SAMPLE_LAST_PIXEL = 4303
  SAMPLE_PROJECTION_OFFSET = 2860.25
  SECOND_STANDARD_PARALLEL = "N/A"
  WESTERNMOST_LONGITUDE = 205.476
END_OBJECT = IMAGE_MAP_PROJECTION
END
