PDS_VERSION_ID = PDS3
/* FILE DATA ELEMENTS */
RECORD_TYPE = UNDEFINED
/* POINTERS TO DATA OBJECTS */
^IMAGE = ("HH722_0000_IR4.TIF")
/* IDENTIFICATION DATA ELEMENTS */
DATA_SET_ID = "MEX-M-HRSC-4-REFDR-MAPPROJECT-EXT6-V4.0"
DATA_SET_NAME = "MARS EXPRESS HRSC MAP PROJECTED REFDR EXTENSION6 V4.0"
DETECTOR_ID = MEX_HRSC_IR
EVENT_TYPE = "MARS-REGIONAL-STEREO-Vo-La-Ot"
INSTRUMENT_HOST_ID = MEX
INSTRUMENT_HOST_NAME = "MARS EXPRESS"
INSTRUMENT_ID = HRSC
INSTRUMENT_NAME = "HIGH RESOLUTION STEREO CAMERA"
MISSION_NAME = "MARS EXPRESS"
MISSION_PHASE_NAME = ME_Phase_38
PROCESSING_LEVEL_ID = 4
PRODUCT_CREATION_TIME = 2023-01-28T19:29:54.000Z
PRODUCT_ID = "HH722_0000_IR4.TIF"
RELEASE_ID = 0003
REVISION_ID = 0000
/* QUALITY DATA ELEMENTS */
DATA_QUALITY_ID = 1
DATA_QUALITY_DESC = "Data calculated based on original SPICE kernels"
/* TIME DATA ELEMENTS */
SPACECRAFT_CLOCK_START_COUNT = "1/0462864352.08264"
SPACECRAFT_CLOCK_STOP_COUNT = "1/0462864499.33686"
START_TIME = 2018-01-01T05:26:06.998Z
STOP_TIME = 2018-01-01T05:27:27.082Z
/* ORBITAL DATA ELEMENTS */
ASCENDING_NODE_LONGITUDE = 241.39
MAXIMUM_RESOLUTION = 0.1197
FOOTPRINT_POINT_LATITUDE = (20.3358,20.3264,20.3164,20.306,20.3005 ,20.2949,20.2892,20.2833,20.2773, 20.2711,20.2639,20.2631,20.2303,20.1147 ,19.9991,19.8835,19.768,19.6524,19.5366 ,19.4383,19.2927,19.0984,18.9525, 18.7579,18.5144,18.3201,18.0765,17.9303 ,17.735,17.6371,17.4903,17.3923,17.2455 ,17.099,16.9524,16.8544,16.7567,16.6588 ,16.5119,16.4139,16.3159,16.1688, 16.0707,15.9725,15.825,15.7267,15.6288, 15.5307,15.4319,15.3333,15.2354,15.1861 ,15.1368,15.1461,15.1559,15.1652, 15.1711,15.1812,15.1951,15.2036,15.2042 ,15.2063,15.3539,15.4525,15.6002, 15.6988,15.7973,15.9447,16.0431,16.1904 ,16.2887,16.3869,16.5339,16.632,16.7786 ,16.8764,16.9744,17.0726,17.2197, 17.3664,17.4642,17.5619,17.7085,17.8065 ,17.9532,18.1487,18.3926,18.5878, 18.7342,18.8804,19.0754,19.3187,19.5132 ,19.6118,19.7278,19.9016,20.0753, 20.1913,20.2492,20.3358)
FOOTPRINT_POINT_LONGITUDE = (104.067,103.865,103.66,103.452,103.348 ,103.243,103.137,103.03,102.923,102.815 ,102.693,102.68,102.643,102.645,102.647 ,102.649,102.651,102.653,102.655, 102.656,102.658,102.661,102.663,102.666 ,102.669,102.672,102.675,102.677, 102.679,102.68,102.682,102.683,102.684, 102.686,102.687,102.688,102.69,102.691, 102.692,102.693,102.694,102.695,102.696 ,102.697,102.698,102.699,102.7,102.701, 102.701,102.701,102.703,102.703,102.703 ,102.869,103.048,103.225,103.338, 103.537,103.831,104.012,104.024,104.032 ,104.033,104.033,104.034,104.035, 104.035,104.036,104.037,104.037,104.038 ,104.038,104.039,104.04,104.04,104.041, 104.041,104.042,104.043,104.044,104.044 ,104.045,104.045,104.046,104.047, 104.048,104.049,104.051,104.051,104.052 ,104.053,104.055,104.056,104.057, 104.057,104.058,104.059,104.06,104.061, 104.067)
ORBIT_NUMBER = 17722
ORBITAL_ECCENTRICITY = 0.577
ORBITAL_INCLINATION = 86.95
ORBITAL_SEMIMAJOR_AXIS = 8858.14
PERIAPSIS_ALTITUDE = 352.87
PERIAPSIS_ARGUMENT_ANGLE = 165.99
PERIAPSIS_TIME = 2018-01-01T05:28:12.000Z
SPACECRAFT_ORIENTATION = (0.0,-1.0,0.0)
^MEX_ORIENTATION_DESC = "MEX_ORIENTATION_DESC.TXT"
SPACECRAFT_POINTING_MODE = ACROSSTRACK
^MEX_POINTING_DESC = "MEX_POINTING_DESC.TXT"
RIGHT_ASCENSION = -1e+32
DECLINATION = -1e+32
OFFSET_ANGLE = -1.0
SPACECRAFT_SOLAR_DISTANCE = 2.43973e+08
TARGET_NAME = MARS
/* CAMERA DATA ELEMENTS */
DETECTOR_TEMPERATURE = 17.9627
FOCAL_PLANE_TEMPERATURE = 8.3794
INST_CMPRS_NAME = "DISCRETE COSINE TRANSFORMATION (DCT)"
INST_CMPRS_RATIO = 13.3633
INST_CMPRS_QUALITY = 0
INST_CMPRS_QUANTZ_TBL_ID = 0
INSTRUMENT_TEMPERATURE = 11.6418
LENS_TEMPERATURE = 8.5833
MACROPIXEL_SIZE = 8
MISSING_FRAMES = 0
PIXEL_SUBSAMPLING_FLAG = N
SIGNAL_CHAIN_ID = 2
/* RADIOMETRIC DATA ELEMENTS */
BANDWIDTH = 81.0
CENTER_FILTER_WAVELENGTH = 955.5
RADIANCE_OFFSET = 0.391829
RADIANCE_SCALING_FACTOR = 0.00143414
REFLECTANCE_SCALING_FACTOR = 0.000184165
MEX:REFLECTANCE_OFFSET = 0.0503165
/* IMAGE OBJECT DEFINITIONS */
OBJECT = IMAGE
  INTERCHANGE_FORMAT = BINARY
  LINES = 3028
  LINE_SAMPLES = 788
  SAMPLE_TYPE = UNSIGNED_INTEGER
  SAMPLE_BITS = 8
  BANDS = 1
  BAND_STORAGE_TYPE = BAND_SEQUENTIAL
  MAXIMUM = 255
  MEAN = 95.6815
  MINIMUM = 1
  STANDARD_DEVIATION = 25.0236
END_OBJECT = IMAGE
/* MAP OBJECT DEFINITIONS */
OBJECT = IMAGE_MAP_PROJECTION
  ^DATA_SET_MAP_PROJECTION_CATALOG= "DSMAP.CAT"
  A_AXIS_RADIUS = 3396.0
  B_AXIS_RADIUS = 3396.0
  C_AXIS_RADIUS = 3396.0
  CENTER_LATITUDE = 0.0
  CENTER_LONGITUDE = 103.0
  COORDINATE_SYSTEM_NAME = PLANETOGRAPHIC
  COORDINATE_SYSTEM_TYPE = "BODY-FIXED ROTATING"
  EASTERNMOST_LONGITUDE = 104.067
  FIRST_STANDARD_PARALLEL = "N/A"
  LINE_FIRST_PIXEL = 1
  LINE_LAST_PIXEL = 3028
  LINE_PROJECTION_OFFSET = 12026.3125
  MAP_PROJECTION_ROTATION = 0.0
  MAP_PROJECTION_TYPE = SINUSOIDAL
  MAP_RESOLUTION = 592.713803866667
  MAP_SCALE = 0.1
  MAXIMUM_LATITUDE = 20.3358
  MINIMUM_LATITUDE = 15.1368
  POSITIVE_LONGITUDE_DIRECTION = EAST
  REFERENCE_LATITUDE = "N/A"
  REFERENCE_LONGITUDE = "N/A"
  SAMPLE_FIRST_PIXEL = 1
  SAMPLE_LAST_PIXEL = 788
  SAMPLE_PROJECTION_OFFSET = 197.4375
  SECOND_STANDARD_PARALLEL = "N/A"
  WESTERNMOST_LONGITUDE = 102.643
END_OBJECT = IMAGE_MAP_PROJECTION
END
