PDS_VERSION_ID = PDS3
/* FILE DATA ELEMENTS */
RECORD_TYPE = UNDEFINED
/* POINTERS TO DATA OBJECTS */
^IMAGE = ("HH723_0000_P14.TIF")
/* IDENTIFICATION DATA ELEMENTS */
DATA_SET_ID = "MEX-M-HRSC-4-REFDR-MAPPROJECT-EXT6-V4.0"
DATA_SET_NAME = "MARS EXPRESS HRSC MAP PROJECTED REFDR EXTENSION6 V4.0"
DETECTOR_ID = MEX_HRSC_P1
EVENT_TYPE = "MARS-REGIONAL-MAPPING-Im-Gl-Mw"
INSTRUMENT_HOST_ID = MEX
INSTRUMENT_HOST_NAME = "MARS EXPRESS"
INSTRUMENT_ID = HRSC
INSTRUMENT_NAME = "HIGH RESOLUTION STEREO CAMERA"
MISSION_NAME = "MARS EXPRESS"
MISSION_PHASE_NAME = ME_Phase_38
PROCESSING_LEVEL_ID = 4
PRODUCT_CREATION_TIME = 2023-01-28T19:29:54.000Z
PRODUCT_ID = "HH723_0000_P14.TIF"
RELEASE_ID = 0003
REVISION_ID = 0000
/* QUALITY DATA ELEMENTS */
DATA_QUALITY_ID = 1
DATA_QUALITY_DESC = "Data calculated based on original SPICE kernels"
/* TIME DATA ELEMENTS */
SPACECRAFT_CLOCK_START_COUNT = "1/0462889174.09054"
SPACECRAFT_CLOCK_STOP_COUNT = "1/0462889458.65405"
START_TIME = 2018-01-01T12:20:03.654Z
STOP_TIME = 2018-01-01T12:23:23.671Z
/* ORBITAL DATA ELEMENTS */
ASCENDING_NODE_LONGITUDE = 241.38
MAXIMUM_RESOLUTION = 0.0349
FOOTPRINT_POINT_LATITUDE = (41.6654,41.6535,41.6462,41.6363, 41.6246,41.6038,41.6029,41.5476,41.1616 ,40.9055,40.6515,40.4,40.1477,39.7732, 39.5241,39.2742,38.906,38.6604,38.2963, 38.0543,37.6921,37.3345,37.0958,36.8581 ,36.6239,36.389,36.1542,35.8059,35.4541 ,35.2261,34.887,34.6603,34.4324,34.2044 ,33.9815,33.645,33.4208,33.1969,32.9771 ,32.7558,32.5378,32.3175,32.0979, 31.6655,31.3411,30.8031,30.3791,30.0602 ,29.9538,29.9124,29.9233,29.93,29.9343, 29.9395,29.9396,29.9399,30.4726,30.8959 ,31.329,31.5465,31.7637,31.9801,32.1963 ,32.4175,32.6385,32.8592,33.0785, 33.4135,33.6379,33.9743,34.1981,34.4261 ,34.6545,34.996,35.3397,35.5715,35.8036 ,36.0351,36.3883,36.6239,36.8594, 37.0972,37.3369,37.6958,38.0592,38.3019 ,38.5441,38.7899,39.036,39.2818,39.5312 ,39.7786,40.0281,40.2817,40.5357, 40.7892,41.0466,41.4322,41.5625, 41.6654)
FOOTPRINT_POINT_LONGITUDE = (2.90835,2.12697,1.78424,1.39231, 0.999836,0.408685,0.384016,0.337981, 0.370352,0.391332,0.412954,0.433374, 0.453351,0.482524,0.501059,0.519035, 0.545065,0.562403,0.587773,0.603856, 0.627981,0.650368,0.665162,0.679986, 0.694143,0.707884,0.721742,0.741335, 0.756899,0.771877,0.791843,0.80398, 0.81536,0.826672,0.837723,0.853011, 0.86337,0.873797,0.883332,0.891989, 0.902942,0.912371,0.92129,0.938268, 0.951066,0.97051,0.986118,0.997348, 1.00105,1.00243,1.52005,1.90264,2.20133 ,2.69702,2.71352,2.71957,2.72781, 2.73513,2.74109,2.74438,2.74766,2.75112 ,2.7547,2.75828,2.76186,2.76547,2.76949 ,2.77463,2.77857,2.78434,2.78821, 2.79205,2.79609,2.8023,2.80874,2.8131, 2.8172,2.8214,2.82776,2.83213,2.83641, 2.84096,2.84546,2.85212,2.85907,2.8639, 2.86876,2.87389,2.87903,2.88409,2.88934 ,2.89577,2.90093,2.90615,2.91128, 2.91657,2.92207,2.93017,2.9329,2.90835)
ORBIT_NUMBER = 17723
ORBITAL_ECCENTRICITY = 0.577
ORBITAL_INCLINATION = 86.95
ORBITAL_SEMIMAJOR_AXIS = 8852.95
PERIAPSIS_ALTITUDE = 353.75
PERIAPSIS_ARGUMENT_ANGLE = 165.82
PERIAPSIS_TIME = 2018-01-01T12:27:55.000Z
SPACECRAFT_ORIENTATION = (0.0,-1.0,0.0)
^MEX_ORIENTATION_DESC = "MEX_ORIENTATION_DESC.TXT"
SPACECRAFT_POINTING_MODE = ACROSSTRACK
^MEX_POINTING_DESC = "MEX_POINTING_DESC.TXT"
RIGHT_ASCENSION = -1e+32
DECLINATION = -1e+32
OFFSET_ANGLE = -0.229
SPACECRAFT_SOLAR_DISTANCE = 2.43938e+08
TARGET_NAME = MARS
/* CAMERA DATA ELEMENTS */
DETECTOR_TEMPERATURE = 17.5549
FOCAL_PLANE_TEMPERATURE = 8.1755
INST_CMPRS_NAME = "DISCRETE COSINE TRANSFORMATION (DCT)"
INST_CMPRS_RATIO = 5.07362
INST_CMPRS_QUALITY = 0
INST_CMPRS_QUANTZ_TBL_ID = 0
INSTRUMENT_TEMPERATURE = 11.8457
LENS_TEMPERATURE = 8.5833
MACROPIXEL_SIZE = 2
MISSING_FRAMES = 0
PIXEL_SUBSAMPLING_FLAG = N
SIGNAL_CHAIN_ID = 3
/* RADIOMETRIC DATA ELEMENTS */
BANDWIDTH = 174.0
CENTER_FILTER_WAVELENGTH = 675.0
RADIANCE_OFFSET = 1.21229
RADIANCE_SCALING_FACTOR = 0.0181447
REFLECTANCE_SCALING_FACTOR = 0.000580763
MEX:REFLECTANCE_OFFSET = 0.0388021
/* IMAGE OBJECT DEFINITIONS */
OBJECT = IMAGE
  INTERCHANGE_FORMAT = BINARY
  LINES = 27698
  LINE_SAMPLES = 4374
  SAMPLE_TYPE = UNSIGNED_INTEGER
  SAMPLE_BITS = 8
  BANDS = 1
  BAND_STORAGE_TYPE = BAND_SEQUENTIAL
  MAXIMUM = 255
  MEAN = 85.4937
  MINIMUM = 1
  STANDARD_DEVIATION = 24.1844
END_OBJECT = IMAGE
/* MAP OBJECT DEFINITIONS */
OBJECT = IMAGE_MAP_PROJECTION
  ^DATA_SET_MAP_PROJECTION_CATALOG= "DSMAP.CAT"
  A_AXIS_RADIUS = 3396.0
  B_AXIS_RADIUS = 3396.0
  C_AXIS_RADIUS = 3396.0
  CENTER_LATITUDE = 0.0
  CENTER_LONGITUDE = 2.0
  COORDINATE_SYSTEM_NAME = PLANETOGRAPHIC
  COORDINATE_SYSTEM_TYPE = "BODY-FIXED ROTATING"
  EASTERNMOST_LONGITUDE = 2.9329
  FIRST_STANDARD_PARALLEL = "N/A"
  LINE_FIRST_PIXEL = 1
  LINE_LAST_PIXEL = 27698
  LINE_PROJECTION_OFFSET = 98665.75
  MAP_PROJECTION_ROTATION = 0.0
  MAP_PROJECTION_TYPE = SINUSOIDAL
  MAP_RESOLUTION = 2370.85521546667
  MAP_SCALE = 0.025
  MAXIMUM_LATITUDE = 41.6654
  MINIMUM_LATITUDE = 29.9124
  POSITIVE_LONGITUDE_DIRECTION = EAST
  REFERENCE_LATITUDE = "N/A"
  REFERENCE_LONGITUDE = "N/A"
  SAMPLE_FIRST_PIXEL = 1
  SAMPLE_LAST_PIXEL = 4374
  SAMPLE_PROJECTION_OFFSET = 2842.25
  SECOND_STANDARD_PARALLEL = "N/A"
  WESTERNMOST_LONGITUDE = 0.337981
END_OBJECT = IMAGE_MAP_PROJECTION
END
