PDS_VERSION_ID = PDS3
/* FILE DATA ELEMENTS */
RECORD_TYPE = UNDEFINED
/* POINTERS TO DATA OBJECTS */
^IMAGE = ("HH727_0000_ND4.TIF")
/* IDENTIFICATION DATA ELEMENTS */
DATA_SET_ID = "MEX-M-HRSC-4-REFDR-MAPPROJECT-EXT6-V4.0"
DATA_SET_NAME = "MARS EXPRESS HRSC MAP PROJECTED REFDR EXTENSION6 V4.0"
DETECTOR_ID = MEX_HRSC_NADIR
EVENT_TYPE = "MARS-LOCAL-CARTOGRAPHY-Fl-Tc-Ot"
INSTRUMENT_HOST_ID = MEX
INSTRUMENT_HOST_NAME = "MARS EXPRESS"
INSTRUMENT_ID = HRSC
INSTRUMENT_NAME = "HIGH RESOLUTION STEREO CAMERA"
MISSION_NAME = "MARS EXPRESS"
MISSION_PHASE_NAME = ME_Phase_38
PROCESSING_LEVEL_ID = 4
PRODUCT_CREATION_TIME = 2023-01-28T19:29:54.000Z
PRODUCT_ID = "HH727_0000_ND4.TIF"
RELEASE_ID = 0003
REVISION_ID = 0000
/* QUALITY DATA ELEMENTS */
DATA_QUALITY_ID = 1
DATA_QUALITY_DESC = "Data calculated based on original SPICE kernels"
/* TIME DATA ELEMENTS */
SPACECRAFT_CLOCK_START_COUNT = "1/0462990213.07323"
SPACECRAFT_CLOCK_STOP_COUNT = "1/0462990360.16847"
START_TIME = 2018-01-02T16:24:17.727Z
STOP_TIME = 2018-01-02T16:25:34.747Z
/* ORBITAL DATA ELEMENTS */
ASCENDING_NODE_LONGITUDE = 241.3
MAXIMUM_RESOLUTION = 0.0146
FOOTPRINT_POINT_LATITUDE = (24.5391,24.5389,24.5386,24.5383, 24.5378,24.5373,24.5367,24.536,24.5352, 24.5343,24.5333,24.5322,24.5304,24.5302 ,24.5302,24.4216,24.313,24.2043,24.0957 ,23.987,23.8783,23.7695,23.6608,23.552, 23.4432,23.3343,23.2255,23.1166,22.9532 ,22.8443,22.7353,22.6263,22.5173, 22.4083,22.3006,22.1178,21.935,21.7521, 21.5691,21.3861,21.2031,21.02,20.8368, 20.6994,20.5162,20.3329,20.1496,19.9662 ,19.7828,19.6453,19.5994,19.5802, 19.5811,19.5819,19.5824,19.5826,19.5828 ,19.5828,19.5828,19.5827,19.5824, 19.5824,19.5826,19.7204,19.904,20.0876, 20.2712,20.4547,20.6382,20.8217,21.0051 ,21.1884,21.3717,21.555,21.7382,21.9214 ,22.1045,22.2875,22.3917,22.5009, 22.6101,22.7192,22.8284,22.9375,23.0466 ,23.1556,23.2647,23.3737,23.4827, 23.5917,23.7006,23.8095,23.9185,24.0273 ,24.1362,24.245,24.3538,24.4626,24.517, 24.5391)
FOOTPRINT_POINT_LONGITUDE = (312.734,312.622,312.51,312.397,312.283 ,312.169,312.054,311.939,311.824, 311.707,311.59,311.472,311.295,311.28, 311.237,311.239,311.242,311.244,311.247 ,311.249,311.251,311.254,311.256, 311.259,311.261,311.263,311.265,311.268 ,311.271,311.272,311.275,311.277, 311.279,311.281,311.282,311.285,311.289 ,311.291,311.295,311.297,311.3,311.303, 311.305,311.307,311.31,311.312,311.315, 311.318,311.321,311.322,311.323,311.323 ,311.519,311.713,311.905,312.014, 312.176,312.284,312.392,312.498,312.684 ,312.697,312.703,312.704,312.705, 312.706,312.707,312.708,312.709,312.71, 312.711,312.712,312.713,312.714,312.715 ,312.715,312.716,312.717,312.718, 312.719,312.719,312.72,312.72,312.721, 312.721,312.722,312.723,312.723,312.724 ,312.724,312.725,312.726,312.726, 312.727,312.727,312.728,312.728,312.729 ,312.729,312.734)
ORBIT_NUMBER = 17727
ORBITAL_ECCENTRICITY = 0.576
ORBITAL_INCLINATION = 86.96
ORBITAL_SEMIMAJOR_AXIS = 8849.75
PERIAPSIS_ALTITUDE = 353.95
PERIAPSIS_ARGUMENT_ANGLE = 165.16
PERIAPSIS_TIME = 2018-01-02T16:26:48.000Z
SPACECRAFT_ORIENTATION = (0.0,-1.0,0.0)
^MEX_ORIENTATION_DESC = "MEX_ORIENTATION_DESC.TXT"
SPACECRAFT_POINTING_MODE = ACROSSTRACK
^MEX_POINTING_DESC = "MEX_POINTING_DESC.TXT"
RIGHT_ASCENSION = -1e+32
DECLINATION = -1e+32
OFFSET_ANGLE = -0.835
SPACECRAFT_SOLAR_DISTANCE = 2.43797e+08
TARGET_NAME = MARS
/* CAMERA DATA ELEMENTS */
DETECTOR_TEMPERATURE = 18.5744
FOCAL_PLANE_TEMPERATURE = 8.5833
INST_CMPRS_NAME = "DISCRETE COSINE TRANSFORMATION (DCT)"
INST_CMPRS_RATIO = 6.05008
INST_CMPRS_QUALITY = 0
INST_CMPRS_QUANTZ_TBL_ID = 0
INSTRUMENT_TEMPERATURE = 11.8457
LENS_TEMPERATURE = 8.9911
MACROPIXEL_SIZE = 1
MISSING_FRAMES = 0
PIXEL_SUBSAMPLING_FLAG = N
SIGNAL_CHAIN_ID = 0
/* RADIOMETRIC DATA ELEMENTS */
BANDWIDTH = 177.0
CENTER_FILTER_WAVELENGTH = 677.5
RADIANCE_OFFSET = 1.05691
RADIANCE_SCALING_FACTOR = 0.00763505
REFLECTANCE_SCALING_FACTOR = 0.000241077
MEX:REFLECTANCE_OFFSET = 0.0333719
/* IMAGE OBJECT DEFINITIONS */
OBJECT = IMAGE
  INTERCHANGE_FORMAT = BINARY
  LINES = 23517
  LINE_SAMPLES = 6442
  SAMPLE_TYPE = UNSIGNED_INTEGER
  SAMPLE_BITS = 8
  BANDS = 1
  BAND_STORAGE_TYPE = BAND_SEQUENTIAL
  MAXIMUM = 255
  MEAN = 84.0419
  MINIMUM = 1
  STANDARD_DEVIATION = 15.5084
END_OBJECT = IMAGE
/* MAP OBJECT DEFINITIONS */
OBJECT = IMAGE_MAP_PROJECTION
  ^DATA_SET_MAP_PROJECTION_CATALOG= "DSMAP.CAT"
  A_AXIS_RADIUS = 3396.0
  B_AXIS_RADIUS = 3396.0
  C_AXIS_RADIUS = 3396.0
  CENTER_LATITUDE = 0.0
  CENTER_LONGITUDE = 312.0
  COORDINATE_SYSTEM_NAME = PLANETOGRAPHIC
  COORDINATE_SYSTEM_TYPE = "BODY-FIXED ROTATING"
  EASTERNMOST_LONGITUDE = 312.734
  FIRST_STANDARD_PARALLEL = "N/A"
  LINE_FIRST_PIXEL = 1
  LINE_LAST_PIXEL = 23517
  LINE_PROJECTION_OFFSET = 116360.0
  MAP_PROJECTION_ROTATION = 0.0
  MAP_PROJECTION_TYPE = SINUSOIDAL
  MAP_RESOLUTION = 4741.71043093333
  MAP_SCALE = 0.0125
  MAXIMUM_LATITUDE = 24.5391
  MINIMUM_LATITUDE = 19.5802
  POSITIVE_LONGITUDE_DIRECTION = EAST
  REFERENCE_LATITUDE = "N/A"
  REFERENCE_LONGITUDE = "N/A"
  SAMPLE_FIRST_PIXEL = 1
  SAMPLE_LAST_PIXEL = 6442
  SAMPLE_PROJECTION_OFFSET = 3292.0
  SECOND_STANDARD_PARALLEL = "N/A"
  WESTERNMOST_LONGITUDE = 311.237
END_OBJECT = IMAGE_MAP_PROJECTION
END
