PDS_VERSION_ID = PDS3
/* FILE DATA ELEMENTS */
RECORD_TYPE = UNDEFINED
/* POINTERS TO DATA OBJECTS */
^IMAGE = ("HH731_0000_GR4.TIF")
/* IDENTIFICATION DATA ELEMENTS */
DATA_SET_ID = "MEX-M-HRSC-4-REFDR-MAPPROJECT-EXT6-V4.0"
DATA_SET_NAME = "MARS EXPRESS HRSC MAP PROJECTED REFDR EXTENSION6 V4.0"
DETECTOR_ID = MEX_HRSC_GREEN
EVENT_TYPE = "MARS-REGIONAL-STEREO-Vo-Te-Gl"
INSTRUMENT_HOST_ID = MEX
INSTRUMENT_HOST_NAME = "MARS EXPRESS"
INSTRUMENT_ID = HRSC
INSTRUMENT_NAME = "HIGH RESOLUTION STEREO CAMERA"
MISSION_NAME = "MARS EXPRESS"
MISSION_PHASE_NAME = ME_Phase_38
PROCESSING_LEVEL_ID = 4
PRODUCT_CREATION_TIME = 2023-01-28T19:29:54.000Z
PRODUCT_ID = "HH731_0000_GR4.TIF"
RELEASE_ID = 0003
REVISION_ID = 0000
/* QUALITY DATA ELEMENTS */
DATA_QUALITY_ID = 1
DATA_QUALITY_DESC = "Data calculated based on original SPICE kernels"
/* TIME DATA ELEMENTS */
SPACECRAFT_CLOCK_START_COUNT = "1/0463090873.07348"
SPACECRAFT_CLOCK_STOP_COUNT = "1/0463091089.30093"
START_TIME = 2018-01-03T20:21:55.498Z
STOP_TIME = 2018-01-03T20:24:17.282Z
/* ORBITAL DATA ELEMENTS */
ASCENDING_NODE_LONGITUDE = 241.23
MAXIMUM_RESOLUTION = 0.1162
FOOTPRINT_POINT_LATITUDE = (29.5653,29.5593,29.5528,29.5456, 29.5378,29.5293,29.5146,29.5139,29.509, 29.2409,28.8922,28.543,28.1934,27.8433, 27.4929,27.1419,26.7907,26.6149,26.439, 26.263,26.0869,25.9107,25.7344,25.558, 25.3816,25.2048,25.0284,24.8516,24.6748 ,24.4978,24.3208,24.1437,23.9666, 23.7893,23.612,23.4346,23.2571,23.0796, 22.9019,22.7242,22.5464,22.3686,22.1906 ,22.0127,21.8346,21.6564,21.4783,21.3, 21.1217,20.9433,20.6757,20.5865,20.5013 ,20.5071,20.5125,20.5174,20.5249, 20.5321,20.5323,20.5345,20.7133,20.8921 ,21.0708,21.2495,21.4281,21.6066, 21.7851,22.0525,22.3202,22.4985,22.6767 ,22.8548,23.0328,23.3017,23.4811, 23.7492,23.9266,24.1924,24.5442,24.8091 ,24.9857,25.1633,25.4288,25.6057, 25.7834,25.9616,26.1382,26.4892,26.7532 ,26.9294,27.1055,27.2815,27.6332, 27.9844,28.423,28.7733,29.1233,29.3877, 29.4774,29.5653)
FOOTPRINT_POINT_LONGITUDE = (262.657,262.417,262.173,261.924, 261.671,261.413,261.001,260.984,260.961 ,260.973,260.989,261.004,261.02,261.034 ,261.049,261.063,261.077,261.084, 261.091,261.097,261.104,261.11,261.116, 261.122,261.128,261.133,261.14,261.145, 261.151,261.157,261.162,261.167,261.173 ,261.178,261.183,261.188,261.192, 261.197,261.202,261.207,261.211,261.215 ,261.22,261.224,261.228,261.232,261.236 ,261.24,261.243,261.247,261.253,261.254 ,261.256,261.481,261.703,261.92,262.279 ,262.663,262.676,262.684,262.684, 262.684,262.684,262.683,262.683,262.682 ,262.682,262.681,262.681,262.681,262.68 ,262.68,262.68,262.685,262.689,262.693, 262.692,262.689,262.679,262.675,262.672 ,262.673,262.672,262.671,262.673, 262.677,262.676,262.669,262.666,262.665 ,262.665,262.664,262.662,262.66,262.658 ,262.656,262.654,262.652,262.651, 262.657)
ORBIT_NUMBER = 17731
ORBITAL_ECCENTRICITY = 0.577
ORBITAL_INCLINATION = 86.95
ORBITAL_SEMIMAJOR_AXIS = 8864.21
PERIAPSIS_ALTITUDE = 353.87
PERIAPSIS_ARGUMENT_ANGLE = 164.45
PERIAPSIS_TIME = 2018-01-03T20:25:40.000Z
SPACECRAFT_ORIENTATION = (0.0,-1.0,0.0)
^MEX_ORIENTATION_DESC = "MEX_ORIENTATION_DESC.TXT"
SPACECRAFT_POINTING_MODE = ACROSSTRACK
^MEX_POINTING_DESC = "MEX_POINTING_DESC.TXT"
RIGHT_ASCENSION = -1e+32
DECLINATION = -1e+32
OFFSET_ANGLE = -1.616
SPACECRAFT_SOLAR_DISTANCE = 2.43655e+08
TARGET_NAME = MARS
/* CAMERA DATA ELEMENTS */
DETECTOR_TEMPERATURE = 18.5744
FOCAL_PLANE_TEMPERATURE = 8.7872
INST_CMPRS_NAME = "DISCRETE COSINE TRANSFORMATION (DCT)"
INST_CMPRS_RATIO = 8.03796
INST_CMPRS_QUALITY = 0
INST_CMPRS_QUANTZ_TBL_ID = 0
INSTRUMENT_TEMPERATURE = 12.0496
LENS_TEMPERATURE = 8.9911
MACROPIXEL_SIZE = 8
MISSING_FRAMES = 0
PIXEL_SUBSAMPLING_FLAG = N
SIGNAL_CHAIN_ID = 2
/* RADIOMETRIC DATA ELEMENTS */
BANDWIDTH = 88.0
CENTER_FILTER_WAVELENGTH = 538.0
RADIANCE_OFFSET = 0.41039
RADIANCE_SCALING_FACTOR = 0.00629549
REFLECTANCE_SCALING_FACTOR = 0.000321788
MEX:REFLECTANCE_OFFSET = 0.0209767
/* IMAGE OBJECT DEFINITIONS */
OBJECT = IMAGE
  INTERCHANGE_FORMAT = BINARY
  LINES = 5357
  LINE_SAMPLES = 925
  SAMPLE_TYPE = UNSIGNED_INTEGER
  SAMPLE_BITS = 8
  BANDS = 1
  BAND_STORAGE_TYPE = BAND_SEQUENTIAL
  MAXIMUM = 255
  MEAN = 99.2732
  MINIMUM = 1
  STANDARD_DEVIATION = 18.2826
END_OBJECT = IMAGE
/* MAP OBJECT DEFINITIONS */
OBJECT = IMAGE_MAP_PROJECTION
  ^DATA_SET_MAP_PROJECTION_CATALOG= "DSMAP.CAT"
  A_AXIS_RADIUS = 3396.0
  B_AXIS_RADIUS = 3396.0
  C_AXIS_RADIUS = 3396.0
  CENTER_LATITUDE = 0.0
  CENTER_LONGITUDE = 262.0
  COORDINATE_SYSTEM_NAME = PLANETOGRAPHIC
  COORDINATE_SYSTEM_TYPE = "BODY-FIXED ROTATING"
  EASTERNMOST_LONGITUDE = 262.693
  FIRST_STANDARD_PARALLEL = "N/A"
  LINE_FIRST_PIXEL = 1
  LINE_LAST_PIXEL = 5357
  LINE_PROJECTION_OFFSET = 17517.1875
  MAP_PROJECTION_ROTATION = 0.0
  MAP_PROJECTION_TYPE = SINUSOIDAL
  MAP_RESOLUTION = 592.713803866667
  MAP_SCALE = 0.1
  MAXIMUM_LATITUDE = 29.5653
  MINIMUM_LATITUDE = 20.5013
  POSITIVE_LONGITUDE_DIRECTION = EAST
  REFERENCE_LATITUDE = "N/A"
  REFERENCE_LONGITUDE = "N/A"
  SAMPLE_FIRST_PIXEL = 1
  SAMPLE_LAST_PIXEL = 925
  SAMPLE_PROJECTION_OFFSET = 544.4375
  SECOND_STANDARD_PARALLEL = "N/A"
  WESTERNMOST_LONGITUDE = 260.961
END_OBJECT = IMAGE_MAP_PROJECTION
END
