PDS_VERSION_ID = PDS3
/* FILE DATA ELEMENTS */
RECORD_TYPE = UNDEFINED
/* POINTERS TO DATA OBJECTS */
^IMAGE = ("HH734_0000_ND4.TIF")
/* IDENTIFICATION DATA ELEMENTS */
DATA_SET_ID = "MEX-M-HRSC-4-REFDR-MAPPROJECT-EXT6-V4.0"
DATA_SET_NAME = "MARS EXPRESS HRSC MAP PROJECTED REFDR EXTENSION6 V4.0"
DETECTOR_ID = MEX_HRSC_NADIR
EVENT_TYPE = "MARS-REGIONAL-MAPPING-Vo-Te-Fl"
INSTRUMENT_HOST_ID = MEX
INSTRUMENT_HOST_NAME = "MARS EXPRESS"
INSTRUMENT_ID = HRSC
INSTRUMENT_NAME = "HIGH RESOLUTION STEREO CAMERA"
MISSION_NAME = "MARS EXPRESS"
MISSION_PHASE_NAME = ME_Phase_38
PROCESSING_LEVEL_ID = 4
PRODUCT_CREATION_TIME = 2023-01-28T19:29:54.000Z
PRODUCT_ID = "HH734_0000_ND4.TIF"
RELEASE_ID = 0003
REVISION_ID = 0000
/* QUALITY DATA ELEMENTS */
DATA_QUALITY_ID = 1
DATA_QUALITY_DESC = "Data calculated based on original SPICE kernels"
/* TIME DATA ELEMENTS */
SPACECRAFT_CLOCK_START_COUNT = "1/0463166533.07331"
SPACECRAFT_CLOCK_STOP_COUNT = "1/0463166695.06896"
START_TIME = 2018-01-04T17:22:55.986Z
STOP_TIME = 2018-01-04T17:24:30.003Z
/* ORBITAL DATA ELEMENTS */
ASCENDING_NODE_LONGITUDE = 241.17
MAXIMUM_RESOLUTION = 0.0144
FOOTPRINT_POINT_LATITUDE = (22.823,22.8236,22.8245,22.8247,22.8248 ,22.8245,22.8237,22.8236,22.824,22.5821 ,22.3401,22.098,21.8559,21.6137,21.3714 ,21.129,20.8866,20.6441,20.4015,20.1589 ,20.0375,19.9162,19.7948,19.6735, 19.5521,19.4307,19.3093,19.1878,19.0664 ,18.945,18.8235,18.7021,18.5806,18.4592 ,18.3377,18.2162,18.0339,17.9124, 17.7909,17.6693,17.5478,17.4263,17.3047 ,17.1832,17.0616,16.9401,16.8185, 16.7578,16.7513,16.7508,16.7501,16.7495 ,16.7486,16.7478,16.7468,16.7457, 16.7456,16.7458,16.9282,17.0499,17.1715 ,17.2931,17.4148,17.5972,17.7796, 17.9012,18.0229,18.1445,18.266,18.3876, 18.5092,18.6308,18.7523,18.8739,18.9954 ,19.117,19.2385,19.36,19.4815,19.603, 19.7245,19.8459,19.9674,20.0888,20.2103 ,20.3317,20.4531,20.5745,20.6959, 20.8172,21.0599,21.3025,21.545,21.7875, 22.0299,22.2722,22.5145,22.7566,22.8171 ,22.823)
FOOTPRINT_POINT_LONGITUDE = (317.533,317.398,317.086,316.883, 316.734,316.503,316.178,316.164,316.143 ,316.145,316.148,316.15,316.152,316.154 ,316.156,316.158,316.159,316.161, 316.162,316.164,316.164,316.165,316.166 ,316.166,316.167,316.167,316.168, 316.168,316.169,316.169,316.169,316.17, 316.17,316.169,316.169,316.169,316.171, 316.172,316.172,316.172,316.172,316.172 ,316.172,316.172,316.172,316.172, 316.172,316.172,316.172,316.47,316.663, 316.818,316.999,317.155,317.31,317.465, 317.478,317.485,317.486,317.487,317.488 ,317.489,317.491,317.492,317.494, 317.496,317.497,317.498,317.499,317.5, 317.501,317.503,317.504,317.505,317.506 ,317.508,317.509,317.51,317.511,317.513 ,317.514,317.515,317.517,317.518, 317.519,317.52,317.522,317.523,317.524, 317.526,317.528,317.531,317.534,317.536 ,317.539,317.542,317.545,317.547, 317.548,317.533)
ORBIT_NUMBER = 17734
ORBITAL_ECCENTRICITY = 0.576
ORBITAL_INCLINATION = 86.97
ORBITAL_SEMIMAJOR_AXIS = 8847.81
PERIAPSIS_ALTITUDE = 354.66
PERIAPSIS_ARGUMENT_ANGLE = 163.93
PERIAPSIS_TIME = 2018-01-04T17:24:41.000Z
SPACECRAFT_ORIENTATION = (0.0,-1.0,0.0)
^MEX_ORIENTATION_DESC = "MEX_ORIENTATION_DESC.TXT"
SPACECRAFT_POINTING_MODE = NADIR
^MEX_POINTING_DESC = "MEX_POINTING_DESC.TXT"
RIGHT_ASCENSION = -1e+32
DECLINATION = -1e+32
OFFSET_ANGLE = -1e+32
SPACECRAFT_SOLAR_DISTANCE = 2.43547e+08
TARGET_NAME = MARS
/* CAMERA DATA ELEMENTS */
DETECTOR_TEMPERATURE = 18.3705
FOCAL_PLANE_TEMPERATURE = 8.7872
INST_CMPRS_NAME = "DISCRETE COSINE TRANSFORMATION (DCT)"
INST_CMPRS_RATIO = 5.98486
INST_CMPRS_QUALITY = 0
INST_CMPRS_QUANTZ_TBL_ID = 0
INSTRUMENT_TEMPERATURE = 12.0496
LENS_TEMPERATURE = 9.195
MACROPIXEL_SIZE = 1
MISSING_FRAMES = 0
PIXEL_SUBSAMPLING_FLAG = N
SIGNAL_CHAIN_ID = 0
/* RADIOMETRIC DATA ELEMENTS */
BANDWIDTH = 177.0
CENTER_FILTER_WAVELENGTH = 677.5
RADIANCE_OFFSET = 0.995877
RADIANCE_SCALING_FACTOR = 0.00637882
REFLECTANCE_SCALING_FACTOR = 0.000200998
MEX:REFLECTANCE_OFFSET = 0.0313803
/* IMAGE OBJECT DEFINITIONS */
OBJECT = IMAGE
  INTERCHANGE_FORMAT = BINARY
  LINES = 28829
  LINE_SAMPLES = 6154
  SAMPLE_TYPE = UNSIGNED_INTEGER
  SAMPLE_BITS = 8
  BANDS = 1
  BAND_STORAGE_TYPE = BAND_SEQUENTIAL
  MAXIMUM = 255
  MEAN = 84.5303
  MINIMUM = 1
  STANDARD_DEVIATION = 17.1061
END_OBJECT = IMAGE
/* MAP OBJECT DEFINITIONS */
OBJECT = IMAGE_MAP_PROJECTION
  ^DATA_SET_MAP_PROJECTION_CATALOG= "DSMAP.CAT"
  A_AXIS_RADIUS = 3396.0
  B_AXIS_RADIUS = 3396.0
  C_AXIS_RADIUS = 3396.0
  CENTER_LATITUDE = 0.0
  CENTER_LONGITUDE = 317.0
  COORDINATE_SYSTEM_NAME = PLANETOGRAPHIC
  COORDINATE_SYSTEM_TYPE = "BODY-FIXED ROTATING"
  EASTERNMOST_LONGITUDE = 317.548
  FIRST_STANDARD_PARALLEL = "N/A"
  LINE_FIRST_PIXEL = 1
  LINE_LAST_PIXEL = 28829
  LINE_PROJECTION_OFFSET = 108231.0
  MAP_PROJECTION_ROTATION = 0.0
  MAP_PROJECTION_TYPE = SINUSOIDAL
  MAP_RESOLUTION = 4741.71043093333
  MAP_SCALE = 0.0125
  MAXIMUM_LATITUDE = 22.8248
  MINIMUM_LATITUDE = 16.7456
  POSITIVE_LONGITUDE_DIRECTION = EAST
  REFERENCE_LATITUDE = "N/A"
  REFERENCE_LONGITUDE = "N/A"
  SAMPLE_FIRST_PIXEL = 1
  SAMPLE_LAST_PIXEL = 6154
  SAMPLE_PROJECTION_OFFSET = 3757.0
  SECOND_STANDARD_PARALLEL = "N/A"
  WESTERNMOST_LONGITUDE = 316.143
END_OBJECT = IMAGE_MAP_PROJECTION
END
