PDS_VERSION_ID = PDS3
/* FILE DATA ELEMENTS */
RECORD_TYPE = UNDEFINED
/* POINTERS TO DATA OBJECTS */
^IMAGE = ("HH734_0000_RE4.TIF")
/* IDENTIFICATION DATA ELEMENTS */
DATA_SET_ID = "MEX-M-HRSC-4-REFDR-MAPPROJECT-EXT6-V4.0"
DATA_SET_NAME = "MARS EXPRESS HRSC MAP PROJECTED REFDR EXTENSION6 V4.0"
DETECTOR_ID = MEX_HRSC_RED
EVENT_TYPE = "MARS-REGIONAL-MAPPING-Vo-Te-Fl"
INSTRUMENT_HOST_ID = MEX
INSTRUMENT_HOST_NAME = "MARS EXPRESS"
INSTRUMENT_ID = HRSC
INSTRUMENT_NAME = "HIGH RESOLUTION STEREO CAMERA"
MISSION_NAME = "MARS EXPRESS"
MISSION_PHASE_NAME = ME_Phase_38
PROCESSING_LEVEL_ID = 4
PRODUCT_CREATION_TIME = 2023-01-28T19:29:54.000Z
PRODUCT_ID = "HH734_0000_RE4.TIF"
RELEASE_ID = 0003
REVISION_ID = 0000
/* QUALITY DATA ELEMENTS */
DATA_QUALITY_ID = 1
DATA_QUALITY_DESC = "Data calculated based on original SPICE kernels"
/* TIME DATA ELEMENTS */
SPACECRAFT_CLOCK_START_COUNT = "1/0463166533.07331"
SPACECRAFT_CLOCK_STOP_COUNT = "1/0463166695.06896"
START_TIME = 2018-01-04T17:23:23.309Z
STOP_TIME = 2018-01-04T17:24:56.523Z
/* ORBITAL DATA ELEMENTS */
ASCENDING_NODE_LONGITUDE = 241.17
MAXIMUM_RESOLUTION = 0.0601
FOOTPRINT_POINT_LATITUDE = (22.7933,22.7937,22.7942,22.7947,22.795 ,22.7953,22.7955,22.7957,22.7957, 22.8335,22.7126,22.5313,22.35,22.2291, 22.1084,21.9875,21.8668,21.6857,21.5046 ,21.3839,21.2632,21.1425,21.0218, 20.8409,20.7202,20.5997,20.4189,20.2983 ,20.1778,19.9971,19.8766,19.7562, 19.5756,19.4551,19.3348,19.1544,18.9739 ,18.8535,18.673,18.4381,18.2575,18.1371 ,18.013,17.8915,17.6518,17.4719,17.2322 ,16.8725,16.8125,16.7732,16.7727, 16.7717,16.7698,16.769,16.7686,16.7679, 16.7678,16.7686,16.9481,17.1266,17.3672 ,17.4874,17.6676,17.788,17.9682,18.1484 ,18.3286,18.5088,18.6291,18.8695, 18.9897,19.11,19.2307,19.3511,19.4718, 19.5923,19.773,19.8936,20.0141,20.1345, 20.255,20.436,20.5566,20.6774,20.8585, 20.9791,21.0999,21.2812,21.4019,21.5228 ,21.704,21.8248,21.9458,22.1271,22.3084 ,22.4294,22.5503,22.7317,22.7923, 22.7933)
FOOTPRINT_POINT_LONGITUDE = (317.528,317.388,317.185,316.931, 316.715,316.551,316.347,316.182,316.169 ,316.151,316.152,316.154,316.155, 316.156,316.157,316.158,316.159,316.16, 316.161,316.162,316.163,316.164,316.164 ,316.165,316.166,316.166,316.167, 316.168,316.168,316.169,316.169,316.17, 316.17,316.171,316.171,316.171,316.172, 316.172,316.172,316.171,316.171,316.171 ,316.173,316.173,316.173,316.173, 316.173,316.172,316.172,316.172,316.318 ,316.527,316.821,317.066,317.299, 317.471,317.483,317.487,317.489,317.49, 317.492,317.493,317.494,317.496,317.497 ,317.499,317.5,317.502,317.503,317.505, 317.506,317.507,317.508,317.509,317.51, 317.511,317.513,317.514,317.515,317.516 ,317.517,317.519,317.52,317.521,317.523 ,317.524,317.526,317.527,317.528,317.53 ,317.531,317.533,317.534,317.536, 317.537,317.539,317.54,317.542,317.542, 317.528)
ORBIT_NUMBER = 17734
ORBITAL_ECCENTRICITY = 0.576
ORBITAL_INCLINATION = 86.97
ORBITAL_SEMIMAJOR_AXIS = 8847.81
PERIAPSIS_ALTITUDE = 354.66
PERIAPSIS_ARGUMENT_ANGLE = 163.93
PERIAPSIS_TIME = 2018-01-04T17:24:41.000Z
SPACECRAFT_ORIENTATION = (0.0,-1.0,0.0)
^MEX_ORIENTATION_DESC = "MEX_ORIENTATION_DESC.TXT"
SPACECRAFT_POINTING_MODE = NADIR
^MEX_POINTING_DESC = "MEX_POINTING_DESC.TXT"
RIGHT_ASCENSION = -1e+32
DECLINATION = -1e+32
OFFSET_ANGLE = -1e+32
SPACECRAFT_SOLAR_DISTANCE = 2.43547e+08
TARGET_NAME = MARS
/* CAMERA DATA ELEMENTS */
DETECTOR_TEMPERATURE = 19.1861
FOCAL_PLANE_TEMPERATURE = 8.7872
INST_CMPRS_NAME = "DISCRETE COSINE TRANSFORMATION (DCT)"
INST_CMPRS_RATIO = 22.7893
INST_CMPRS_QUALITY = 0
INST_CMPRS_QUANTZ_TBL_ID = 0
INSTRUMENT_TEMPERATURE = 12.0496
LENS_TEMPERATURE = 9.195
MACROPIXEL_SIZE = 4
MISSING_FRAMES = 0
PIXEL_SUBSAMPLING_FLAG = N
SIGNAL_CHAIN_ID = 2
/* RADIOMETRIC DATA ELEMENTS */
BANDWIDTH = 48.0
CENTER_FILTER_WAVELENGTH = 748.0
RADIANCE_OFFSET = 0.324035
RADIANCE_SCALING_FACTOR = 0.00190609
REFLECTANCE_SCALING_FACTOR = 0.000258008
MEX:REFLECTANCE_OFFSET = 0.0438614
/* IMAGE OBJECT DEFINITIONS */
OBJECT = IMAGE
  INTERCHANGE_FORMAT = BINARY
  LINES = 7208
  LINE_SAMPLES = 1539
  SAMPLE_TYPE = UNSIGNED_INTEGER
  SAMPLE_BITS = 8
  BANDS = 1
  BAND_STORAGE_TYPE = BAND_SEQUENTIAL
  MAXIMUM = 255
  MEAN = 79.7213
  MINIMUM = 1
  STANDARD_DEVIATION = 17.728
END_OBJECT = IMAGE
/* MAP OBJECT DEFINITIONS */
OBJECT = IMAGE_MAP_PROJECTION
  ^DATA_SET_MAP_PROJECTION_CATALOG= "DSMAP.CAT"
  A_AXIS_RADIUS = 3396.0
  B_AXIS_RADIUS = 3396.0
  C_AXIS_RADIUS = 3396.0
  CENTER_LATITUDE = 0.0
  CENTER_LONGITUDE = 317.0
  COORDINATE_SYSTEM_NAME = PLANETOGRAPHIC
  COORDINATE_SYSTEM_TYPE = "BODY-FIXED ROTATING"
  EASTERNMOST_LONGITUDE = 317.542
  FIRST_STANDARD_PARALLEL = "N/A"
  LINE_FIRST_PIXEL = 1
  LINE_LAST_PIXEL = 7208
  LINE_PROJECTION_OFFSET = 27057.375
  MAP_PROJECTION_ROTATION = 0.0
  MAP_PROJECTION_TYPE = SINUSOIDAL
  MAP_RESOLUTION = 1185.42760773333
  MAP_SCALE = 0.05
  MAXIMUM_LATITUDE = 22.8335
  MINIMUM_LATITUDE = 16.7678
  POSITIVE_LONGITUDE_DIRECTION = EAST
  REFERENCE_LATITUDE = "N/A"
  REFERENCE_LONGITUDE = "N/A"
  SAMPLE_FIRST_PIXEL = 1
  SAMPLE_LAST_PIXEL = 1539
  SAMPLE_PROJECTION_OFFSET = 938.875
  SECOND_STANDARD_PARALLEL = "N/A"
  WESTERNMOST_LONGITUDE = 316.151
END_OBJECT = IMAGE_MAP_PROJECTION
END
