PDS_VERSION_ID = PDS3
/* FILE DATA ELEMENTS */
RECORD_TYPE = UNDEFINED
/* POINTERS TO DATA OBJECTS */
^IMAGE = ("HH734_0000_S14.TIF")
/* IDENTIFICATION DATA ELEMENTS */
DATA_SET_ID = "MEX-M-HRSC-4-REFDR-MAPPROJECT-EXT6-V4.0"
DATA_SET_NAME = "MARS EXPRESS HRSC MAP PROJECTED REFDR EXTENSION6 V4.0"
DETECTOR_ID = MEX_HRSC_S1
EVENT_TYPE = "MARS-REGIONAL-MAPPING-Vo-Te-Fl"
INSTRUMENT_HOST_ID = MEX
INSTRUMENT_HOST_NAME = "MARS EXPRESS"
INSTRUMENT_ID = HRSC
INSTRUMENT_NAME = "HIGH RESOLUTION STEREO CAMERA"
MISSION_NAME = "MARS EXPRESS"
MISSION_PHASE_NAME = ME_Phase_38
PROCESSING_LEVEL_ID = 4
PRODUCT_CREATION_TIME = 2023-01-28T19:29:54.000Z
PRODUCT_ID = "HH734_0000_S14.TIF"
RELEASE_ID = 0003
REVISION_ID = 0000
/* QUALITY DATA ELEMENTS */
DATA_QUALITY_ID = 1
DATA_QUALITY_DESC = "Data calculated based on original SPICE kernels"
/* TIME DATA ELEMENTS */
SPACECRAFT_CLOCK_START_COUNT = "1/0463166533.07331"
SPACECRAFT_CLOCK_STOP_COUNT = "1/0463166695.06896"
START_TIME = 2018-01-04T17:22:22.130Z
STOP_TIME = 2018-01-04T17:23:58.014Z
/* ORBITAL DATA ELEMENTS */
ASCENDING_NODE_LONGITUDE = 241.17
MAXIMUM_RESOLUTION = 0.0307
FOOTPRINT_POINT_LATITUDE = (22.8461,22.8476,22.8483,22.8483, 22.8477,22.8466,22.8453,22.8452,22.7992 ,22.59,22.4505,22.3109,22.1711,21.9146, 21.7388,21.504,21.2101,21.0337,20.9159, 20.7391,20.5623,20.4443,20.3263,20.1492 ,19.9719,19.8537,19.7353,19.5578, 19.4394,19.3208,19.143,18.965,18.8465, 18.6691,18.5486,18.4246,18.3024,18.1838 ,18.0105,17.8331,17.6539,17.5345, 17.4154,17.296,17.1169,16.9977,16.8186, 16.7587,16.7205,16.7207,16.7205,16.7203 ,16.7202,16.7194,16.7178,16.7151, 16.7137,16.7136,16.714,16.8338,17.0135, 17.1346,17.2544,17.4326,17.5515,17.6707 ,17.8495,17.9686,18.0878,18.207,18.3262 ,18.5081,18.6271,18.8056,18.9245, 19.0433,19.2212,19.3991,19.5176,19.6954 ,19.8138,19.9915,20.1101,20.2283, 20.4054,20.5236,20.6415,20.8185,20.9953 ,21.1132,21.2897,21.5837,21.76,21.9948, 22.197,22.4068,22.5466,22.6862,22.7559, 22.8461)
FOOTPRINT_POINT_LONGITUDE = (317.553,317.28,317.062,316.776,316.558 ,316.339,316.162,316.148,316.129, 316.132,316.133,316.135,316.137,316.139 ,316.141,316.144,316.146,316.148, 316.149,316.15,316.152,316.153,316.154, 316.155,316.156,316.157,316.158,316.159 ,316.16,316.16,316.161,316.162,316.163, 316.164,316.164,316.163,316.163,316.164 ,316.166,316.167,316.168,316.168, 316.168,316.168,316.169,316.169,316.169 ,316.169,316.169,316.297,316.425, 316.617,316.847,317.013,317.141,317.346 ,317.474,317.487,317.492,317.493, 317.495,317.496,317.497,317.5,317.501, 317.502,317.505,317.506,317.507,317.509 ,317.51,317.512,317.514,317.516,317.517 ,317.519,317.521,317.523,317.525, 317.527,317.528,317.53,317.532,317.533, 317.536,317.537,317.539,317.541,317.543 ,317.545,317.547,317.551,317.553, 317.557,317.559,317.562,317.564,317.566 ,317.567,317.553)
ORBIT_NUMBER = 17734
ORBITAL_ECCENTRICITY = 0.576
ORBITAL_INCLINATION = 86.97
ORBITAL_SEMIMAJOR_AXIS = 8847.81
PERIAPSIS_ALTITUDE = 354.66
PERIAPSIS_ARGUMENT_ANGLE = 163.93
PERIAPSIS_TIME = 2018-01-04T17:24:41.000Z
SPACECRAFT_ORIENTATION = (0.0,-1.0,0.0)
^MEX_ORIENTATION_DESC = "MEX_ORIENTATION_DESC.TXT"
SPACECRAFT_POINTING_MODE = NADIR
^MEX_POINTING_DESC = "MEX_POINTING_DESC.TXT"
RIGHT_ASCENSION = -1e+32
DECLINATION = -1e+32
OFFSET_ANGLE = -1e+32
SPACECRAFT_SOLAR_DISTANCE = 2.43547e+08
TARGET_NAME = MARS
/* CAMERA DATA ELEMENTS */
DETECTOR_TEMPERATURE = 16.7393
FOCAL_PLANE_TEMPERATURE = 8.7872
INST_CMPRS_NAME = "DISCRETE COSINE TRANSFORMATION (DCT)"
INST_CMPRS_RATIO = 10.8408
INST_CMPRS_QUALITY = 0
INST_CMPRS_QUANTZ_TBL_ID = 0
INSTRUMENT_TEMPERATURE = 12.0496
LENS_TEMPERATURE = 9.195
MACROPIXEL_SIZE = 2
MISSING_FRAMES = 1
PIXEL_SUBSAMPLING_FLAG = N
SIGNAL_CHAIN_ID = 1
/* RADIOMETRIC DATA ELEMENTS */
BANDWIDTH = 180.0
CENTER_FILTER_WAVELENGTH = 677.0
RADIANCE_OFFSET = 1.33327
RADIANCE_SCALING_FACTOR = 0.0067535
REFLECTANCE_SCALING_FACTOR = 0.000208995
MEX:REFLECTANCE_OFFSET = 0.0412597
/* IMAGE OBJECT DEFINITIONS */
OBJECT = IMAGE
  INTERCHANGE_FORMAT = BINARY
  LINES = 14415
  LINE_SAMPLES = 3077
  SAMPLE_TYPE = UNSIGNED_INTEGER
  SAMPLE_BITS = 8
  BANDS = 1
  BAND_STORAGE_TYPE = BAND_SEQUENTIAL
  MAXIMUM = 255
  MEAN = 86.0791
  MINIMUM = 1
  STANDARD_DEVIATION = 17.0455
END_OBJECT = IMAGE
/* MAP OBJECT DEFINITIONS */
OBJECT = IMAGE_MAP_PROJECTION
  ^DATA_SET_MAP_PROJECTION_CATALOG= "DSMAP.CAT"
  A_AXIS_RADIUS = 3396.0
  B_AXIS_RADIUS = 3396.0
  C_AXIS_RADIUS = 3396.0
  CENTER_LATITUDE = 0.0
  CENTER_LONGITUDE = 317.0
  COORDINATE_SYSTEM_NAME = PLANETOGRAPHIC
  COORDINATE_SYSTEM_TYPE = "BODY-FIXED ROTATING"
  EASTERNMOST_LONGITUDE = 317.567
  FIRST_STANDARD_PARALLEL = "N/A"
  LINE_FIRST_PIXEL = 1
  LINE_LAST_PIXEL = 14415
  LINE_PROJECTION_OFFSET = 54115.25
  MAP_PROJECTION_ROTATION = 0.0
  MAP_PROJECTION_TYPE = SINUSOIDAL
  MAP_RESOLUTION = 2370.85521546667
  MAP_SCALE = 0.025
  MAXIMUM_LATITUDE = 22.8483
  MINIMUM_LATITUDE = 16.7136
  POSITIVE_LONGITUDE_DIRECTION = EAST
  REFERENCE_LATITUDE = "N/A"
  REFERENCE_LONGITUDE = "N/A"
  SAMPLE_FIRST_PIXEL = 1
  SAMPLE_LAST_PIXEL = 3077
  SAMPLE_PROJECTION_OFFSET = 1878.25
  SECOND_STANDARD_PARALLEL = "N/A"
  WESTERNMOST_LONGITUDE = 316.129
END_OBJECT = IMAGE_MAP_PROJECTION
END
