PDS_VERSION_ID = PDS3
/* FILE DATA ELEMENTS */
RECORD_TYPE = UNDEFINED
/* POINTERS TO DATA OBJECTS */
^IMAGE = ("HH748_0000_ND4.TIF")
/* IDENTIFICATION DATA ELEMENTS */
DATA_SET_ID = "MEX-M-HRSC-4-REFDR-MAPPROJECT-EXT6-V4.0"
DATA_SET_NAME = "MARS EXPRESS HRSC MAP PROJECTED REFDR EXTENSION6 V4.0"
DETECTOR_ID = MEX_HRSC_NADIR
EVENT_TYPE = "MARS-LOCAL-STEREO-Vo-Fl-La"
INSTRUMENT_HOST_ID = MEX
INSTRUMENT_HOST_NAME = "MARS EXPRESS"
INSTRUMENT_ID = HRSC
INSTRUMENT_NAME = "HIGH RESOLUTION STEREO CAMERA"
MISSION_NAME = "MARS EXPRESS"
MISSION_PHASE_NAME = ME_Phase_38
PROCESSING_LEVEL_ID = 4
PRODUCT_CREATION_TIME = 2023-01-28T19:29:54.000Z
PRODUCT_ID = "HH748_0000_ND4.TIF"
RELEASE_ID = 0003
REVISION_ID = 0000
/* QUALITY DATA ELEMENTS */
DATA_QUALITY_ID = 1
DATA_QUALITY_DESC = "Data calculated based on original SPICE kernels"
/* TIME DATA ELEMENTS */
SPACECRAFT_CLOCK_START_COUNT = "1/0463519137.07345"
SPACECRAFT_CLOCK_STOP_COUNT = "1/0463519316.33414"
START_TIME = 2018-01-08T19:19:38.766Z
STOP_TIME = 2018-01-08T19:21:30.772Z
/* ORBITAL DATA ELEMENTS */
ASCENDING_NODE_LONGITUDE = 240.91
MAXIMUM_RESOLUTION = 0.0144
FOOTPRINT_POINT_LATITUDE = (21.4056,21.4073,21.4079,21.4079, 21.4074,21.4074,21.4077,21.1187,20.8297 ,20.5407,20.2516,20.107,19.9625,19.8179 ,19.6733,19.5287,19.3842,19.2396,19.095 ,18.9504,18.8058,18.6612,18.5165, 18.3719,18.155,18.0104,17.8658,17.7212, 17.5766,17.432,17.2874,17.1429,16.9983, 16.8537,16.7092,16.5646,16.2755,15.9865 ,15.6975,15.4085,15.1197,14.8308, 14.5421,14.2534,14.1813,14.1663,14.1654 ,14.1644,14.1634,14.162,14.1608,14.1586 ,14.1585,14.1586,14.4475,14.7365, 15.0255,15.2423,15.3869,15.5314,15.676, 15.8206,15.9652,16.1098,16.2545,16.3991 ,16.5438,16.6885,16.8331,17.0502, 17.1949,17.3396,17.4843,17.629,17.7737, 17.9184,18.0632,18.2079,18.3526,18.5697 ,18.8592,19.0039,19.1486,19.2934, 19.4381,19.5828,19.7275,19.8722,20.0169 ,20.1616,20.3063,20.4509,20.5956, 20.7403,20.8849,21.0296,21.1742,21.3188 ,21.3911,21.4056)
FOOTPRINT_POINT_LONGITUDE = (325.336,324.901,324.559,324.336,324.02 ,324.006,323.987,323.988,323.989, 323.991,323.992,323.992,323.993,323.993 ,323.993,323.994,323.994,323.994, 323.995,323.995,323.995,323.995,323.995 ,323.995,323.995,323.995,323.995, 323.995,323.995,323.995,323.995,323.994 ,323.994,323.994,323.993,323.993, 323.992,323.991,323.99,323.989,323.987, 323.986,323.984,323.982,323.982,323.982 ,324.228,324.421,324.615,324.835,324.99 ,325.274,325.287,325.293,325.295, 325.297,325.299,325.301,325.302,325.303 ,325.304,325.305,325.306,325.306, 325.307,325.308,325.309,325.31,325.311, 325.313,325.314,325.316,325.317,325.318 ,325.319,325.32,325.321,325.322,325.324 ,325.325,325.328,325.329,325.33,325.331 ,325.332,325.334,325.335,325.336, 325.337,325.339,325.34,325.341,325.342, 325.344,325.345,325.346,325.347,325.348 ,325.349,325.336)
ORBIT_NUMBER = 17748
ORBITAL_ECCENTRICITY = 0.576
ORBITAL_INCLINATION = 86.97
ORBITAL_SEMIMAJOR_AXIS = 8844.76
PERIAPSIS_ALTITUDE = 355.89
PERIAPSIS_ARGUMENT_ANGLE = 161.48
PERIAPSIS_TIME = 2018-01-08T19:20:24.000Z
SPACECRAFT_ORIENTATION = (0.0,-1.0,0.0)
^MEX_ORIENTATION_DESC = "MEX_ORIENTATION_DESC.TXT"
SPACECRAFT_POINTING_MODE = NADIR
^MEX_POINTING_DESC = "MEX_POINTING_DESC.TXT"
RIGHT_ASCENSION = -1e+32
DECLINATION = -1e+32
OFFSET_ANGLE = -1e+32
SPACECRAFT_SOLAR_DISTANCE = 2.4303e+08
TARGET_NAME = MARS
/* CAMERA DATA ELEMENTS */
DETECTOR_TEMPERATURE = 18.5744
FOCAL_PLANE_TEMPERATURE = 8.3794
INST_CMPRS_NAME = "DISCRETE COSINE TRANSFORMATION (DCT)"
INST_CMPRS_RATIO = 6.47367
INST_CMPRS_QUALITY = 0
INST_CMPRS_QUANTZ_TBL_ID = 0
INSTRUMENT_TEMPERATURE = 11.234
LENS_TEMPERATURE = 8.5833
MACROPIXEL_SIZE = 1
MISSING_FRAMES = 0
PIXEL_SUBSAMPLING_FLAG = N
SIGNAL_CHAIN_ID = 0
/* RADIOMETRIC DATA ELEMENTS */
BANDWIDTH = 177.0
CENTER_FILTER_WAVELENGTH = 677.5
RADIANCE_OFFSET = 1.16186
RADIANCE_SCALING_FACTOR = 0.00637882
REFLECTANCE_SCALING_FACTOR = 0.000200147
MEX:REFLECTANCE_OFFSET = 0.0364553
/* IMAGE OBJECT DEFINITIONS */
OBJECT = IMAGE
  INTERCHANGE_FORMAT = BINARY
  LINES = 34377
  LINE_SAMPLES = 6227
  SAMPLE_TYPE = UNSIGNED_INTEGER
  SAMPLE_BITS = 8
  BANDS = 1
  BAND_STORAGE_TYPE = BAND_SEQUENTIAL
  MAXIMUM = 255
  MEAN = 91.5546
  MINIMUM = 1
  STANDARD_DEVIATION = 19.9476
END_OBJECT = IMAGE
/* MAP OBJECT DEFINITIONS */
OBJECT = IMAGE_MAP_PROJECTION
  ^DATA_SET_MAP_PROJECTION_CATALOG= "DSMAP.CAT"
  A_AXIS_RADIUS = 3396.0
  B_AXIS_RADIUS = 3396.0
  C_AXIS_RADIUS = 3396.0
  CENTER_LATITUDE = 0.0
  CENTER_LONGITUDE = 325.0
  COORDINATE_SYSTEM_NAME = PLANETOGRAPHIC
  COORDINATE_SYSTEM_TYPE = "BODY-FIXED ROTATING"
  EASTERNMOST_LONGITUDE = 325.349
  FIRST_STANDARD_PARALLEL = "N/A"
  LINE_FIRST_PIXEL = 1
  LINE_LAST_PIXEL = 34377
  LINE_PROJECTION_OFFSET = 101512.0
  MAP_PROJECTION_ROTATION = 0.0
  MAP_PROJECTION_TYPE = SINUSOIDAL
  MAP_RESOLUTION = 4741.71043093333
  MAP_SCALE = 0.0125
  MAXIMUM_LATITUDE = 21.4079
  MINIMUM_LATITUDE = 14.1585
  POSITIVE_LONGITUDE_DIRECTION = EAST
  REFERENCE_LATITUDE = "N/A"
  REFERENCE_LONGITUDE = "N/A"
  SAMPLE_FIRST_PIXEL = 1
  SAMPLE_LAST_PIXEL = 6227
  SAMPLE_PROJECTION_OFFSET = 4684.0
  SECOND_STANDARD_PARALLEL = "N/A"
  WESTERNMOST_LONGITUDE = 323.982
END_OBJECT = IMAGE_MAP_PROJECTION
END
