PDS_VERSION_ID = PDS3
/* FILE DATA ELEMENTS */
RECORD_TYPE = UNDEFINED
/* POINTERS TO DATA OBJECTS */
^IMAGE = ("HH748_0000_P14.TIF")
/* IDENTIFICATION DATA ELEMENTS */
DATA_SET_ID = "MEX-M-HRSC-4-REFDR-MAPPROJECT-EXT6-V4.0"
DATA_SET_NAME = "MARS EXPRESS HRSC MAP PROJECTED REFDR EXTENSION6 V4.0"
DETECTOR_ID = MEX_HRSC_P1
EVENT_TYPE = "MARS-LOCAL-STEREO-Vo-Fl-La"
INSTRUMENT_HOST_ID = MEX
INSTRUMENT_HOST_NAME = "MARS EXPRESS"
INSTRUMENT_ID = HRSC
INSTRUMENT_NAME = "HIGH RESOLUTION STEREO CAMERA"
MISSION_NAME = "MARS EXPRESS"
MISSION_PHASE_NAME = ME_Phase_38
PROCESSING_LEVEL_ID = 4
PRODUCT_CREATION_TIME = 2023-01-28T19:29:54.000Z
PRODUCT_ID = "HH748_0000_P14.TIF"
RELEASE_ID = 0003
REVISION_ID = 0000
/* QUALITY DATA ELEMENTS */
DATA_QUALITY_ID = 1
DATA_QUALITY_DESC = "Data calculated based on original SPICE kernels"
/* TIME DATA ELEMENTS */
SPACECRAFT_CLOCK_START_COUNT = "1/0463519137.07345"
SPACECRAFT_CLOCK_STOP_COUNT = "1/0463519316.33414"
START_TIME = 2018-01-08T19:19:17.309Z
STOP_TIME = 2018-01-08T19:21:09.524Z
/* ORBITAL DATA ELEMENTS */
ASCENDING_NODE_LONGITUDE = 240.91
MAXIMUM_RESOLUTION = 0.0296
FOOTPRINT_POINT_LATITUDE = (21.4226,21.4246,21.4251,21.4249, 21.4243,21.4235,21.4234,21.3955,21.1091 ,20.8221,20.4632,20.1759,19.8888, 19.6012,19.2414,19.0975,18.9535,18.8094 ,18.6654,18.5213,18.3772,18.2331, 18.0889,17.9446,17.7281,17.5837,17.4393 ,17.295,17.1504,16.9335,16.789,16.6444, 16.4998,16.3552,16.2105,16.0656,15.8485 ,15.7002,15.5555,15.4106,15.2656, 15.1209,14.976,14.8276,14.6825,14.5373, 14.3922,14.2471,14.1746,14.1531,14.1528 ,14.1518,14.152,14.1484,14.1466,14.1465 ,14.1469,14.3646,14.5097,14.7274, 14.8759,15.021,15.2374,15.4562,15.6011, 15.8219,15.9669,16.1129,16.2591,16.4036 ,16.5482,16.6928,16.837,16.9815,17.1255 ,17.2698,17.4141,17.6308,17.7753, 17.9198,18.0642,18.2085,18.4249,18.5693 ,18.7135,18.8576,19.0018,19.1458, 19.2898,19.4339,19.5779,19.7938,20.0814 ,20.297,20.5125,20.7279,21.0868,21.3023 ,21.374,21.4226)
FOOTPRINT_POINT_LONGITUDE = (325.342,324.939,324.6,324.392,324.184, 324.014,324.001,323.984,323.986,323.987 ,323.989,323.99,323.992,323.993,323.994 ,323.994,323.994,323.995,323.995, 323.995,323.995,323.996,323.996,323.996 ,323.996,323.996,323.996,323.996, 323.996,323.996,323.995,323.995,323.995 ,323.995,323.994,323.994,323.993, 323.993,323.992,323.992,323.991,323.991 ,323.99,323.99,323.989,323.988,323.987, 323.987,323.986,323.986,324.315,324.618 ,324.832,325.111,325.275,325.288, 325.292,325.294,325.295,325.297,325.298 ,325.299,325.301,325.302,325.303, 325.305,325.306,325.307,325.307,325.309 ,325.31,325.311,325.313,325.314,325.316 ,325.317,325.319,325.32,325.322,325.323 ,325.324,325.326,325.328,325.329,325.33 ,325.332,325.333,325.334,325.336, 325.337,325.338,325.34,325.343,325.345, 325.347,325.35,325.353,325.355,325.356, 325.342)
ORBIT_NUMBER = 17748
ORBITAL_ECCENTRICITY = 0.576
ORBITAL_INCLINATION = 86.97
ORBITAL_SEMIMAJOR_AXIS = 8844.76
PERIAPSIS_ALTITUDE = 355.89
PERIAPSIS_ARGUMENT_ANGLE = 161.48
PERIAPSIS_TIME = 2018-01-08T19:20:24.000Z
SPACECRAFT_ORIENTATION = (0.0,-1.0,0.0)
^MEX_ORIENTATION_DESC = "MEX_ORIENTATION_DESC.TXT"
SPACECRAFT_POINTING_MODE = NADIR
^MEX_POINTING_DESC = "MEX_POINTING_DESC.TXT"
RIGHT_ASCENSION = -1e+32
DECLINATION = -1e+32
OFFSET_ANGLE = -1e+32
SPACECRAFT_SOLAR_DISTANCE = 2.4303e+08
TARGET_NAME = MARS
/* CAMERA DATA ELEMENTS */
DETECTOR_TEMPERATURE = 17.7588
FOCAL_PLANE_TEMPERATURE = 8.3794
INST_CMPRS_NAME = "DISCRETE COSINE TRANSFORMATION (DCT)"
INST_CMPRS_RATIO = 10.2048
INST_CMPRS_QUALITY = 0
INST_CMPRS_QUANTZ_TBL_ID = 0
INSTRUMENT_TEMPERATURE = 11.234
LENS_TEMPERATURE = 8.5833
MACROPIXEL_SIZE = 2
PIXEL_SUBSAMPLING_FLAG = N
SIGNAL_CHAIN_ID = 3
/* RADIOMETRIC DATA ELEMENTS */
BANDWIDTH = 174.0
CENTER_FILTER_WAVELENGTH = 675.0
RADIANCE_OFFSET = 1.40516
RADIANCE_SCALING_FACTOR = 0.00641011
REFLECTANCE_SCALING_FACTOR = 0.000203644
MEX:REFLECTANCE_OFFSET = 0.044641
/* IMAGE OBJECT DEFINITIONS */
OBJECT = IMAGE
  INTERCHANGE_FORMAT = BINARY
  LINES = 17189
  LINE_SAMPLES = 3114
  SAMPLE_TYPE = UNSIGNED_INTEGER
  SAMPLE_BITS = 8
  BANDS = 1
  BAND_STORAGE_TYPE = BAND_SEQUENTIAL
  MAXIMUM = 255
  MEAN = 88.9854
  MINIMUM = 1
  STANDARD_DEVIATION = 19.9177
END_OBJECT = IMAGE
/* MAP OBJECT DEFINITIONS */
OBJECT = IMAGE_MAP_PROJECTION
  ^DATA_SET_MAP_PROJECTION_CATALOG= "DSMAP.CAT"
  A_AXIS_RADIUS = 3396.0
  B_AXIS_RADIUS = 3396.0
  C_AXIS_RADIUS = 3396.0
  CENTER_LATITUDE = 0.0
  CENTER_LONGITUDE = 325.0
  COORDINATE_SYSTEM_NAME = PLANETOGRAPHIC
  COORDINATE_SYSTEM_TYPE = "BODY-FIXED ROTATING"
  EASTERNMOST_LONGITUDE = 325.356
  FIRST_STANDARD_PARALLEL = "N/A"
  LINE_FIRST_PIXEL = 1
  LINE_LAST_PIXEL = 17189
  LINE_PROJECTION_OFFSET = 50755.75
  MAP_PROJECTION_ROTATION = 0.0
  MAP_PROJECTION_TYPE = SINUSOIDAL
  MAP_RESOLUTION = 2370.85521546667
  MAP_SCALE = 0.025
  MAXIMUM_LATITUDE = 21.4251
  MINIMUM_LATITUDE = 14.1465
  POSITIVE_LONGITUDE_DIRECTION = EAST
  REFERENCE_LATITUDE = "N/A"
  REFERENCE_LONGITUDE = "N/A"
  SAMPLE_FIRST_PIXEL = 1
  SAMPLE_LAST_PIXEL = 3114
  SAMPLE_PROJECTION_OFFSET = 2341.75
  SECOND_STANDARD_PARALLEL = "N/A"
  WESTERNMOST_LONGITUDE = 323.984
END_OBJECT = IMAGE_MAP_PROJECTION
END
