PDS_VERSION_ID = PDS3
/* FILE DATA ELEMENTS */
RECORD_TYPE = UNDEFINED
/* POINTERS TO DATA OBJECTS */
^IMAGE = ("HH749_0000_S14.TIF")
/* IDENTIFICATION DATA ELEMENTS */
DATA_SET_ID = "MEX-M-HRSC-4-REFDR-MAPPROJECT-EXT6-V4.0"
DATA_SET_NAME = "MARS EXPRESS HRSC MAP PROJECTED REFDR EXTENSION6 V4.0"
DETECTOR_ID = MEX_HRSC_S1
EVENT_TYPE = "MARS-REGIONAL-STEREO-Vo-Gl-Mw"
INSTRUMENT_HOST_ID = MEX
INSTRUMENT_HOST_NAME = "MARS EXPRESS"
INSTRUMENT_ID = HRSC
INSTRUMENT_NAME = "HIGH RESOLUTION STEREO CAMERA"
MISSION_NAME = "MARS EXPRESS"
MISSION_PHASE_NAME = ME_Phase_38
PROCESSING_LEVEL_ID = 4
PRODUCT_CREATION_TIME = 2023-01-28T19:29:54.000Z
PRODUCT_ID = "HH749_0000_S14.TIF"
RELEASE_ID = 0003
REVISION_ID = 0000
/* QUALITY DATA ELEMENTS */
DATA_QUALITY_ID = 1
DATA_QUALITY_DESC = "Data calculated based on original SPICE kernels"
/* TIME DATA ELEMENTS */
SPACECRAFT_CLOCK_START_COUNT = "1/0463544281.07347"
SPACECRAFT_CLOCK_STOP_COUNT = "1/0463544494.55825"
START_TIME = 2018-01-09T02:18:10.162Z
STOP_TIME = 2018-01-09T02:20:36.413Z
/* ORBITAL DATA ELEMENTS */
ASCENDING_NODE_LONGITUDE = 240.9
MAXIMUM_RESOLUTION = 0.0295
FOOTPRINT_POINT_LATITUDE = (23.7451,23.7464,23.7468,23.7466, 23.7458,23.743,23.7429,23.7115,23.3342, 23.0579,22.8735,22.5083,22.3238,22.139, 21.8623,21.5848,21.3099,20.9459,20.6795 ,20.318,20.1334,19.8645,19.6808,19.4063 ,19.1149,18.9163,18.5526,18.3664, 18.1803,17.9933,17.8078,17.624,17.4385, 17.2509,16.967,16.7776,16.5873,16.3942, 16.2025,16.012,15.8204,15.6269,15.4346, 15.2411,14.9546,14.7634,14.4783,14.3831 ,14.3456,14.347,14.3493,14.3495,14.3494 ,14.3497,14.3495,14.3499,14.543,14.735, 14.9262,15.2191,15.4203,15.6133,15.8055 ,15.9972,16.1886,16.3788,16.6643, 16.8535,17.0432,17.2315,17.4202,17.7029 ,17.8906,18.0786,18.3606,18.5469, 18.7332,18.9189,19.1054,19.2911,19.4768 ,19.6619,19.8478,20.0331,20.2191, 20.4034,20.7689,20.9545,21.2317,21.4163 ,21.6012,21.8785,22.0634,22.4243, 22.7669,23.1229,23.3922,23.5761,23.6721 ,23.7451)
FOOTPRINT_POINT_LONGITUDE = (223.09,222.819,222.603,222.319,222.103 ,221.711,221.697,221.683,221.688, 221.691,221.692,221.697,221.699,221.701 ,221.703,221.706,221.709,221.713, 221.719,221.725,221.726,221.731,221.732 ,221.735,221.732,221.729,221.733, 221.734,221.735,221.735,221.736,221.737 ,221.738,221.738,221.737,221.736, 221.736,221.734,221.732,221.731,221.73, 221.728,221.726,221.724,221.722,221.72, 221.719,221.718,221.718,221.929,222.291 ,222.527,222.725,222.985,222.998, 223.002,223.002,223.003,223.004,223.003 ,223.001,223.001,223.001,223.002, 223.003,223.004,223.005,223.006,223.008 ,223.009,223.011,223.013,223.014, 223.016,223.018,223.02,223.022,223.025, 223.027,223.029,223.031,223.033,223.035 ,223.037,223.039,223.042,223.048,223.05 ,223.053,223.055,223.057,223.06,223.063 ,223.069,223.082,223.091,223.096, 223.098,223.099,223.09)
ORBIT_NUMBER = 17749
ORBITAL_ECCENTRICITY = 0.577
ORBITAL_INCLINATION = 86.96
ORBITAL_SEMIMAJOR_AXIS = 8857.0
PERIAPSIS_ALTITUDE = 355.56
PERIAPSIS_ARGUMENT_ANGLE = 161.29
PERIAPSIS_TIME = 2018-01-09T02:20:01.000Z
SPACECRAFT_ORIENTATION = (0.0,-1.0,0.0)
^MEX_ORIENTATION_DESC = "MEX_ORIENTATION_DESC.TXT"
SPACECRAFT_POINTING_MODE = ACROSSTRACK
^MEX_POINTING_DESC = "MEX_POINTING_DESC.TXT"
RIGHT_ASCENSION = -1e+32
DECLINATION = -1e+32
OFFSET_ANGLE = -0.808
SPACECRAFT_SOLAR_DISTANCE = 2.42993e+08
TARGET_NAME = MARS
/* CAMERA DATA ELEMENTS */
DETECTOR_TEMPERATURE = 17.7588
FOCAL_PLANE_TEMPERATURE = 9.195
INST_CMPRS_NAME = "DISCRETE COSINE TRANSFORMATION (DCT)"
INST_CMPRS_RATIO = 14.677
INST_CMPRS_QUALITY = 0
INST_CMPRS_QUANTZ_TBL_ID = 0
INSTRUMENT_TEMPERATURE = 11.6418
LENS_TEMPERATURE = 9.8067
MACROPIXEL_SIZE = 2
MISSING_FRAMES = 0
PIXEL_SUBSAMPLING_FLAG = N
SIGNAL_CHAIN_ID = 1
/* RADIOMETRIC DATA ELEMENTS */
BANDWIDTH = 180.0
CENTER_FILTER_WAVELENGTH = 677.0
RADIANCE_OFFSET = 2.25052
RADIANCE_SCALING_FACTOR = 0.0100642
REFLECTANCE_SCALING_FACTOR = 0.000310035
MEX:REFLECTANCE_OFFSET = 0.0693285
/* IMAGE OBJECT DEFINITIONS */
OBJECT = IMAGE
  INTERCHANGE_FORMAT = BINARY
  LINES = 22249
  LINE_SAMPLES = 3018
  SAMPLE_TYPE = UNSIGNED_INTEGER
  SAMPLE_BITS = 8
  BANDS = 1
  BAND_STORAGE_TYPE = BAND_SEQUENTIAL
  MAXIMUM = 255
  MEAN = 145.857
  MINIMUM = 1
  STANDARD_DEVIATION = 40.8453
END_OBJECT = IMAGE
/* MAP OBJECT DEFINITIONS */
OBJECT = IMAGE_MAP_PROJECTION
  ^DATA_SET_MAP_PROJECTION_CATALOG= "DSMAP.CAT"
  A_AXIS_RADIUS = 3396.0
  B_AXIS_RADIUS = 3396.0
  C_AXIS_RADIUS = 3396.0
  CENTER_LATITUDE = 0.0
  CENTER_LONGITUDE = 222.0
  COORDINATE_SYSTEM_NAME = PLANETOGRAPHIC
  COORDINATE_SYSTEM_TYPE = "BODY-FIXED ROTATING"
  EASTERNMOST_LONGITUDE = 223.099
  FIRST_STANDARD_PARALLEL = "N/A"
  LINE_FIRST_PIXEL = 1
  LINE_LAST_PIXEL = 22249
  LINE_PROJECTION_OFFSET = 56211.25
  MAP_PROJECTION_ROTATION = 0.0
  MAP_PROJECTION_TYPE = SINUSOIDAL
  MAP_RESOLUTION = 2370.85521546667
  MAP_SCALE = 0.025
  MAXIMUM_LATITUDE = 23.7468
  MINIMUM_LATITUDE = 14.3456
  POSITIVE_LONGITUDE_DIRECTION = EAST
  REFERENCE_LATITUDE = "N/A"
  REFERENCE_LONGITUDE = "N/A"
  SAMPLE_FIRST_PIXEL = 1
  SAMPLE_LAST_PIXEL = 3018
  SAMPLE_PROJECTION_OFFSET = 665.25
  SECOND_STANDARD_PARALLEL = "N/A"
  WESTERNMOST_LONGITUDE = 221.683
END_OBJECT = IMAGE_MAP_PROJECTION
END
