PDS_VERSION_ID = PDS3
/* FILE DATA ELEMENTS */
RECORD_TYPE = UNDEFINED
/* POINTERS TO DATA OBJECTS */
^IMAGE = ("HH758_0000_BL4.TIF")
/* IDENTIFICATION DATA ELEMENTS */
DATA_SET_ID = "MEX-M-HRSC-4-REFDR-MAPPROJECT-EXT6-V4.0"
DATA_SET_NAME = "MARS EXPRESS HRSC MAP PROJECTED REFDR EXTENSION6 V4.0"
DETECTOR_ID = MEX_HRSC_BLUE
EVENT_TYPE = "MARS-REGIONAL-MAPPING-Im-Gl"
INSTRUMENT_HOST_ID = MEX
INSTRUMENT_HOST_NAME = "MARS EXPRESS"
INSTRUMENT_ID = HRSC
INSTRUMENT_NAME = "HIGH RESOLUTION STEREO CAMERA"
MISSION_NAME = "MARS EXPRESS"
MISSION_PHASE_NAME = ME_Phase_38
PROCESSING_LEVEL_ID = 4
PRODUCT_CREATION_TIME = 2023-01-28T19:29:54.000Z
PRODUCT_ID = "HH758_0000_BL4.TIF"
RELEASE_ID = 0003
REVISION_ID = 0000
/* QUALITY DATA ELEMENTS */
DATA_QUALITY_ID = 1
DATA_QUALITY_DESC = "Data calculated based on original SPICE kernels"
/* TIME DATA ELEMENTS */
SPACECRAFT_CLOCK_START_COUNT = "1/0463770902.09052"
SPACECRAFT_CLOCK_STOP_COUNT = "1/0463771148.41052"
START_TIME = 2018-01-11T17:15:51.889Z
STOP_TIME = 2018-01-11T17:18:47.601Z
/* ORBITAL DATA ELEMENTS */
ASCENDING_NODE_LONGITUDE = 240.73
MAXIMUM_RESOLUTION = 0.0575
FOOTPRINT_POINT_LATITUDE = (27.1773,27.1758,27.1732,27.1694, 27.1693,27.1739,26.9086,26.6433,26.3781 ,26.0123,25.7899,25.5674,25.3449, 25.1223,24.8995,24.6771,24.4544,24.2313 ,24.0087,23.7859,23.4523,23.2295, 22.8952,22.5613,22.2272,21.8932,21.6705 ,21.2258,21.0023,20.6682,20.4455, 20.2228,19.889,19.5554,19.3331,19.1107, 18.888,18.5543,18.1096,17.8873,17.665, 17.443,17.11,16.888,16.5551,16.3332, 16.0005,15.8895,15.8094,15.8108,15.8118 ,15.812,15.812,15.8128,16.2566,16.4785, 16.7005,16.9226,17.1447,17.3669,17.7002 ,17.9223,18.1449,18.3675,18.8113, 19.0337,19.2568,19.4789,19.7016,19.9243 ,20.1473,20.4816,20.7047,20.9273, 21.1501,21.373,21.5959,21.8187,22.0414, 22.2643,22.4873,22.7102,22.9329,23.3787 ,23.7128,24.0471,24.2699,24.4929, 24.7156,24.9385,25.161,25.3837,25.6062, 25.94,26.1626,26.4236,26.6892,26.9547, 27.0872,27.1773)
FOOTPRINT_POINT_LONGITUDE = (23.6357,23.0418,22.6032,22.1756, 22.1625,22.1673,22.1683,22.1693,22.1706 ,22.1717,22.1723,22.1728,22.1731, 22.1734,22.1733,22.1737,22.1736,22.1729 ,22.173,22.1726,22.1729,22.1725,22.1715 ,22.171,22.1701,22.169,22.1682,22.1675, 22.1653,22.1634,22.1621,22.1608,22.1588 ,22.157,22.1558,22.1543,22.1523,22.1495 ,22.1457,22.1438,22.1417,22.1398, 22.1367,22.1346,22.1311,22.1287,22.1249 ,22.1235,22.1227,22.4906,22.8813, 23.4664,23.4797,23.4841,23.4902,23.4927 ,23.496,23.4988,23.5016,23.5048,23.5088 ,23.5105,23.5152,23.5189,23.5196, 23.5217,23.5278,23.5283,23.5319,23.5355 ,23.54,23.5462,23.5517,23.5541,23.5577, 23.5617,23.5654,23.5689,23.5716,23.5755 ,23.5803,23.5841,23.5874,23.5958, 23.6009,23.607,23.6113,23.6165,23.6204, 23.6253,23.6285,23.6328,23.6366,23.6427 ,23.6471,23.6525,23.6583,23.6636, 23.6657,23.6357)
ORBIT_NUMBER = 17758
ORBITAL_ECCENTRICITY = 0.576
ORBITAL_INCLINATION = 86.95
ORBITAL_SEMIMAJOR_AXIS = 8850.07
PERIAPSIS_ALTITUDE = 356.73
PERIAPSIS_ARGUMENT_ANGLE = 159.76
PERIAPSIS_TIME = 2018-01-11T17:17:34.000Z
SPACECRAFT_ORIENTATION = (0.0,-1.0,0.0)
^MEX_ORIENTATION_DESC = "MEX_ORIENTATION_DESC.TXT"
SPACECRAFT_POINTING_MODE = ACROSSTRACK
^MEX_POINTING_DESC = "MEX_POINTING_DESC.TXT"
RIGHT_ASCENSION = -1e+32
DECLINATION = -1e+32
OFFSET_ANGLE = 1.12
SPACECRAFT_SOLAR_DISTANCE = 2.4265e+08
TARGET_NAME = MARS
/* CAMERA DATA ELEMENTS */
DETECTOR_TEMPERATURE = 18.3705
FOCAL_PLANE_TEMPERATURE = 7.9716
INST_CMPRS_NAME = "DISCRETE COSINE TRANSFORMATION (DCT)"
INST_CMPRS_RATIO = 3.9585
INST_CMPRS_QUALITY = 0
INST_CMPRS_QUANTZ_TBL_ID = 0
INSTRUMENT_TEMPERATURE = 11.234
LENS_TEMPERATURE = 8.5833
MACROPIXEL_SIZE = 4
MISSING_FRAMES = 0
PIXEL_SUBSAMPLING_FLAG = N
SIGNAL_CHAIN_ID = 2
/* RADIOMETRIC DATA ELEMENTS */
BANDWIDTH = 76.0
CENTER_FILTER_WAVELENGTH = 444.0
RADIANCE_OFFSET = 0.267064
RADIANCE_SCALING_FACTOR = 0.00144775
REFLECTANCE_SCALING_FACTOR = 8.75811e-05
MEX:REFLECTANCE_OFFSET = 0.0161559
/* IMAGE OBJECT DEFINITIONS */
OBJECT = IMAGE
  INTERCHANGE_FORMAT = BINARY
  LINES = 13499
  LINE_SAMPLES = 1715
  SAMPLE_TYPE = UNSIGNED_INTEGER
  SAMPLE_BITS = 8
  BANDS = 1
  BAND_STORAGE_TYPE = BAND_SEQUENTIAL
  MAXIMUM = 254
  MEAN = 152.172
  MINIMUM = 1
  STANDARD_DEVIATION = 23.9965
END_OBJECT = IMAGE
/* MAP OBJECT DEFINITIONS */
OBJECT = IMAGE_MAP_PROJECTION
  ^DATA_SET_MAP_PROJECTION_CATALOG= "DSMAP.CAT"
  A_AXIS_RADIUS = 3396.0
  B_AXIS_RADIUS = 3396.0
  C_AXIS_RADIUS = 3396.0
  CENTER_LATITUDE = 0.0
  CENTER_LONGITUDE = 23.0
  COORDINATE_SYSTEM_NAME = PLANETOGRAPHIC
  COORDINATE_SYSTEM_TYPE = "BODY-FIXED ROTATING"
  EASTERNMOST_LONGITUDE = 23.6657
  FIRST_STANDARD_PARALLEL = "N/A"
  LINE_FIRST_PIXEL = 1
  LINE_LAST_PIXEL = 13499
  LINE_PROJECTION_OFFSET = 32226.125
  MAP_PROJECTION_ROTATION = 0.0
  MAP_PROJECTION_TYPE = SINUSOIDAL
  MAP_RESOLUTION = 1185.42760773333
  MAP_SCALE = 0.05
  MAXIMUM_LATITUDE = 27.1773
  MINIMUM_LATITUDE = 15.8094
  POSITIVE_LONGITUDE_DIRECTION = EAST
  REFERENCE_LATITUDE = "N/A"
  REFERENCE_LONGITUDE = "N/A"
  SAMPLE_FIRST_PIXEL = 1
  SAMPLE_LAST_PIXEL = 1715
  SAMPLE_PROJECTION_OFFSET = 1008.125
  SECOND_STANDARD_PARALLEL = "N/A"
  WESTERNMOST_LONGITUDE = 22.1227
END_OBJECT = IMAGE_MAP_PROJECTION
END
