PDS_VERSION_ID = PDS3
/* FILE DATA ELEMENTS */
RECORD_TYPE = UNDEFINED
/* POINTERS TO DATA OBJECTS */
^IMAGE = ("HH758_0000_S24.TIF")
/* IDENTIFICATION DATA ELEMENTS */
DATA_SET_ID = "MEX-M-HRSC-4-REFDR-MAPPROJECT-EXT6-V4.0"
DATA_SET_NAME = "MARS EXPRESS HRSC MAP PROJECTED REFDR EXTENSION6 V4.0"
DETECTOR_ID = MEX_HRSC_S2
EVENT_TYPE = "MARS-REGIONAL-MAPPING-Im-Gl"
INSTRUMENT_HOST_ID = MEX
INSTRUMENT_HOST_NAME = "MARS EXPRESS"
INSTRUMENT_ID = HRSC
INSTRUMENT_NAME = "HIGH RESOLUTION STEREO CAMERA"
MISSION_NAME = "MARS EXPRESS"
MISSION_PHASE_NAME = ME_Phase_38
PROCESSING_LEVEL_ID = 4
PRODUCT_CREATION_TIME = 2023-01-28T19:29:54.000Z
PRODUCT_ID = "HH758_0000_S24.TIF"
RELEASE_ID = 0003
REVISION_ID = 0000
/* QUALITY DATA ELEMENTS */
DATA_QUALITY_ID = 1
DATA_QUALITY_DESC = "Data calculated based on original SPICE kernels"
/* TIME DATA ELEMENTS */
SPACECRAFT_CLOCK_START_COUNT = "1/0463770902.09052"
SPACECRAFT_CLOCK_STOP_COUNT = "1/0463771148.41052"
START_TIME = 2018-01-11T17:16:19.577Z
STOP_TIME = 2018-01-11T17:19:15.706Z
/* ORBITAL DATA ELEMENTS */
ASCENDING_NODE_LONGITUDE = 240.73
MAXIMUM_RESOLUTION = 0.0307
FOOTPRINT_POINT_LATITUDE = (27.2026,27.1713,27.1453,27.1197, 27.1189,27.1502,26.8046,26.5746,26.3459 ,26.1162,25.8866,25.5425,25.3129, 25.0833,24.738,24.3948,24.1631,23.9344, 23.5913,23.2499,23.0212,22.7925,22.5651 ,22.3374,22.1095,21.8817,21.5401, 21.2033,20.9729,20.6302,20.2896,19.9503 ,19.612,19.2741,19.048,18.8207,18.5947, 18.3735,18.1435,17.9185,17.6929,17.4686 ,17.1321,16.9083,16.6841,16.46,16.1241, 15.8996,15.7884,15.7758,15.8077,15.8329 ,15.8536,15.8544,15.8551,16.0792,16.415 ,16.7513,16.9755,17.2005,17.4251, 17.7614,18.1001,18.3263,18.5502,18.7717 ,18.9963,19.2252,19.4485,19.7888, 20.1304,20.472,20.7009,21.0409,21.3827, 21.6104,21.8378,22.0649,22.2933,22.5226 ,22.7509,22.9785,23.2058,23.4361, 23.6648,23.8934,24.1231,24.468,24.8122, 25.042,25.2707,25.5,25.7288,25.959, 26.1889,26.5343,26.8804,27.1097,27.2234 ,27.2026)
FOOTPRINT_POINT_LONGITUDE = (23.6424,23.0818,22.6247,22.1799, 22.1662,22.1702,22.171,22.1715,22.1722, 22.1726,22.1729,22.1732,22.1733,22.1732 ,22.1726,22.1724,22.1713,22.1709, 22.1702,22.1696,22.1688,22.1679,22.1672 ,22.1663,22.1653,22.1642,22.1624, 22.1616,22.1594,22.1567,22.1543,22.152, 22.1496,22.1472,22.1452,22.1428,22.1406 ,22.1396,22.1362,22.134,22.1315,22.1293 ,22.1256,22.1232,22.1206,22.118,22.1138 ,22.1107,22.1094,22.1093,22.6747, 23.1099,23.4859,23.5,23.5051,23.508, 23.5118,23.5158,23.5184,23.5214,23.5239 ,23.5271,23.5321,23.5357,23.537,23.5361 ,23.5379,23.5434,23.5437,23.5489, 23.5551,23.561,23.5659,23.57,23.5755, 23.579,23.5821,23.5848,23.5886,23.5932, 23.5968,23.5997,23.6022,23.6074,23.611, 23.6146,23.6191,23.626,23.6321,23.6365, 23.6397,23.6436,23.6468,23.6513,23.6556 ,23.6623,23.6696,23.6732,23.6739, 23.6424)
ORBIT_NUMBER = 17758
ORBITAL_ECCENTRICITY = 0.576
ORBITAL_INCLINATION = 86.95
ORBITAL_SEMIMAJOR_AXIS = 8850.07
PERIAPSIS_ALTITUDE = 356.73
PERIAPSIS_ARGUMENT_ANGLE = 159.76
PERIAPSIS_TIME = 2018-01-11T17:17:34.000Z
SPACECRAFT_ORIENTATION = (0.0,-1.0,0.0)
^MEX_ORIENTATION_DESC = "MEX_ORIENTATION_DESC.TXT"
SPACECRAFT_POINTING_MODE = ACROSSTRACK
^MEX_POINTING_DESC = "MEX_POINTING_DESC.TXT"
RIGHT_ASCENSION = -1e+32
DECLINATION = -1e+32
OFFSET_ANGLE = 1.12
SPACECRAFT_SOLAR_DISTANCE = 2.4265e+08
TARGET_NAME = MARS
/* CAMERA DATA ELEMENTS */
DETECTOR_TEMPERATURE = 18.5744
FOCAL_PLANE_TEMPERATURE = 7.9716
INST_CMPRS_NAME = "DISCRETE COSINE TRANSFORMATION (DCT)"
INST_CMPRS_RATIO = 9.41897
INST_CMPRS_QUALITY = 0
INST_CMPRS_QUANTZ_TBL_ID = 0
INSTRUMENT_TEMPERATURE = 11.234
LENS_TEMPERATURE = 8.5833
MACROPIXEL_SIZE = 2
MISSING_FRAMES = 0
PIXEL_SUBSAMPLING_FLAG = N
SIGNAL_CHAIN_ID = 1
/* RADIOMETRIC DATA ELEMENTS */
BANDWIDTH = 178.0
CENTER_FILTER_WAVELENGTH = 679.0
RADIANCE_OFFSET = 1.84455
RADIANCE_SCALING_FACTOR = 0.014869
REFLECTANCE_SCALING_FACTOR = 0.000463627
MEX:REFLECTANCE_OFFSET = 0.0575149
/* IMAGE OBJECT DEFINITIONS */
OBJECT = IMAGE
  INTERCHANGE_FORMAT = BINARY
  LINES = 26998
  LINE_SAMPLES = 3429
  SAMPLE_TYPE = UNSIGNED_INTEGER
  SAMPLE_BITS = 8
  BANDS = 1
  BAND_STORAGE_TYPE = BAND_SEQUENTIAL
  MAXIMUM = 255
  MEAN = 100.908
  MINIMUM = 1
  STANDARD_DEVIATION = 25.2364
END_OBJECT = IMAGE
/* MAP OBJECT DEFINITIONS */
OBJECT = IMAGE_MAP_PROJECTION
  ^DATA_SET_MAP_PROJECTION_CATALOG= "DSMAP.CAT"
  A_AXIS_RADIUS = 3396.0
  B_AXIS_RADIUS = 3396.0
  C_AXIS_RADIUS = 3396.0
  CENTER_LATITUDE = 0.0
  CENTER_LONGITUDE = 23.0
  COORDINATE_SYSTEM_NAME = PLANETOGRAPHIC
  COORDINATE_SYSTEM_TYPE = "BODY-FIXED ROTATING"
  EASTERNMOST_LONGITUDE = 23.6739
  FIRST_STANDARD_PARALLEL = "N/A"
  LINE_FIRST_PIXEL = 1
  LINE_LAST_PIXEL = 26998
  LINE_PROJECTION_OFFSET = 64452.75
  MAP_PROJECTION_ROTATION = 0.0
  MAP_PROJECTION_TYPE = SINUSOIDAL
  MAP_RESOLUTION = 2370.85521546667
  MAP_SCALE = 0.025
  MAXIMUM_LATITUDE = 27.2234
  MINIMUM_LATITUDE = 15.7758
  POSITIVE_LONGITUDE_DIRECTION = EAST
  REFERENCE_LATITUDE = "N/A"
  REFERENCE_LONGITUDE = "N/A"
  SAMPLE_FIRST_PIXEL = 1
  SAMPLE_LAST_PIXEL = 3429
  SAMPLE_PROJECTION_OFFSET = 2016.75
  SECOND_STANDARD_PARALLEL = "N/A"
  WESTERNMOST_LONGITUDE = 22.1093
END_OBJECT = IMAGE_MAP_PROJECTION
END
