PDS_VERSION_ID = PDS3
/* FILE DATA ELEMENTS */
RECORD_TYPE = UNDEFINED
/* POINTERS TO DATA OBJECTS */
^IMAGE = ("HH761_0009_ND4.TIF")
/* IDENTIFICATION DATA ELEMENTS */
DATA_SET_ID = "MEX-M-HRSC-4-REFDR-MAPPROJECT-EXT6-V4.0"
DATA_SET_NAME = "MARS EXPRESS HRSC MAP PROJECTED REFDR EXTENSION6 V4.0"
DETECTOR_ID = MEX_HRSC_NADIR
EVENT_TYPE = "MARS-REGIONAL-MAPPING-Vo-Te-Eo"
INSTRUMENT_HOST_ID = MEX
INSTRUMENT_HOST_NAME = "MARS EXPRESS"
INSTRUMENT_ID = HRSC
INSTRUMENT_NAME = "HIGH RESOLUTION STEREO CAMERA"
MISSION_NAME = "MARS EXPRESS"
MISSION_PHASE_NAME = ME_Phase_38
PROCESSING_LEVEL_ID = 4
PRODUCT_CREATION_TIME = 2023-01-28T19:29:54.000Z
PRODUCT_ID = "HH761_0009_ND4.TIF"
RELEASE_ID = 0003
REVISION_ID = 0000
/* QUALITY DATA ELEMENTS */
DATA_QUALITY_ID = 1
DATA_QUALITY_DESC = "Data calculated based on original SPICE kernels"
/* TIME DATA ELEMENTS */
SPACECRAFT_CLOCK_START_COUNT = "1/0463846514.09083"
SPACECRAFT_CLOCK_STOP_COUNT = "1/0463846747.06712"
START_TIME = 2018-01-12T14:15:56.586Z
STOP_TIME = 2018-01-12T14:18:39.565Z
/* ORBITAL DATA ELEMENTS */
ASCENDING_NODE_LONGITUDE = 240.67
MAXIMUM_RESOLUTION = 0.0143
FOOTPRINT_POINT_LATITUDE = (23.7356,23.7387,23.7408,23.7438, 23.7455,23.7455,23.7454,23.5366,23.3278 ,23.119,22.9101,22.5968,22.3879,22.1789 ,21.9699,21.761,21.552,21.2385,21.0295, 20.8206,20.6116,20.4026,20.0891,19.8801 ,19.6712,19.3577,19.1488,18.9399,18.731 ,18.5221,18.3133,18.1044,17.8956, 17.5825,17.3738,17.1651,16.9564,16.7478 ,16.5392,16.3307,15.9137,15.4969, 15.0804,14.664,14.2479,13.832,13.5932, 13.3452,13.2213,13.2096,13.207,13.2039, 13.1984,13.1955,13.1953,13.1955,13.4435 ,13.8083,14.2243,14.6405,14.9529, 15.2653,15.6822,15.8907,16.0992,16.3078 ,16.5164,16.7251,16.9338,17.2469, 17.4557,17.6645,17.8734,18.0823,18.2912 ,18.5001,18.7091,18.9181,19.1271, 19.3361,19.6497,19.8587,20.0678,20.2769 ,20.4859,20.7996,21.0086,21.2177, 21.4268,21.6359,21.8449,22.1585,22.472, 22.681,22.9945,23.2035,23.4124,23.6213, 23.7257,23.7356)
FOOTPRINT_POINT_LONGITUDE = (76.7595,76.4679,76.2387,75.791,75.3562 ,75.3429,75.3405,75.3401,75.3401, 75.3405,75.3396,75.3394,75.3386,75.3376 ,75.3349,75.3334,75.3332,75.3311, 75.3299,75.329,75.3287,75.3266,75.3243, 75.3223,75.321,75.3183,75.3166,75.3154, 75.314,75.3126,75.3096,75.307,75.3067, 75.3044,75.3022,75.3,75.2978,75.2955, 75.2931,75.2907,75.2857,75.2805,75.275, 75.2691,75.2633,75.2572,75.2537,75.2499 ,75.2479,75.2477,75.5626,75.885,76.3834 ,76.6104,76.6247,76.6317,76.6348, 76.6384,76.6438,76.6484,76.6548,76.6615 ,76.6628,76.6657,76.6684,76.6719, 76.6753,76.6784,76.6817,76.6832,76.6887 ,76.69,76.6922,76.6939,76.6971,76.6995, 76.7021,76.7033,76.7065,76.7102,76.7158 ,76.7157,76.7172,76.7194,76.7227, 76.7263,76.7291,76.7314,76.7322,76.7367 ,76.7397,76.7457,76.754,76.7563,76.7609 ,76.767,76.7718,76.7748,76.7766, 76.7595)
ORBIT_NUMBER = 17761
ORBITAL_ECCENTRICITY = 0.576
ORBITAL_INCLINATION = 86.97
ORBITAL_SEMIMAJOR_AXIS = 8852.08
PERIAPSIS_ALTITUDE = 356.25
PERIAPSIS_ARGUMENT_ANGLE = 159.23
PERIAPSIS_TIME = 2018-01-12T14:16:43.000Z
SPACECRAFT_ORIENTATION = (0.0,-1.0,0.0)
^MEX_ORIENTATION_DESC = "MEX_ORIENTATION_DESC.TXT"
SPACECRAFT_POINTING_MODE = ACROSSTRACK
^MEX_POINTING_DESC = "MEX_POINTING_DESC.TXT"
RIGHT_ASCENSION = -1e+32
DECLINATION = -1e+32
OFFSET_ANGLE = 1.2
SPACECRAFT_SOLAR_DISTANCE = 2.42533e+08
TARGET_NAME = MARS
/* CAMERA DATA ELEMENTS */
DETECTOR_TEMPERATURE = 18.5744
FOCAL_PLANE_TEMPERATURE = 8.7872
INST_CMPRS_NAME = "DISCRETE COSINE TRANSFORMATION (DCT)"
INST_CMPRS_RATIO = 6.11269
INST_CMPRS_QUALITY = 0
INST_CMPRS_QUANTZ_TBL_ID = 0
INSTRUMENT_TEMPERATURE = 12.0496
LENS_TEMPERATURE = 9.195
MACROPIXEL_SIZE = 1
MISSING_FRAMES = 0
PIXEL_SUBSAMPLING_FLAG = N
SIGNAL_CHAIN_ID = 0
/* RADIOMETRIC DATA ELEMENTS */
BANDWIDTH = 177.0
CENTER_FILTER_WAVELENGTH = 677.5
RADIANCE_OFFSET = 0.890029
RADIANCE_SCALING_FACTOR = 0.0112344
REFLECTANCE_SCALING_FACTOR = 0.000351058
MEX:REFLECTANCE_OFFSET = 0.027812
/* IMAGE OBJECT DEFINITIONS */
OBJECT = IMAGE
  INTERCHANGE_FORMAT = BINARY
  LINES = 50026
  LINE_SAMPLES = 6844
  SAMPLE_TYPE = UNSIGNED_INTEGER
  SAMPLE_BITS = 8
  BANDS = 1
  BAND_STORAGE_TYPE = BAND_SEQUENTIAL
  MAXIMUM = 255
  MEAN = 72.1467
  MINIMUM = 1
  STANDARD_DEVIATION = 22.7897
END_OBJECT = IMAGE
/* MAP OBJECT DEFINITIONS */
OBJECT = IMAGE_MAP_PROJECTION
  ^DATA_SET_MAP_PROJECTION_CATALOG= "DSMAP.CAT"
  A_AXIS_RADIUS = 3396.0
  B_AXIS_RADIUS = 3396.0
  C_AXIS_RADIUS = 3396.0
  CENTER_LATITUDE = 0.0
  CENTER_LONGITUDE = 76.0
  COORDINATE_SYSTEM_NAME = PLANETOGRAPHIC
  COORDINATE_SYSTEM_TYPE = "BODY-FIXED ROTATING"
  EASTERNMOST_LONGITUDE = 76.7766
  FIRST_STANDARD_PARALLEL = "N/A"
  LINE_FIRST_PIXEL = 1
  LINE_LAST_PIXEL = 50026
  LINE_PROJECTION_OFFSET = 112594.0
  MAP_PROJECTION_ROTATION = 0.0
  MAP_PROJECTION_TYPE = SINUSOIDAL
  MAP_RESOLUTION = 4741.71043093333
  MAP_SCALE = 0.0125
  MAXIMUM_LATITUDE = 23.7455
  MINIMUM_LATITUDE = 13.1953
  POSITIVE_LONGITUDE_DIRECTION = EAST
  REFERENCE_LATITUDE = "N/A"
  REFERENCE_LONGITUDE = "N/A"
  SAMPLE_FIRST_PIXEL = 1
  SAMPLE_LAST_PIXEL = 6844
  SAMPLE_PROJECTION_OFFSET = 3472.0
  SECOND_STANDARD_PARALLEL = "N/A"
  WESTERNMOST_LONGITUDE = 75.24769999999999
END_OBJECT = IMAGE_MAP_PROJECTION
END
