PDS_VERSION_ID = PDS3
/* FILE DATA ELEMENTS */
RECORD_TYPE = UNDEFINED
/* POINTERS TO DATA OBJECTS */
^IMAGE = ("HH763_0009_S24.TIF")
/* IDENTIFICATION DATA ELEMENTS */
DATA_SET_ID = "MEX-M-HRSC-4-REFDR-MAPPROJECT-EXT6-V4.0"
DATA_SET_NAME = "MARS EXPRESS HRSC MAP PROJECTED REFDR EXTENSION6 V4.0"
DETECTOR_ID = MEX_HRSC_S2
EVENT_TYPE = "MARS-REGIONAL-STEREO-Vo-Gl-Mw"
INSTRUMENT_HOST_ID = MEX
INSTRUMENT_HOST_NAME = "MARS EXPRESS"
INSTRUMENT_ID = HRSC
INSTRUMENT_NAME = "HIGH RESOLUTION STEREO CAMERA"
MISSION_NAME = "MARS EXPRESS"
MISSION_PHASE_NAME = ME_Phase_38
PROCESSING_LEVEL_ID = 4
PRODUCT_CREATION_TIME = 2023-01-28T19:29:54.000Z
PRODUCT_ID = "HH763_0009_S24.TIF"
RELEASE_ID = 0003
REVISION_ID = 0000
/* QUALITY DATA ELEMENTS */
DATA_QUALITY_ID = 1
DATA_QUALITY_DESC = "Data calculated based on original SPICE kernels"
/* TIME DATA ELEMENTS */
SPACECRAFT_CLOCK_START_COUNT = "1/0463896894.09033"
SPACECRAFT_CLOCK_STOP_COUNT = "1/0463897094.55981"
START_TIME = 2018-01-13T04:16:08.573Z
STOP_TIME = 2018-01-13T04:18:21.952Z
/* ORBITAL DATA ELEMENTS */
ASCENDING_NODE_LONGITUDE = 240.64
MAXIMUM_RESOLUTION = 0.0301
FOOTPRINT_POINT_LATITUDE = (22.8776,22.8652,22.8562,22.8474, 22.8386,22.83,22.8213,22.8208,22.8355, 22.6658,22.4959,22.3259,22.1558,21.9859 ,21.8169,21.6474,21.3932,21.1351, 20.9596,20.7917,20.6215,20.4504,20.2818 ,20.027,19.8572,19.6878,19.519,19.2655, 19.0973,18.9293,18.6772,18.5092,18.3424 ,18.1729,18.0043,17.7529,17.5853, 17.4192,17.0904,16.682,16.3559,16.0278, 15.702,15.3182,15.0387,14.8429,14.6473, 14.452,14.3544,14.3098,14.3172,14.3251, 14.3321,14.3456,14.3597,14.3603,14.361, 14.6542,14.8498,15.0455,15.3373,15.7486 ,16.0779,16.4082,16.7391,16.9048, 17.0705,17.2363,17.4022,17.5682,17.8172 ,17.9833,18.1487,18.3144,18.5623, 18.7283,18.8952,19.0619,19.229,19.48, 19.6474,19.8994,20.0676,20.2355,20.4047 ,20.5735,20.7425,20.9961,21.1653, 21.3339,21.5027,21.6717,21.8409,22.0102 ,22.1795,22.4335,22.6026,22.7716, 22.8561,22.8776)
FOOTPRINT_POINT_LONGITUDE = (231.713,231.411,231.194,230.979, 230.766,230.556,230.347,230.334,230.331 ,230.331,230.33,230.33,230.329,230.328, 230.328,230.327,230.326,230.324,230.323 ,230.322,230.321,230.319,230.318, 230.317,230.315,230.314,230.313,230.311 ,230.309,230.308,230.306,230.304, 230.303,230.301,230.299,230.297,230.295 ,230.294,230.291,230.287,230.283,230.28 ,230.276,230.274,230.27,230.268,230.265 ,230.262,230.261,230.26,230.467,230.69, 230.887,231.248,231.615,231.629,231.634 ,231.636,231.637,231.639,231.641, 231.644,231.646,231.649,231.652,231.653 ,231.655,231.656,231.658,231.659, 231.662,231.663,231.664,231.665,231.666 ,231.667,231.669,231.671,231.673, 231.675,231.677,231.681,231.683,231.685 ,231.688,231.691,231.694,231.698,231.7, 231.703,231.705,231.708,231.71,231.713, 231.716,231.72,231.722,231.724,231.725, 231.713)
ORBIT_NUMBER = 17763
ORBITAL_ECCENTRICITY = 0.577
ORBITAL_INCLINATION = 86.96
ORBITAL_SEMIMAJOR_AXIS = 8856.88
PERIAPSIS_ALTITUDE = 356.71
PERIAPSIS_ARGUMENT_ANGLE = 158.87
PERIAPSIS_TIME = 2018-01-13T04:16:03.000Z
SPACECRAFT_ORIENTATION = (0.0,-1.0,0.0)
^MEX_ORIENTATION_DESC = "MEX_ORIENTATION_DESC.TXT"
SPACECRAFT_POINTING_MODE = ACROSSTRACK
^MEX_POINTING_DESC = "MEX_POINTING_DESC.TXT"
RIGHT_ASCENSION = -1e+32
DECLINATION = -1e+32
OFFSET_ANGLE = 0.8
SPACECRAFT_SOLAR_DISTANCE = 2.42456e+08
TARGET_NAME = MARS
/* CAMERA DATA ELEMENTS */
DETECTOR_TEMPERATURE = 18.5744
FOCAL_PLANE_TEMPERATURE = 8.5833
INST_CMPRS_NAME = "DISCRETE COSINE TRANSFORMATION (DCT)"
INST_CMPRS_RATIO = 8.42544
INST_CMPRS_QUALITY = 0
INST_CMPRS_QUANTZ_TBL_ID = 0
INSTRUMENT_TEMPERATURE = 11.8457
LENS_TEMPERATURE = 9.3989
MACROPIXEL_SIZE = 2
MISSING_FRAMES = 0
PIXEL_SUBSAMPLING_FLAG = N
SIGNAL_CHAIN_ID = 1
/* RADIOMETRIC DATA ELEMENTS */
BANDWIDTH = 178.0
CENTER_FILTER_WAVELENGTH = 679.0
RADIANCE_OFFSET = 1.77443
RADIANCE_SCALING_FACTOR = 0.0111112
REFLECTANCE_SCALING_FACTOR = 0.000345904
MEX:REFLECTANCE_OFFSET = 0.0552398
/* IMAGE OBJECT DEFINITIONS */
OBJECT = IMAGE
  INTERCHANGE_FORMAT = BINARY
  LINES = 20258
  LINE_SAMPLES = 3231
  SAMPLE_TYPE = UNSIGNED_INTEGER
  SAMPLE_BITS = 8
  BANDS = 1
  BAND_STORAGE_TYPE = BAND_SEQUENTIAL
  MAXIMUM = 255
  MEAN = 107.543
  MINIMUM = 1
  STANDARD_DEVIATION = 25.4539
END_OBJECT = IMAGE
/* MAP OBJECT DEFINITIONS */
OBJECT = IMAGE_MAP_PROJECTION
  ^DATA_SET_MAP_PROJECTION_CATALOG= "DSMAP.CAT"
  A_AXIS_RADIUS = 3396.0
  B_AXIS_RADIUS = 3396.0
  C_AXIS_RADIUS = 3396.0
  CENTER_LATITUDE = 0.0
  CENTER_LONGITUDE = 231.0
  COORDINATE_SYSTEM_NAME = PLANETOGRAPHIC
  COORDINATE_SYSTEM_TYPE = "BODY-FIXED ROTATING"
  EASTERNMOST_LONGITUDE = 231.725
  FIRST_STANDARD_PARALLEL = "N/A"
  LINE_FIRST_PIXEL = 1
  LINE_LAST_PIXEL = 20258
  LINE_PROJECTION_OFFSET = 54229.25
  MAP_PROJECTION_ROTATION = 0.0
  MAP_PROJECTION_TYPE = SINUSOIDAL
  MAP_RESOLUTION = 2370.85521546667
  MAP_SCALE = 0.025
  MAXIMUM_LATITUDE = 22.8776
  MINIMUM_LATITUDE = 14.3098
  POSITIVE_LONGITUDE_DIRECTION = EAST
  REFERENCE_LATITUDE = "N/A"
  REFERENCE_LONGITUDE = "N/A"
  SAMPLE_FIRST_PIXEL = 1
  SAMPLE_LAST_PIXEL = 3231
  SAMPLE_PROJECTION_OFFSET = 1669.75
  SECOND_STANDARD_PARALLEL = "N/A"
  WESTERNMOST_LONGITUDE = 230.26
END_OBJECT = IMAGE_MAP_PROJECTION
END
