PDS_VERSION_ID = PDS3
/* FILE DATA ELEMENTS */
RECORD_TYPE = UNDEFINED
/* POINTERS TO DATA OBJECTS */
^IMAGE = ("HH765_0000_GR4.TIF")
/* IDENTIFICATION DATA ELEMENTS */
DATA_SET_ID = "MEX-M-HRSC-4-REFDR-MAPPROJECT-EXT6-V4.0"
DATA_SET_NAME = "MARS EXPRESS HRSC MAP PROJECTED REFDR EXTENSION6 V4.0"
DETECTOR_ID = MEX_HRSC_GREEN
EVENT_TYPE = "MARS-REGIONAL-MAPPING-Im-Fl-Eo"
INSTRUMENT_HOST_ID = MEX
INSTRUMENT_HOST_NAME = "MARS EXPRESS"
INSTRUMENT_ID = HRSC
INSTRUMENT_NAME = "HIGH RESOLUTION STEREO CAMERA"
MISSION_NAME = "MARS EXPRESS"
MISSION_PHASE_NAME = ME_Phase_38
PROCESSING_LEVEL_ID = 4
PRODUCT_CREATION_TIME = 2023-01-28T19:29:54.000Z
PRODUCT_ID = "HH765_0000_GR4.TIF"
RELEASE_ID = 0003
REVISION_ID = 0000
/* QUALITY DATA ELEMENTS */
DATA_QUALITY_ID = 1
DATA_QUALITY_DESC = "Data calculated based on original SPICE kernels"
/* TIME DATA ELEMENTS */
SPACECRAFT_CLOCK_START_COUNT = "1/0463947182.09026"
SPACECRAFT_CLOCK_STOP_COUNT = "1/0463947443.48723"
START_TIME = 2018-01-13T18:13:39.776Z
STOP_TIME = 2018-01-13T18:16:51.918Z
/* ORBITAL DATA ELEMENTS */
ASCENDING_NODE_LONGITUDE = 240.59
MAXIMUM_RESOLUTION = 0.1146
FOOTPRINT_POINT_LATITUDE = (28.4502,28.4499,28.4481,28.4447, 28.4445,28.437,27.9489,27.5824,27.338, 27.0935,26.8489,26.6041,26.3593,26.1143 ,25.8692,25.6241,25.3788,25.1337, 24.8882,24.6427,24.2741,23.9057,23.6601 ,23.2916,23.0459,22.8,22.5541,22.308, 22.0618,21.8157,21.5697,21.323,21.0768, 20.8309,20.4615,20.2153,19.9675,19.5969 ,19.3505,19.1042,18.8579,18.6118, 18.3668,17.9977,17.7513,17.505,17.2587, 17.0125,16.6432,16.274,16.1511,16.0449, 16.0438,16.0416,16.0384,16.0383,16.0399 ,16.4093,16.7789,17.0246,17.271,17.5176 ,17.7647,18.0112,18.2578,18.5045, 18.8745,19.2443,19.4906,19.7371,20.1068 ,20.3533,20.5999,20.9693,21.2159, 21.4624,21.8321,22.0787,22.4483,22.6946 ,23.0638,23.3099,23.679,23.9249,24.1708 ,24.5397,24.7856,25.0312,25.2769, 25.6451,25.8906,26.1359,26.3806,26.6262 ,26.9938,27.3611,27.6058,28.217,28.3392 ,28.4502)
FOOTPRINT_POINT_LONGITUDE = (26.2078,25.6272,25.2225,24.7904, 24.7768,24.7579,24.7671,24.7736,24.7777 ,24.7817,24.7857,24.7894,24.7929, 24.7964,24.7997,24.8028,24.8058,24.809, 24.8117,24.8142,24.8175,24.8213,24.8238 ,24.8273,24.8295,24.8314,24.8331, 24.8345,24.8357,24.8371,24.8387,24.8387 ,24.8396,24.8411,24.8423,24.843,24.8404 ,24.8388,24.8388,24.839,24.839,24.8394, 24.8417,24.842,24.8412,24.8405,24.8398, 24.839,24.8375,24.836,24.8356,24.8347, 25.1998,25.7129,26.1159,26.1283,26.1364 ,26.1385,26.1405,26.1432,26.1446, 26.1459,26.146,26.1475,26.1488,26.15, 26.1518,26.1543,26.1563,26.1581,26.1606 ,26.1623,26.1638,26.1669,26.1683, 26.1699,26.1722,26.1735,26.1757,26.1775 ,26.1802,26.1821,26.1848,26.1866, 26.1885,26.1909,26.1927,26.1945,26.1963 ,26.1991,26.2008,26.2027,26.2057, 26.2066,26.2093,26.212,26.2139,26.219, 26.2199,26.2078)
ORBIT_NUMBER = 17765
ORBITAL_ECCENTRICITY = 0.576
ORBITAL_INCLINATION = 86.95
ORBITAL_SEMIMAJOR_AXIS = 8849.05
PERIAPSIS_ALTITUDE = 357.39
PERIAPSIS_ARGUMENT_ANGLE = 158.55
PERIAPSIS_TIME = 2018-01-13T18:15:34.000Z
SPACECRAFT_ORIENTATION = (0.0,-1.0,0.0)
^MEX_ORIENTATION_DESC = "MEX_ORIENTATION_DESC.TXT"
SPACECRAFT_POINTING_MODE = NADIR
^MEX_POINTING_DESC = "MEX_POINTING_DESC.TXT"
RIGHT_ASCENSION = -1e+32
DECLINATION = -1e+32
OFFSET_ANGLE = -1e+32
SPACECRAFT_SOLAR_DISTANCE = 2.42377e+08
TARGET_NAME = MARS
/* CAMERA DATA ELEMENTS */
DETECTOR_TEMPERATURE = 18.3705
FOCAL_PLANE_TEMPERATURE = 8.3794
INST_CMPRS_NAME = "DISCRETE COSINE TRANSFORMATION (DCT)"
INST_CMPRS_RATIO = 13.8645
INST_CMPRS_QUALITY = 0
INST_CMPRS_QUANTZ_TBL_ID = 0
INSTRUMENT_TEMPERATURE = 11.234
LENS_TEMPERATURE = 8.5833
MACROPIXEL_SIZE = 8
MISSING_FRAMES = 0
PIXEL_SUBSAMPLING_FLAG = N
SIGNAL_CHAIN_ID = 2
/* RADIOMETRIC DATA ELEMENTS */
BANDWIDTH = 88.0
CENTER_FILTER_WAVELENGTH = 538.0
RADIANCE_OFFSET = 0.669008
RADIANCE_SCALING_FACTOR = 0.00434527
REFLECTANCE_SCALING_FACTOR = 0.000219782
MEX:REFLECTANCE_OFFSET = 0.0338381
/* IMAGE OBJECT DEFINITIONS */
OBJECT = IMAGE
  INTERCHANGE_FORMAT = BINARY
  LINES = 7355
  LINE_SAMPLES = 784
  SAMPLE_TYPE = UNSIGNED_INTEGER
  SAMPLE_BITS = 8
  BANDS = 1
  BAND_STORAGE_TYPE = BAND_SEQUENTIAL
  MAXIMUM = 255
  MEAN = 119.489
  MINIMUM = 1
  STANDARD_DEVIATION = 25.3467
END_OBJECT = IMAGE
/* MAP OBJECT DEFINITIONS */
OBJECT = IMAGE_MAP_PROJECTION
  ^DATA_SET_MAP_PROJECTION_CATALOG= "DSMAP.CAT"
  A_AXIS_RADIUS = 3396.0
  B_AXIS_RADIUS = 3396.0
  C_AXIS_RADIUS = 3396.0
  CENTER_LATITUDE = 0.0
  CENTER_LONGITUDE = 25.0
  COORDINATE_SYSTEM_NAME = PLANETOGRAPHIC
  COORDINATE_SYSTEM_TYPE = "BODY-FIXED ROTATING"
  EASTERNMOST_LONGITUDE = 26.2199
  FIRST_STANDARD_PARALLEL = "N/A"
  LINE_FIRST_PIXEL = 1
  LINE_LAST_PIXEL = 7355
  LINE_PROJECTION_OFFSET = 16860.6875
  MAP_PROJECTION_ROTATION = 0.0
  MAP_PROJECTION_TYPE = SINUSOIDAL
  MAP_RESOLUTION = 592.713803866667
  MAP_SCALE = 0.1
  MAXIMUM_LATITUDE = 28.4502
  MINIMUM_LATITUDE = 16.0383
  POSITIVE_LONGITUDE_DIRECTION = EAST
  REFERENCE_LATITUDE = "N/A"
  REFERENCE_LONGITUDE = "N/A"
  SAMPLE_FIRST_PIXEL = 1
  SAMPLE_LAST_PIXEL = 784
  SAMPLE_PROJECTION_OFFSET = 133.6875
  SECOND_STANDARD_PARALLEL = "N/A"
  WESTERNMOST_LONGITUDE = 24.7579
END_OBJECT = IMAGE_MAP_PROJECTION
END
