PDS_VERSION_ID = PDS3
/* FILE DATA ELEMENTS */
RECORD_TYPE = UNDEFINED
/* POINTERS TO DATA OBJECTS */
^IMAGE = ("HH769_0000_ND4.TIF")
/* IDENTIFICATION DATA ELEMENTS */
DATA_SET_ID = "MEX-M-HRSC-4-REFDR-MAPPROJECT-EXT6-V4.0"
DATA_SET_NAME = "MARS EXPRESS HRSC MAP PROJECTED REFDR EXTENSION6 V4.0"
DETECTOR_ID = MEX_HRSC_NADIR
EVENT_TYPE = "MARS-LOCAL-CARTOGRAPHY-Eb-La-Tc"
INSTRUMENT_HOST_ID = MEX
INSTRUMENT_HOST_NAME = "MARS EXPRESS"
INSTRUMENT_ID = HRSC
INSTRUMENT_NAME = "HIGH RESOLUTION STEREO CAMERA"
MISSION_NAME = "MARS EXPRESS"
MISSION_PHASE_NAME = ME_Phase_38
PROCESSING_LEVEL_ID = 4
PRODUCT_CREATION_TIME = 2023-01-28T19:29:54.000Z
PRODUCT_ID = "HH769_0000_ND4.TIF"
RELEASE_ID = 0003
REVISION_ID = 0000
/* QUALITY DATA ELEMENTS */
DATA_QUALITY_ID = 1
DATA_QUALITY_DESC = "Data calculated based on original SPICE kernels"
/* TIME DATA ELEMENTS */
SPACECRAFT_CLOCK_START_COUNT = "1/0464048019.61778"
SPACECRAFT_CLOCK_STOP_COUNT = "1/0464048176.35563"
START_TIME = 2018-01-14T22:14:21.719Z
STOP_TIME = 2018-01-14T22:15:04.515Z
/* ORBITAL DATA ELEMENTS */
ASCENDING_NODE_LONGITUDE = 240.52
MAXIMUM_RESOLUTION = 0.0145
FOOTPRINT_POINT_LATITUDE = (22.1038,22.1038,22.1037,22.1036, 22.1034,22.1031,22.1027,22.1023,22.1018 ,22.1013,22.1006,22.0999,22.0987, 22.0986,22.0987,22.016,21.9334,21.8508, 21.7681,21.6855,21.6029,21.5203,21.4376 ,21.355,21.2448,21.1622,21.0245,20.9143 ,20.8317,20.7491,20.6665,20.5288, 20.4186,20.336,20.2534,20.1157,20.0056, 19.923,19.8404,19.7303,19.6477,19.5651, 19.4825,19.3724,19.3449,19.336,19.3363, 19.3369,19.3373,19.3376,19.3379,19.338, 19.3381,19.3382,19.3382,19.3381,19.338, 19.3379,19.3376,19.3376,19.3378,19.4205 ,19.5032,19.5859,19.6686,19.7513,19.834 ,19.9443,19.9994,20.0821,20.1649, 20.2476,20.3028,20.3579,20.4131,20.4682 ,20.5234,20.5785,20.6612,20.7714, 20.8542,20.9369,21.0197,21.1024,21.1852 ,21.2403,21.2955,21.3507,21.4334, 21.5161,21.5989,21.6817,21.7368,21.792, 21.8472,21.9299,22.0127,22.0678,22.0954 ,22.1038)
FOOTPRINT_POINT_LONGITUDE = (336.104,335.999,335.894,335.788, 335.682,335.575,335.468,335.36,335.251, 335.142,335.033,334.922,334.756,334.742 ,334.702,334.703,334.705,334.706, 334.706,334.707,334.708,334.709,334.71, 334.711,334.712,334.713,334.714,334.715 ,334.716,334.717,334.718,334.719,334.72 ,334.721,334.721,334.723,334.723, 334.724,334.724,334.725,334.725,334.726 ,334.727,334.727,334.727,334.727, 334.797,334.95,335.074,335.184,335.293, 335.361,335.483,335.591,335.685,335.778 ,335.871,335.964,336.082,336.095, 336.101,336.101,336.101,336.101,336.101 ,336.101,336.101,336.101,336.101, 336.101,336.101,336.1,336.1,336.1,336.1 ,336.1,336.1,336.1,336.101,336.101, 336.101,336.101,336.101,336.101,336.1, 336.1,336.1,336.1,336.1,336.1,336.1, 336.1,336.1,336.1,336.1,336.1,336.1, 336.1,336.1,336.104)
ORBIT_NUMBER = 17769
ORBITAL_ECCENTRICITY = 0.576
ORBITAL_INCLINATION = 86.97
ORBITAL_SEMIMAJOR_AXIS = 8841.03
PERIAPSIS_ALTITUDE = 357.91
PERIAPSIS_ARGUMENT_ANGLE = 157.84
PERIAPSIS_TIME = 2018-01-14T22:14:21.000Z
SPACECRAFT_ORIENTATION = (0.0,-1.0,0.0)
^MEX_ORIENTATION_DESC = "MEX_ORIENTATION_DESC.TXT"
SPACECRAFT_POINTING_MODE = ACROSSTRACK
^MEX_POINTING_DESC = "MEX_POINTING_DESC.TXT"
RIGHT_ASCENSION = -1e+32
DECLINATION = -1e+32
OFFSET_ANGLE = -0.808
SPACECRAFT_SOLAR_DISTANCE = 2.42219e+08
TARGET_NAME = MARS
/* CAMERA DATA ELEMENTS */
DETECTOR_TEMPERATURE = 0.0
FOCAL_PLANE_TEMPERATURE = 0.0
INST_CMPRS_NAME = "DISCRETE COSINE TRANSFORMATION (DCT)"
INST_CMPRS_RATIO = 5.55219
INST_CMPRS_QUALITY = 0
INST_CMPRS_QUANTZ_TBL_ID = 0
INSTRUMENT_TEMPERATURE = 0.0
LENS_TEMPERATURE = 0.0
MACROPIXEL_SIZE = 1
MISSING_FRAMES = 0
PIXEL_SUBSAMPLING_FLAG = N
SIGNAL_CHAIN_ID = 0
/* RADIOMETRIC DATA ELEMENTS */
BANDWIDTH = 177.0
CENTER_FILTER_WAVELENGTH = 677.5
RADIANCE_OFFSET = 1.2284
RADIANCE_SCALING_FACTOR = 0.00898353
REFLECTANCE_SCALING_FACTOR = 0.000279994
MEX:REFLECTANCE_OFFSET = 0.0382861
/* IMAGE OBJECT DEFINITIONS */
OBJECT = IMAGE
  INTERCHANGE_FORMAT = BINARY
  LINES = 13127
  LINE_SAMPLES = 6236
  SAMPLE_TYPE = UNSIGNED_INTEGER
  SAMPLE_BITS = 8
  BANDS = 1
  BAND_STORAGE_TYPE = BAND_SEQUENTIAL
  MAXIMUM = 255
  MEAN = 100.07
  MINIMUM = 1
  STANDARD_DEVIATION = 22.7945
END_OBJECT = IMAGE
/* MAP OBJECT DEFINITIONS */
OBJECT = IMAGE_MAP_PROJECTION
  ^DATA_SET_MAP_PROJECTION_CATALOG= "DSMAP.CAT"
  A_AXIS_RADIUS = 3396.0
  B_AXIS_RADIUS = 3396.0
  C_AXIS_RADIUS = 3396.0
  CENTER_LATITUDE = 0.0
  CENTER_LONGITUDE = 335.0
  COORDINATE_SYSTEM_NAME = PLANETOGRAPHIC
  COORDINATE_SYSTEM_TYPE = "BODY-FIXED ROTATING"
  EASTERNMOST_LONGITUDE = 336.104
  FIRST_STANDARD_PARALLEL = "N/A"
  LINE_FIRST_PIXEL = 1
  LINE_LAST_PIXEL = 13127
  LINE_PROJECTION_OFFSET = 104812.0
  MAP_PROJECTION_ROTATION = 0.0
  MAP_PROJECTION_TYPE = SINUSOIDAL
  MAP_RESOLUTION = 4741.71043093333
  MAP_SCALE = 0.0125
  MAXIMUM_LATITUDE = 22.1038
  MINIMUM_LATITUDE = 19.336
  POSITIVE_LONGITUDE_DIRECTION = EAST
  REFERENCE_LATITUDE = "N/A"
  REFERENCE_LONGITUDE = "N/A"
  SAMPLE_FIRST_PIXEL = 1
  SAMPLE_LAST_PIXEL = 6236
  SAMPLE_PROJECTION_OFFSET = 1306.0
  SECOND_STANDARD_PARALLEL = "N/A"
  WESTERNMOST_LONGITUDE = 334.702
END_OBJECT = IMAGE_MAP_PROJECTION
END
