PDS_VERSION_ID = PDS3
/* FILE DATA ELEMENTS */
RECORD_TYPE = UNDEFINED
/* POINTERS TO DATA OBJECTS */
^IMAGE = ("HH769_0000_P24.TIF")
/* IDENTIFICATION DATA ELEMENTS */
DATA_SET_ID = "MEX-M-HRSC-4-REFDR-MAPPROJECT-EXT6-V4.0"
DATA_SET_NAME = "MARS EXPRESS HRSC MAP PROJECTED REFDR EXTENSION6 V4.0"
DETECTOR_ID = MEX_HRSC_P2
EVENT_TYPE = "MARS-LOCAL-CARTOGRAPHY-Eb-La-Tc"
INSTRUMENT_HOST_ID = MEX
INSTRUMENT_HOST_NAME = "MARS EXPRESS"
INSTRUMENT_ID = HRSC
INSTRUMENT_NAME = "HIGH RESOLUTION STEREO CAMERA"
MISSION_NAME = "MARS EXPRESS"
MISSION_PHASE_NAME = ME_Phase_38
PROCESSING_LEVEL_ID = 4
PRODUCT_CREATION_TIME = 2023-01-28T19:29:54.000Z
PRODUCT_ID = "HH769_0000_P24.TIF"
RELEASE_ID = 0003
REVISION_ID = 0000
/* QUALITY DATA ELEMENTS */
DATA_QUALITY_ID = 1
DATA_QUALITY_DESC = "Data calculated based on original SPICE kernels"
/* TIME DATA ELEMENTS */
SPACECRAFT_CLOCK_START_COUNT = "1/0464048019.61778"
SPACECRAFT_CLOCK_STOP_COUNT = "1/0464048176.35563"
START_TIME = 2018-01-14T22:14:43.055Z
STOP_TIME = 2018-01-14T22:15:04.315Z
/* ORBITAL DATA ELEMENTS */
ASCENDING_NODE_LONGITUDE = 240.52
MAXIMUM_RESOLUTION = 0.0299
FOOTPRINT_POINT_LATITUDE = (22.0808,22.0824,22.0839,22.0854,22.087 ,22.0885,22.09,22.0916,22.0931,22.0946, 22.0961,22.0977,22.0992,22.1007,22.1022 ,22.1038,22.1053,22.1068,22.1083, 22.1098,22.1113,22.1129,22.1143,22.1158 ,22.1173,22.1196,22.12,22.1495,22.1086, 22.054,22.0129,21.972,21.9173,21.8491, 21.7946,21.7401,21.6581,21.6034,21.5215 ,21.4396,21.3988,21.3445,21.29,21.2356, 21.1538,21.072,21.0039,20.9495,20.895, 20.854,20.7996,20.7861,20.7801,20.778, 20.7765,20.775,20.7739,20.7719,20.7701, 20.7686,20.765,20.7628,20.761,20.7584, 20.7566,20.7544,20.7528,20.7511,20.7499 ,20.7487,20.747,20.745,20.7431,20.7414, 20.7382,20.7378,20.7381,20.778,20.8324, 20.874,20.9559,21.0379,21.12,21.2019, 21.2564,21.3244,21.3789,21.4608,21.5431 ,21.6257,21.6802,21.7488,21.8033, 21.8852,21.9398,21.9946,22.0488,22.0898 ,22.1034,22.0808)
FOOTPRINT_POINT_LONGITUDE = (336.105,336.053,336.001,335.949, 335.897,335.845,335.793,335.741,335.688 ,335.636,335.583,335.53,335.477,335.424 ,335.371,335.317,335.264,335.21,335.156 ,335.102,335.048,334.994,334.939, 334.885,334.83,334.747,334.733,334.696, 334.696,334.697,334.697,334.698,334.698 ,334.699,334.699,334.7,334.701,334.702, 334.703,334.703,334.704,334.704,334.704 ,334.705,334.706,334.706,334.707, 334.707,334.708,334.708,334.709,334.709 ,334.709,334.778,334.834,334.889,334.93 ,334.986,335.041,335.096,335.192, 335.273,335.328,335.409,335.463,335.53, 335.583,335.637,335.69,335.756,335.809, 335.888,335.954,336.006,336.085,336.098 ,336.103,336.103,336.103,336.103, 336.103,336.103,336.102,336.102,336.102 ,336.102,336.102,336.102,336.102, 336.101,336.101,336.101,336.101,336.101 ,336.101,336.101,336.101,336.101, 336.101,336.105)
ORBIT_NUMBER = 17769
ORBITAL_ECCENTRICITY = 0.576
ORBITAL_INCLINATION = 86.97
ORBITAL_SEMIMAJOR_AXIS = 8841.03
PERIAPSIS_ALTITUDE = 357.91
PERIAPSIS_ARGUMENT_ANGLE = 157.84
PERIAPSIS_TIME = 2018-01-14T22:14:21.000Z
SPACECRAFT_ORIENTATION = (0.0,-1.0,0.0)
^MEX_ORIENTATION_DESC = "MEX_ORIENTATION_DESC.TXT"
SPACECRAFT_POINTING_MODE = ACROSSTRACK
^MEX_POINTING_DESC = "MEX_POINTING_DESC.TXT"
RIGHT_ASCENSION = -1e+32
DECLINATION = -1e+32
OFFSET_ANGLE = -0.808
SPACECRAFT_SOLAR_DISTANCE = 2.42219e+08
TARGET_NAME = MARS
/* CAMERA DATA ELEMENTS */
DETECTOR_TEMPERATURE = 0.0
FOCAL_PLANE_TEMPERATURE = 0.0
INST_CMPRS_NAME = "DISCRETE COSINE TRANSFORMATION (DCT)"
INST_CMPRS_RATIO = 5.70444
INST_CMPRS_QUALITY = 0
INST_CMPRS_QUANTZ_TBL_ID = 0
INSTRUMENT_TEMPERATURE = 0.0
LENS_TEMPERATURE = 0.0
MACROPIXEL_SIZE = 2
MISSING_FRAMES = 0
PIXEL_SUBSAMPLING_FLAG = N
SIGNAL_CHAIN_ID = 3
/* RADIOMETRIC DATA ELEMENTS */
BANDWIDTH = 177.0
CENTER_FILTER_WAVELENGTH = 676.5
RADIANCE_OFFSET = 1.60381
RADIANCE_SCALING_FACTOR = 0.00849627
REFLECTANCE_SCALING_FACTOR = 0.000264304
MEX:REFLECTANCE_OFFSET = 0.0498916
/* IMAGE OBJECT DEFINITIONS */
OBJECT = IMAGE
  INTERCHANGE_FORMAT = BINARY
  LINES = 6564
  LINE_SAMPLES = 3118
  SAMPLE_TYPE = UNSIGNED_INTEGER
  SAMPLE_BITS = 8
  BANDS = 1
  BAND_STORAGE_TYPE = BAND_SEQUENTIAL
  MAXIMUM = 255
  MEAN = 96.3314
  MINIMUM = 1
  STANDARD_DEVIATION = 24.9112
END_OBJECT = IMAGE
/* MAP OBJECT DEFINITIONS */
OBJECT = IMAGE_MAP_PROJECTION
  ^DATA_SET_MAP_PROJECTION_CATALOG= "DSMAP.CAT"
  A_AXIS_RADIUS = 3396.0
  B_AXIS_RADIUS = 3396.0
  C_AXIS_RADIUS = 3396.0
  CENTER_LATITUDE = 0.0
  CENTER_LONGITUDE = 335.0
  COORDINATE_SYSTEM_NAME = PLANETOGRAPHIC
  COORDINATE_SYSTEM_TYPE = "BODY-FIXED ROTATING"
  EASTERNMOST_LONGITUDE = 336.105
  FIRST_STANDARD_PARALLEL = "N/A"
  LINE_FIRST_PIXEL = 1
  LINE_LAST_PIXEL = 6564
  LINE_PROJECTION_OFFSET = 52405.75
  MAP_PROJECTION_ROTATION = 0.0
  MAP_PROJECTION_TYPE = SINUSOIDAL
  MAP_RESOLUTION = 2370.85521546667
  MAP_SCALE = 0.025
  MAXIMUM_LATITUDE = 22.1495
  MINIMUM_LATITUDE = 20.7378
  POSITIVE_LONGITUDE_DIRECTION = EAST
  REFERENCE_LATITUDE = "N/A"
  REFERENCE_LONGITUDE = "N/A"
  SAMPLE_FIRST_PIXEL = 1
  SAMPLE_LAST_PIXEL = 3118
  SAMPLE_PROJECTION_OFFSET = 652.75
  SECOND_STANDARD_PARALLEL = "N/A"
  WESTERNMOST_LONGITUDE = 334.696
END_OBJECT = IMAGE_MAP_PROJECTION
END
