PDS_VERSION_ID = PDS3
/* FILE DATA ELEMENTS */
RECORD_TYPE = UNDEFINED
/* POINTERS TO DATA OBJECTS */
^IMAGE = ("HH769_0000_S14.TIF")
/* IDENTIFICATION DATA ELEMENTS */
DATA_SET_ID = "MEX-M-HRSC-4-REFDR-MAPPROJECT-EXT6-V4.0"
DATA_SET_NAME = "MARS EXPRESS HRSC MAP PROJECTED REFDR EXTENSION6 V4.0"
DETECTOR_ID = MEX_HRSC_S1
EVENT_TYPE = "MARS-LOCAL-CARTOGRAPHY-Eb-La-Tc"
INSTRUMENT_HOST_ID = MEX
INSTRUMENT_HOST_NAME = "MARS EXPRESS"
INSTRUMENT_ID = HRSC
INSTRUMENT_NAME = "HIGH RESOLUTION STEREO CAMERA"
MISSION_NAME = "MARS EXPRESS"
MISSION_PHASE_NAME = ME_Phase_38
PROCESSING_LEVEL_ID = 4
PRODUCT_CREATION_TIME = 2023-01-28T19:29:54.000Z
PRODUCT_ID = "HH769_0000_S14.TIF"
RELEASE_ID = 0003
REVISION_ID = 0000
/* QUALITY DATA ELEMENTS */
DATA_QUALITY_ID = 1
DATA_QUALITY_DESC = "Data calculated based on original SPICE kernels"
/* TIME DATA ELEMENTS */
SPACECRAFT_CLOCK_START_COUNT = "1/0464048019.61778"
SPACECRAFT_CLOCK_STOP_COUNT = "1/0464048176.35563"
START_TIME = 2018-01-14T22:13:49.000Z
STOP_TIME = 2018-01-14T22:15:04.464Z
/* ORBITAL DATA ELEMENTS */
ASCENDING_NODE_LONGITUDE = 240.52
MAXIMUM_RESOLUTION = 0.0153
FOOTPRINT_POINT_LATITUDE = (22.1575,22.1526,22.1475,22.1424, 22.1371,22.1316,22.1259,22.1202,22.1142 ,22.1081,22.1018,22.0953,22.0853, 22.0845,22.0395,21.7982,21.605,21.3629, 21.1209,20.8303,20.685,20.5397,20.346, 20.1032,20.0058,19.9086,19.7628,19.6656 ,19.5684,19.4225,19.276,19.1788,19.0817 ,18.9844,18.887,18.741,18.5468,18.4489, 18.3021,18.1556,18.0581,17.9117,17.7648 ,17.6673,17.5695,17.4229,17.3253, 17.2275,17.1786,17.1738,17.1818,17.1937 ,17.2015,17.2069,17.2159,17.2229, 17.2278,17.2339,17.2417,17.2425,17.243, 17.3408,17.4384,17.5364,17.6827,17.7805 ,17.927,18.074,18.172,18.2699,18.4167, 18.5146,18.6124,18.7101,18.8562,18.9536 ,19.0514,19.198,19.2956,19.3932,19.5395 ,19.6367,19.8792,20.0254,20.2194, 20.3597,20.5059,20.6034,20.7021,20.8026 ,20.9013,21.0458,21.2393,21.3851, 21.5791,21.723,21.8681,22.0617,22.1108, 22.1575)
FOOTPRINT_POINT_LONGITUDE = (336.106,336.0,335.894,335.787,335.68, 335.572,335.464,335.355,335.246,335.136 ,335.026,334.914,334.746,334.732, 334.693,334.697,334.699,334.702,334.705 ,334.708,334.71,334.711,334.714,334.716 ,334.716,334.717,334.719,334.719,334.72 ,334.721,334.722,334.723,334.724, 334.724,334.725,334.726,334.728,334.728 ,334.728,334.729,334.73,334.73,334.731, 334.731,334.731,334.732,334.732,334.732 ,334.733,334.733,334.871,335.09,335.227 ,335.335,335.509,335.656,335.762, 335.893,336.076,336.089,336.095,336.096 ,336.096,336.096,336.096,336.096, 336.096,336.097,336.097,336.097,336.097 ,336.097,336.097,336.098,336.098, 336.098,336.098,336.098,336.098,336.099 ,336.099,336.099,336.099,336.099, 336.099,336.099,336.099,336.099,336.1, 336.1,336.1,336.1,336.101,336.101, 336.101,336.101,336.101,336.101,336.102 ,336.106)
ORBIT_NUMBER = 17769
ORBITAL_ECCENTRICITY = 0.576
ORBITAL_INCLINATION = 86.97
ORBITAL_SEMIMAJOR_AXIS = 8841.03
PERIAPSIS_ALTITUDE = 357.91
PERIAPSIS_ARGUMENT_ANGLE = 157.84
PERIAPSIS_TIME = 2018-01-14T22:14:21.000Z
SPACECRAFT_ORIENTATION = (0.0,-1.0,0.0)
^MEX_ORIENTATION_DESC = "MEX_ORIENTATION_DESC.TXT"
SPACECRAFT_POINTING_MODE = ACROSSTRACK
^MEX_POINTING_DESC = "MEX_POINTING_DESC.TXT"
RIGHT_ASCENSION = -1e+32
DECLINATION = -1e+32
OFFSET_ANGLE = -0.808
SPACECRAFT_SOLAR_DISTANCE = 2.42219e+08
TARGET_NAME = MARS
/* CAMERA DATA ELEMENTS */
DETECTOR_TEMPERATURE = 0.0
FOCAL_PLANE_TEMPERATURE = 0.0
INST_CMPRS_NAME = "DISCRETE COSINE TRANSFORMATION (DCT)"
INST_CMPRS_RATIO = 7.28316
INST_CMPRS_QUALITY = 0
INST_CMPRS_QUANTZ_TBL_ID = 0
INSTRUMENT_TEMPERATURE = 0.0
LENS_TEMPERATURE = 0.0
MACROPIXEL_SIZE = 1
MISSING_FRAMES = 0
PIXEL_SUBSAMPLING_FLAG = N
SIGNAL_CHAIN_ID = 2
/* RADIOMETRIC DATA ELEMENTS */
BANDWIDTH = 180.0
CENTER_FILTER_WAVELENGTH = 677.0
RADIANCE_OFFSET = 1.5893
RADIANCE_SCALING_FACTOR = 0.00879891
REFLECTANCE_SCALING_FACTOR = 0.000269332
MEX:REFLECTANCE_OFFSET = 0.0486481
/* IMAGE OBJECT DEFINITIONS */
OBJECT = IMAGE
  INTERCHANGE_FORMAT = BINARY
  LINES = 13127
  LINE_SAMPLES = 6236
  SAMPLE_TYPE = UNSIGNED_INTEGER
  SAMPLE_BITS = 8
  BANDS = 1
  BAND_STORAGE_TYPE = BAND_SEQUENTIAL
  MAXIMUM = 255
  MEAN = 107.696
  MINIMUM = 1
  STANDARD_DEVIATION = 25.0406
END_OBJECT = IMAGE
/* MAP OBJECT DEFINITIONS */
OBJECT = IMAGE_MAP_PROJECTION
  ^DATA_SET_MAP_PROJECTION_CATALOG= "DSMAP.CAT"
  A_AXIS_RADIUS = 3396.0
  B_AXIS_RADIUS = 3396.0
  C_AXIS_RADIUS = 3396.0
  CENTER_LATITUDE = 0.0
  CENTER_LONGITUDE = 335.0
  COORDINATE_SYSTEM_NAME = PLANETOGRAPHIC
  COORDINATE_SYSTEM_TYPE = "BODY-FIXED ROTATING"
  EASTERNMOST_LONGITUDE = 336.106
  FIRST_STANDARD_PARALLEL = "N/A"
  LINE_FIRST_PIXEL = 1
  LINE_LAST_PIXEL = 13127
  LINE_PROJECTION_OFFSET = 104812.0
  MAP_PROJECTION_ROTATION = 0.0
  MAP_PROJECTION_TYPE = SINUSOIDAL
  MAP_RESOLUTION = 4741.71043093333
  MAP_SCALE = 0.0125
  MAXIMUM_LATITUDE = 22.1575
  MINIMUM_LATITUDE = 17.1738
  POSITIVE_LONGITUDE_DIRECTION = EAST
  REFERENCE_LATITUDE = "N/A"
  REFERENCE_LONGITUDE = "N/A"
  SAMPLE_FIRST_PIXEL = 1
  SAMPLE_LAST_PIXEL = 6236
  SAMPLE_PROJECTION_OFFSET = 1306.0
  SECOND_STANDARD_PARALLEL = "N/A"
  WESTERNMOST_LONGITUDE = 334.693
END_OBJECT = IMAGE_MAP_PROJECTION
END
