PDS_VERSION_ID = PDS3
/* FILE DATA ELEMENTS */
RECORD_TYPE = UNDEFINED
/* POINTERS TO DATA OBJECTS */
^IMAGE = ("HH775_0000_IR4.TIF")
/* IDENTIFICATION DATA ELEMENTS */
DATA_SET_ID = "MEX-M-HRSC-4-REFDR-MAPPROJECT-EXT6-V4.0"
DATA_SET_NAME = "MARS EXPRESS HRSC MAP PROJECTED REFDR EXTENSION6 V4.0"
DETECTOR_ID = MEX_HRSC_IR
EVENT_TYPE = "MARS-REGIONAL-MAPPING-Te-Fl-Eo"
INSTRUMENT_HOST_ID = MEX
INSTRUMENT_HOST_NAME = "MARS EXPRESS"
INSTRUMENT_ID = HRSC
INSTRUMENT_NAME = "HIGH RESOLUTION STEREO CAMERA"
MISSION_NAME = "MARS EXPRESS"
MISSION_PHASE_NAME = ME_Phase_38
PROCESSING_LEVEL_ID = 4
PRODUCT_CREATION_TIME = 2023-01-28T19:29:54.000Z
PRODUCT_ID = "HH775_0000_IR4.TIF"
RELEASE_ID = 0003
REVISION_ID = 0000
/* QUALITY DATA ELEMENTS */
DATA_QUALITY_ID = 1
DATA_QUALITY_DESC = "Data calculated based on original SPICE kernels"
/* TIME DATA ELEMENTS */
SPACECRAFT_CLOCK_START_COUNT = "1/0464199058.09065"
SPACECRAFT_CLOCK_STOP_COUNT = "1/0464199211.49450"
START_TIME = 2018-01-16T16:11:13.082Z
STOP_TIME = 2018-01-16T16:12:37.745Z
/* ORBITAL DATA ELEMENTS */
ASCENDING_NODE_LONGITUDE = 240.4
MAXIMUM_RESOLUTION = 0.0605
FOOTPRINT_POINT_LATITUDE = (27.0182,27.0028,26.9867,26.9698, 26.9521,26.9335,26.9239,26.914,26.9013, 26.9,26.8732,26.7539,26.6324,26.5122, 26.3326,26.153,25.9723,25.8513,25.6702, 25.5502,25.3684,25.2474,25.0738,24.8706 ,24.7669,24.5628,24.3621,24.2087,24.106 ,24.0038,23.8511,23.6475,23.4487, 23.2956,23.0909,22.9373,22.8348,22.7326 ,22.579,22.4767,22.3743,22.2723,22.1696 ,22.0671,21.9132,21.8087,21.706,21.6038 ,21.5017,21.4508,21.4491,21.464,21.4819 ,21.4991,21.5148,21.5252,21.5369, 21.5533,21.5624,21.563,21.5642,21.7669, 21.869,22.0221,22.1748,22.2769,22.3796, 22.4823,22.5846,22.7382,22.8409,22.9435 ,23.0965,23.1989,23.352,23.5052,23.6074 ,23.7611,23.9643,24.1166,24.3211, 24.4746,24.7281,24.9828,25.1854,25.3591 ,25.4796,25.6617,25.7832,25.9037, 26.0242,26.1455,26.267,26.3873,26.5071, 26.6279,26.8085,26.9287,26.989,27.0182)
FOOTPRINT_POINT_LONGITUDE = (81.6218,81.4077,81.1902,80.9691, 80.7444,80.516,80.4003,80.2835,80.1361, 80.1213,80.0861,80.091,80.0931,80.0968, 80.1034,80.11,80.1153,80.1183,80.1231, 80.1272,80.1312,80.1342,80.1368,80.1412 ,80.1408,80.1443,80.1519,80.1541, 80.1551,80.1567,80.1598,80.164,80.1741, 80.1767,80.1796,80.1816,80.1829,80.1846 ,80.1867,80.1882,80.1896,80.1916, 80.1926,80.1939,80.1957,80.1945,80.1956 ,80.1973,80.1991,80.2002,80.2002, 80.3824,80.5921,80.823,81.0246,81.17, 81.3148,81.4975,81.6249,81.6375,81.6417 ,81.6397,81.6391,81.6381,81.6369, 81.6363,81.636,81.6357,81.6352,81.6345, 81.6342,81.6339,81.633,81.6326,81.6318, 81.631,81.6305,81.63,81.6286,81.6275, 81.6267,81.6261,81.6242,81.6229,81.6214 ,81.6209,81.6198,81.6188,81.6182, 81.6172,81.6162,81.6156,81.615,81.614, 81.6127,81.6118,81.6103,81.6093,81.6089 ,81.6218)
ORBIT_NUMBER = 17775
ORBITAL_ECCENTRICITY = 0.576
ORBITAL_INCLINATION = 86.97
ORBITAL_SEMIMAJOR_AXIS = 8849.11
PERIAPSIS_ALTITUDE = 357.67
PERIAPSIS_ARGUMENT_ANGLE = 156.79
PERIAPSIS_TIME = 2018-01-16T16:12:40.000Z
SPACECRAFT_ORIENTATION = (0.0,-1.0,0.0)
^MEX_ORIENTATION_DESC = "MEX_ORIENTATION_DESC.TXT"
SPACECRAFT_POINTING_MODE = ACROSSTRACK
^MEX_POINTING_DESC = "MEX_POINTING_DESC.TXT"
RIGHT_ASCENSION = -1e+32
DECLINATION = -1e+32
OFFSET_ANGLE = -1.4
SPACECRAFT_SOLAR_DISTANCE = 2.4198e+08
TARGET_NAME = MARS
/* CAMERA DATA ELEMENTS */
DETECTOR_TEMPERATURE = 17.7588
FOCAL_PLANE_TEMPERATURE = 8.7872
INST_CMPRS_NAME = "DISCRETE COSINE TRANSFORMATION (DCT)"
INST_CMPRS_RATIO = 5.68401
INST_CMPRS_QUALITY = 0
INST_CMPRS_QUANTZ_TBL_ID = 0
INSTRUMENT_TEMPERATURE = 11.6418
LENS_TEMPERATURE = 8.9911
MACROPIXEL_SIZE = 4
MISSING_FRAMES = 0
PIXEL_SUBSAMPLING_FLAG = N
SIGNAL_CHAIN_ID = 2
/* RADIOMETRIC DATA ELEMENTS */
BANDWIDTH = 81.0
CENTER_FILTER_WAVELENGTH = 955.5
RADIANCE_OFFSET = 0.386606
RADIANCE_SCALING_FACTOR = 0.00549074
REFLECTANCE_SCALING_FACTOR = 0.00069361
MEX:REFLECTANCE_OFFSET = 0.0488374
/* IMAGE OBJECT DEFINITIONS */
OBJECT = IMAGE
  INTERCHANGE_FORMAT = BINARY
  LINES = 6446
  LINE_SAMPLES = 1670
  SAMPLE_TYPE = UNSIGNED_INTEGER
  SAMPLE_BITS = 8
  BANDS = 1
  BAND_STORAGE_TYPE = BAND_SEQUENTIAL
  MAXIMUM = 255
  MEAN = 97.0587
  MINIMUM = 1
  STANDARD_DEVIATION = 27.905
END_OBJECT = IMAGE
/* MAP OBJECT DEFINITIONS */
OBJECT = IMAGE_MAP_PROJECTION
  ^DATA_SET_MAP_PROJECTION_CATALOG= "DSMAP.CAT"
  A_AXIS_RADIUS = 3396.0
  B_AXIS_RADIUS = 3396.0
  C_AXIS_RADIUS = 3396.0
  CENTER_LATITUDE = 0.0
  CENTER_LONGITUDE = 81.0
  COORDINATE_SYSTEM_NAME = PLANETOGRAPHIC
  COORDINATE_SYSTEM_TYPE = "BODY-FIXED ROTATING"
  EASTERNMOST_LONGITUDE = 81.6417
  FIRST_STANDARD_PARALLEL = "N/A"
  LINE_FIRST_PIXEL = 1
  LINE_LAST_PIXEL = 6446
  LINE_PROJECTION_OFFSET = 31940.125
  MAP_PROJECTION_ROTATION = 0.0
  MAP_PROJECTION_TYPE = SINUSOIDAL
  MAP_RESOLUTION = 1185.42760773333
  MAP_SCALE = 0.05
  MAXIMUM_LATITUDE = 27.0182
  MINIMUM_LATITUDE = 21.4491
  POSITIVE_LONGITUDE_DIRECTION = EAST
  REFERENCE_LATITUDE = "N/A"
  REFERENCE_LONGITUDE = "N/A"
  SAMPLE_FIRST_PIXEL = 1
  SAMPLE_LAST_PIXEL = 1670
  SAMPLE_PROJECTION_OFFSET = 955.375
  SECOND_STANDARD_PARALLEL = "N/A"
  WESTERNMOST_LONGITUDE = 80.0861
END_OBJECT = IMAGE_MAP_PROJECTION
END
