PDS_VERSION_ID = PDS3
/* FILE DATA ELEMENTS */
RECORD_TYPE = UNDEFINED
/* POINTERS TO DATA OBJECTS */
^IMAGE = ("HH782_0000_GR4.TIF")
/* IDENTIFICATION DATA ELEMENTS */
DATA_SET_ID = "MEX-M-HRSC-4-REFDR-MAPPROJECT-EXT6-V4.0"
DATA_SET_NAME = "MARS EXPRESS HRSC MAP PROJECTED REFDR EXTENSION6 V4.0"
DETECTOR_ID = MEX_HRSC_GREEN
EVENT_TYPE = "MARS-REGIONAL-MAPPING-Vo-Fl-Tc"
INSTRUMENT_HOST_ID = MEX
INSTRUMENT_HOST_NAME = "MARS EXPRESS"
INSTRUMENT_ID = HRSC
INSTRUMENT_NAME = "HIGH RESOLUTION STEREO CAMERA"
MISSION_NAME = "MARS EXPRESS"
MISSION_PHASE_NAME = ME_Phase_38
PROCESSING_LEVEL_ID = 4
PRODUCT_CREATION_TIME = 2023-01-28T19:29:54.000Z
PRODUCT_ID = "HH782_0000_GR4.TIF"
RELEASE_ID = 0003
REVISION_ID = 0000
/* QUALITY DATA ELEMENTS */
DATA_QUALITY_ID = 1
DATA_QUALITY_DESC = "Data calculated based on original SPICE kernels"
/* TIME DATA ELEMENTS */
SPACECRAFT_CLOCK_START_COUNT = "1/0464375597.07361"
SPACECRAFT_CLOCK_STOP_COUNT = "1/0464375841.48258"
START_TIME = 2018-01-18T17:13:54.950Z
STOP_TIME = 2018-01-18T17:16:33.674Z
/* ORBITAL DATA ELEMENTS */
ASCENDING_NODE_LONGITUDE = 240.27
MAXIMUM_RESOLUTION = 0.0627
FOOTPRINT_POINT_LATITUDE = (11.6327,11.64,11.6442,11.6482,11.652, 11.6555,11.6589,11.6591,11.6539,11.4603 ,11.1699,10.9764,10.7831,10.5898, 10.3966,10.2035,9.81772,9.43235,9.04729 ,8.6627,8.27856,7.89488,7.69953,7.50282 ,7.30623,7.10978,6.91344,6.61911, 6.42311,6.22305,6.02226,5.72117,5.52064 ,5.3203,5.12006,4.81381,4.60885,4.29331 ,4.08871,3.88441,3.57185,3.36285, 3.05208,2.84374,2.52588,2.31332,1.99508 ,1.78236,1.67687,1.67023,1.66296, 1.65408,1.647,1.64181,1.63573,1.63539, 1.63638,1.8488,2.06151,2.27558,2.48692, 2.69999,2.90798,3.1162,3.32504,3.53497, 3.84685,4.05126,4.2559,4.57179,4.77687, 5.08348,5.28384,5.48435,5.68502,5.88584 ,6.0868,6.38757,6.58373,6.78003,6.97648 ,7.17299,7.36966,7.56644,7.8605,8.24447 ,8.62889,9.01371,9.399,9.78471,9.97771, 10.1708,10.364,10.6541,10.8475,11.0411, 11.3316,11.5253,11.6223,11.6327)
FOOTPRINT_POINT_LONGITUDE = (87.8219,87.475,87.2639,87.055,86.8479, 86.6426,86.4387,86.426,86.4244,86.4208, 86.4155,86.4118,86.4081,86.4044,86.4006 ,86.3968,86.389,86.381,86.3729,86.3647, 86.3562,86.3476,86.3432,86.3387,86.3341 ,86.3295,86.3249,86.3178,86.3131, 86.3082,86.3032,86.2957,86.2907,86.2856 ,86.2804,86.2725,86.2671,86.2587, 86.2532,86.2476,86.2391,86.2333,86.2243 ,86.2184,86.2095,86.2033,86.194,86.1877 ,86.1846,86.1844,86.4952,86.9448, 87.2937,87.5101,87.7888,87.8044,87.8096 ,87.8102,87.8106,87.8069,87.8137, 87.8126,87.8146,87.8166,87.8171,87.8142 ,87.8181,87.8185,87.8186,87.8187, 87.8188,87.819,87.8192,87.8194,87.8196, 87.8199,87.8201,87.8207,87.821,87.8213, 87.8216,87.8221,87.8226,87.8232,87.8241 ,87.8251,87.8263,87.8278,87.8293, 87.8308,87.8316,87.8325,87.8334,87.8346 ,87.8355,87.8365,87.8376,87.8389, 87.8394,87.8219)
ORBIT_NUMBER = 17782
ORBITAL_ECCENTRICITY = 0.576
ORBITAL_INCLINATION = 86.97
ORBITAL_SEMIMAJOR_AXIS = 8847.82
PERIAPSIS_ALTITUDE = 358.35
PERIAPSIS_ARGUMENT_ANGLE = 155.58
PERIAPSIS_TIME = 2018-01-18T17:10:43.000Z
SPACECRAFT_ORIENTATION = (0.0,-1.0,0.0)
^MEX_ORIENTATION_DESC = "MEX_ORIENTATION_DESC.TXT"
SPACECRAFT_POINTING_MODE = ACROSSTRACK
^MEX_POINTING_DESC = "MEX_POINTING_DESC.TXT"
RIGHT_ASCENSION = -1e+32
DECLINATION = -1e+32
OFFSET_ANGLE = 0.8
SPACECRAFT_SOLAR_DISTANCE = 2.41696e+08
TARGET_NAME = MARS
/* CAMERA DATA ELEMENTS */
DETECTOR_TEMPERATURE = 18.7783
FOCAL_PLANE_TEMPERATURE = 9.3989
INST_CMPRS_NAME = "DISCRETE COSINE TRANSFORMATION (DCT)"
INST_CMPRS_RATIO = 8.12575
INST_CMPRS_QUALITY = 0
INST_CMPRS_QUANTZ_TBL_ID = 0
INSTRUMENT_TEMPERATURE = 12.2535
LENS_TEMPERATURE = 8.5833
MACROPIXEL_SIZE = 4
MISSING_FRAMES = 1
PIXEL_SUBSAMPLING_FLAG = N
SIGNAL_CHAIN_ID = 2
/* RADIOMETRIC DATA ELEMENTS */
BANDWIDTH = 88.0
CENTER_FILTER_WAVELENGTH = 538.0
RADIANCE_OFFSET = 0.506898
RADIANCE_SCALING_FACTOR = 0.00293725
REFLECTANCE_SCALING_FACTOR = 0.00014773
MEX:REFLECTANCE_OFFSET = 0.0254946
/* IMAGE OBJECT DEFINITIONS */
OBJECT = IMAGE
  INTERCHANGE_FORMAT = BINARY
  LINES = 11858
  LINE_SAMPLES = 1965
  SAMPLE_TYPE = UNSIGNED_INTEGER
  SAMPLE_BITS = 8
  BANDS = 1
  BAND_STORAGE_TYPE = BAND_SEQUENTIAL
  MAXIMUM = 255
  MEAN = 115.091
  MINIMUM = 1
  STANDARD_DEVIATION = 30.6898
END_OBJECT = IMAGE
/* MAP OBJECT DEFINITIONS */
OBJECT = IMAGE_MAP_PROJECTION
  ^DATA_SET_MAP_PROJECTION_CATALOG= "DSMAP.CAT"
  A_AXIS_RADIUS = 3396.0
  B_AXIS_RADIUS = 3396.0
  C_AXIS_RADIUS = 3396.0
  CENTER_LATITUDE = 0.0
  CENTER_LONGITUDE = 87.0
  COORDINATE_SYSTEM_NAME = PLANETOGRAPHIC
  COORDINATE_SYSTEM_TYPE = "BODY-FIXED ROTATING"
  EASTERNMOST_LONGITUDE = 87.8394
  FIRST_STANDARD_PARALLEL = "N/A"
  LINE_FIRST_PIXEL = 1
  LINE_LAST_PIXEL = 11858
  LINE_PROJECTION_OFFSET = 13808.125
  MAP_PROJECTION_ROTATION = 0.0
  MAP_PROJECTION_TYPE = SINUSOIDAL
  MAP_RESOLUTION = 1185.42760773333
  MAP_SCALE = 0.05
  MAXIMUM_LATITUDE = 11.6591
  MINIMUM_LATITUDE = 1.63539
  POSITIVE_LONGITUDE_DIRECTION = EAST
  REFERENCE_LATITUDE = "N/A"
  REFERENCE_LONGITUDE = "N/A"
  SAMPLE_FIRST_PIXEL = 1
  SAMPLE_LAST_PIXEL = 1965
  SAMPLE_PROJECTION_OFFSET = 985.125
  SECOND_STANDARD_PARALLEL = "N/A"
  WESTERNMOST_LONGITUDE = 86.1844
END_OBJECT = IMAGE_MAP_PROJECTION
END
