PDS_VERSION_ID = PDS3
/* FILE DATA ELEMENTS */
RECORD_TYPE = UNDEFINED
/* POINTERS TO DATA OBJECTS */
^IMAGE = ("HH782_0000_IR4.TIF")
/* IDENTIFICATION DATA ELEMENTS */
DATA_SET_ID = "MEX-M-HRSC-4-REFDR-MAPPROJECT-EXT6-V4.0"
DATA_SET_NAME = "MARS EXPRESS HRSC MAP PROJECTED REFDR EXTENSION6 V4.0"
DETECTOR_ID = MEX_HRSC_IR
EVENT_TYPE = "MARS-REGIONAL-MAPPING-Vo-Fl-Tc"
INSTRUMENT_HOST_ID = MEX
INSTRUMENT_HOST_NAME = "MARS EXPRESS"
INSTRUMENT_ID = HRSC
INSTRUMENT_NAME = "HIGH RESOLUTION STEREO CAMERA"
MISSION_NAME = "MARS EXPRESS"
MISSION_PHASE_NAME = ME_Phase_38
PROCESSING_LEVEL_ID = 4
PRODUCT_CREATION_TIME = 2023-01-28T19:29:54.000Z
PRODUCT_ID = "HH782_0000_IR4.TIF"
RELEASE_ID = 0003
REVISION_ID = 0000
/* QUALITY DATA ELEMENTS */
DATA_QUALITY_ID = 1
DATA_QUALITY_DESC = "Data calculated based on original SPICE kernels"
/* TIME DATA ELEMENTS */
SPACECRAFT_CLOCK_START_COUNT = "1/0464375597.07361"
SPACECRAFT_CLOCK_STOP_COUNT = "1/0464375841.48258"
START_TIME = 2018-01-18T17:13:32.090Z
STOP_TIME = 2018-01-18T17:16:06.125Z
/* ORBITAL DATA ELEMENTS */
ASCENDING_NODE_LONGITUDE = 240.27
MAXIMUM_RESOLUTION = 0.0643
FOOTPRINT_POINT_LATITUDE = (11.6015,11.6197,11.6304,11.6406, 11.6503,11.6596,11.6685,11.6691,11.6466 ,11.3531,11.1574,10.962,10.7663,10.4729 ,10.2774,10.082,9.88659,9.49606,9.20301 ,8.90985,8.51942,8.03163,7.64154, 7.25176,6.76436,6.37498,6.17797,5.87842 ,5.67862,5.47892,5.17966,4.98004, 4.78061,4.57678,4.37247,4.1677,3.96372, 3.75962,3.45371,3.15381,2.84131,2.62972 ,2.42084,2.21654,2.00402,1.79355, 1.68849,1.67724,1.66015,1.65058,1.63816 ,1.62272,1.60943,1.59683,1.59604,1.5969 ,1.80902,2.02215,2.23786,2.43743, 2.64631,2.85247,3.05992,3.26721,3.47638 ,3.68206,3.87994,4.08413,4.28855, 4.49319,4.69766,4.89729,5.09691,5.29661 ,5.49637,5.69629,5.89625,6.19593, 6.58562,6.97585,7.36578,7.75593,8.24414 ,8.63483,8.92789,9.12328,9.31881, 9.51435,9.70996,9.9055,10.1011,10.2968, 10.4923,10.6883,10.884,11.0797,11.2758, 11.4713,11.5692,11.6015)
FOOTPRINT_POINT_LONGITUDE = (87.817,87.4743,87.2659,87.0594,86.855, 86.6522,86.4511,86.4386,86.437,86.432, 86.4285,86.4251,86.4215,86.4162,86.4126 ,86.4089,86.4052,86.3976,86.3918,86.386 ,86.378,86.3678,86.3594,86.3509,86.34, 86.3312,86.3266,86.3196,86.3149,86.3101 ,86.3029,86.298,86.2931,86.288,86.2829, 86.2777,86.2725,86.2672,86.2593,86.2508 ,86.2425,86.2369,86.2312,86.2255, 86.2197,86.2137,86.2107,86.2104,86.4834 ,86.6868,86.9792,87.3336,87.5444, 87.7712,87.7863,87.7914,87.7926,87.7932 ,87.7891,87.796,87.7963,87.7986,87.8001 ,87.8018,87.7995,87.7987,87.8038, 87.8044,87.8048,87.8052,87.8056,87.8059 ,87.8064,87.8069,87.8074,87.8078, 87.8083,87.8092,87.8104,87.8114,87.813, 87.8146,87.8166,87.8184,87.8198,87.8208 ,87.8218,87.8227,87.8237,87.8248, 87.8259,87.827,87.8282,87.8291,87.8303, 87.8315,87.8325,87.8339,87.8346,87.817)
ORBIT_NUMBER = 17782
ORBITAL_ECCENTRICITY = 0.576
ORBITAL_INCLINATION = 86.97
ORBITAL_SEMIMAJOR_AXIS = 8847.82
PERIAPSIS_ALTITUDE = 358.35
PERIAPSIS_ARGUMENT_ANGLE = 155.58
PERIAPSIS_TIME = 2018-01-18T17:10:43.000Z
SPACECRAFT_ORIENTATION = (0.0,-1.0,0.0)
^MEX_ORIENTATION_DESC = "MEX_ORIENTATION_DESC.TXT"
SPACECRAFT_POINTING_MODE = ACROSSTRACK
^MEX_POINTING_DESC = "MEX_POINTING_DESC.TXT"
RIGHT_ASCENSION = -1e+32
DECLINATION = -1e+32
OFFSET_ANGLE = 0.8
SPACECRAFT_SOLAR_DISTANCE = 2.41696e+08
TARGET_NAME = MARS
/* CAMERA DATA ELEMENTS */
DETECTOR_TEMPERATURE = 17.5549
FOCAL_PLANE_TEMPERATURE = 9.3989
INST_CMPRS_NAME = "DISCRETE COSINE TRANSFORMATION (DCT)"
INST_CMPRS_RATIO = 6.27485
INST_CMPRS_QUALITY = 0
INST_CMPRS_QUANTZ_TBL_ID = 0
INSTRUMENT_TEMPERATURE = 12.2535
LENS_TEMPERATURE = 8.5833
MACROPIXEL_SIZE = 4
MISSING_FRAMES = 0
PIXEL_SUBSAMPLING_FLAG = N
SIGNAL_CHAIN_ID = 2
/* RADIOMETRIC DATA ELEMENTS */
BANDWIDTH = 81.0
CENTER_FILTER_WAVELENGTH = 955.5
RADIANCE_OFFSET = 0.29242
RADIANCE_SCALING_FACTOR = 0.00286686
REFLECTANCE_SCALING_FACTOR = 0.000361303
MEX:REFLECTANCE_OFFSET = 0.0368529
/* IMAGE OBJECT DEFINITIONS */
OBJECT = IMAGE
  INTERCHANGE_FORMAT = BINARY
  LINES = 11858
  LINE_SAMPLES = 1965
  SAMPLE_TYPE = UNSIGNED_INTEGER
  SAMPLE_BITS = 8
  BANDS = 1
  BAND_STORAGE_TYPE = BAND_SEQUENTIAL
  MAXIMUM = 255
  MEAN = 102.683
  MINIMUM = 1
  STANDARD_DEVIATION = 31.6774
END_OBJECT = IMAGE
/* MAP OBJECT DEFINITIONS */
OBJECT = IMAGE_MAP_PROJECTION
  ^DATA_SET_MAP_PROJECTION_CATALOG= "DSMAP.CAT"
  A_AXIS_RADIUS = 3396.0
  B_AXIS_RADIUS = 3396.0
  C_AXIS_RADIUS = 3396.0
  CENTER_LATITUDE = 0.0
  CENTER_LONGITUDE = 87.0
  COORDINATE_SYSTEM_NAME = PLANETOGRAPHIC
  COORDINATE_SYSTEM_TYPE = "BODY-FIXED ROTATING"
  EASTERNMOST_LONGITUDE = 87.83459999999999
  FIRST_STANDARD_PARALLEL = "N/A"
  LINE_FIRST_PIXEL = 1
  LINE_LAST_PIXEL = 11858
  LINE_PROJECTION_OFFSET = 13808.125
  MAP_PROJECTION_ROTATION = 0.0
  MAP_PROJECTION_TYPE = SINUSOIDAL
  MAP_RESOLUTION = 1185.42760773333
  MAP_SCALE = 0.05
  MAXIMUM_LATITUDE = 11.6691
  MINIMUM_LATITUDE = 1.59604
  POSITIVE_LONGITUDE_DIRECTION = EAST
  REFERENCE_LATITUDE = "N/A"
  REFERENCE_LONGITUDE = "N/A"
  SAMPLE_FIRST_PIXEL = 1
  SAMPLE_LAST_PIXEL = 1965
  SAMPLE_PROJECTION_OFFSET = 985.125
  SECOND_STANDARD_PARALLEL = "N/A"
  WESTERNMOST_LONGITUDE = 86.21040000000001
END_OBJECT = IMAGE_MAP_PROJECTION
END
