PDS_VERSION_ID = PDS3
/* FILE DATA ELEMENTS */
RECORD_TYPE = UNDEFINED
/* POINTERS TO DATA OBJECTS */
^IMAGE = ("HH782_0000_S14.TIF")
/* IDENTIFICATION DATA ELEMENTS */
DATA_SET_ID = "MEX-M-HRSC-4-REFDR-MAPPROJECT-EXT6-V4.0"
DATA_SET_NAME = "MARS EXPRESS HRSC MAP PROJECTED REFDR EXTENSION6 V4.0"
DETECTOR_ID = MEX_HRSC_S1
EVENT_TYPE = "MARS-REGIONAL-MAPPING-Vo-Fl-Tc"
INSTRUMENT_HOST_ID = MEX
INSTRUMENT_HOST_NAME = "MARS EXPRESS"
INSTRUMENT_ID = HRSC
INSTRUMENT_NAME = "HIGH RESOLUTION STEREO CAMERA"
MISSION_NAME = "MARS EXPRESS"
MISSION_PHASE_NAME = ME_Phase_38
PROCESSING_LEVEL_ID = 4
PRODUCT_CREATION_TIME = 2023-01-28T19:29:54.000Z
PRODUCT_ID = "HH782_0000_S14.TIF"
RELEASE_ID = 0003
REVISION_ID = 0000
/* QUALITY DATA ELEMENTS */
DATA_QUALITY_ID = 1
DATA_QUALITY_DESC = "Data calculated based on original SPICE kernels"
/* TIME DATA ELEMENTS */
SPACECRAFT_CLOCK_START_COUNT = "1/0464375597.07361"
SPACECRAFT_CLOCK_STOP_COUNT = "1/0464375841.48258"
START_TIME = 2018-01-18T17:13:26.221Z
STOP_TIME = 2018-01-18T17:15:59.071Z
/* ORBITAL DATA ELEMENTS */
ASCENDING_NODE_LONGITUDE = 240.27
MAXIMUM_RESOLUTION = 0.0325
FOOTPRINT_POINT_LATITUDE = (11.5997,11.6184,11.6314,11.6438, 11.6557,11.667,11.6779,11.6786,11.652, 11.4567,11.261,11.0655,10.8702,10.6745, 10.479,10.2836,9.99056,9.79515,9.50241, 9.30694,9.11155,8.91595,8.72061,8.52532 ,8.2324,7.74426,7.35393,6.96383,6.76834 ,6.37831,5.98843,5.69173,5.49158, 5.29171,5.09162,4.89157,4.6917,4.49206, 4.18845,3.98372,3.67691,3.47235,3.07837 ,2.87239,2.65996,2.44987,2.24454, 2.03584,1.82779,1.72583,1.69499,1.67043 ,1.66169,1.6408,1.62827,1.6023,1.60121, 1.60144,1.80995,2.01796,2.2321,2.43152, 2.64168,2.95156,3.15324,3.3573,3.56667, 3.86738,4.0721,4.2764,4.57642,4.87657, 5.07666,5.2768,5.477,5.77707,6.16734, 6.55769,6.75302,6.94861,7.33897,7.72952 ,7.92497,8.21818,8.41356,8.60914, 8.90237,9.09779,9.29339,9.48903,9.78235 ,9.97791,10.1735,10.4668,10.7607,11.054 ,11.2495,11.4453,11.5431,11.5997)
FOOTPRINT_POINT_LONGITUDE = (87.8175,87.5162,87.2996,87.0849, 86.8726,86.6621,86.4533,86.4403,86.4377 ,86.4344,86.4311,86.4277,86.4242, 86.4208,86.4172,86.4137,86.4082,86.4045 ,86.3989,86.3951,86.3913,86.3874, 86.3835,86.3795,86.3735,86.3633,86.3549 ,86.3463,86.342,86.3332,86.3243,86.3174 ,86.3126,86.3079,86.3031,86.2982, 86.2933,86.2884,86.2808,86.2757,86.2678 ,86.2626,86.2517,86.2462,86.2407, 86.2351,86.2294,86.2237,86.218,86.2151, 86.2142,86.572,86.7674,87.1174,87.3476, 87.7677,87.7835,87.7891,87.7901,87.7911 ,87.7885,87.7948,87.7948,87.7972, 87.7993,87.8001,87.7976,87.8023,87.8029 ,87.8034,87.804,87.8047,87.8052,87.8057 ,87.8063,87.8071,87.8083,87.8096, 87.8102,87.8107,87.8124,87.8141,87.815, 87.8163,87.8172,87.8181,87.8196,87.8207 ,87.8217,87.8227,87.8243,87.8255, 87.8266,87.8284,87.83,87.8319,87.8333, 87.8344,87.8351,87.8175)
ORBIT_NUMBER = 17782
ORBITAL_ECCENTRICITY = 0.576
ORBITAL_INCLINATION = 86.97
ORBITAL_SEMIMAJOR_AXIS = 8847.82
PERIAPSIS_ALTITUDE = 358.35
PERIAPSIS_ARGUMENT_ANGLE = 155.58
PERIAPSIS_TIME = 2018-01-18T17:10:43.000Z
SPACECRAFT_ORIENTATION = (0.0,-1.0,0.0)
^MEX_ORIENTATION_DESC = "MEX_ORIENTATION_DESC.TXT"
SPACECRAFT_POINTING_MODE = ACROSSTRACK
^MEX_POINTING_DESC = "MEX_POINTING_DESC.TXT"
RIGHT_ASCENSION = -1e+32
DECLINATION = -1e+32
OFFSET_ANGLE = 0.8
SPACECRAFT_SOLAR_DISTANCE = 2.41696e+08
TARGET_NAME = MARS
/* CAMERA DATA ELEMENTS */
DETECTOR_TEMPERATURE = 17.5549
FOCAL_PLANE_TEMPERATURE = 9.3989
INST_CMPRS_NAME = "DISCRETE COSINE TRANSFORMATION (DCT)"
INST_CMPRS_RATIO = 8.73584
INST_CMPRS_QUALITY = 0
INST_CMPRS_QUANTZ_TBL_ID = 0
INSTRUMENT_TEMPERATURE = 12.2535
LENS_TEMPERATURE = 8.5833
MACROPIXEL_SIZE = 2
MISSING_FRAMES = 0
PIXEL_SUBSAMPLING_FLAG = N
SIGNAL_CHAIN_ID = 1
/* RADIOMETRIC DATA ELEMENTS */
BANDWIDTH = 180.0
CENTER_FILTER_WAVELENGTH = 677.0
RADIANCE_OFFSET = 1.37868
RADIANCE_SCALING_FACTOR = 0.0110098
REFLECTANCE_SCALING_FACTOR = 0.000335551
MEX:REFLECTANCE_OFFSET = 0.0420187
/* IMAGE OBJECT DEFINITIONS */
OBJECT = IMAGE
  INTERCHANGE_FORMAT = BINARY
  LINES = 23715
  LINE_SAMPLES = 3929
  SAMPLE_TYPE = UNSIGNED_INTEGER
  SAMPLE_BITS = 8
  BANDS = 1
  BAND_STORAGE_TYPE = BAND_SEQUENTIAL
  MAXIMUM = 255
  MEAN = 105.424
  MINIMUM = 1
  STANDARD_DEVIATION = 31.1044
END_OBJECT = IMAGE
/* MAP OBJECT DEFINITIONS */
OBJECT = IMAGE_MAP_PROJECTION
  ^DATA_SET_MAP_PROJECTION_CATALOG= "DSMAP.CAT"
  A_AXIS_RADIUS = 3396.0
  B_AXIS_RADIUS = 3396.0
  C_AXIS_RADIUS = 3396.0
  CENTER_LATITUDE = 0.0
  CENTER_LONGITUDE = 87.0
  COORDINATE_SYSTEM_NAME = PLANETOGRAPHIC
  COORDINATE_SYSTEM_TYPE = "BODY-FIXED ROTATING"
  EASTERNMOST_LONGITUDE = 87.8351
  FIRST_STANDARD_PARALLEL = "N/A"
  LINE_FIRST_PIXEL = 1
  LINE_LAST_PIXEL = 23715
  LINE_PROJECTION_OFFSET = 27616.75
  MAP_PROJECTION_ROTATION = 0.0
  MAP_PROJECTION_TYPE = SINUSOIDAL
  MAP_RESOLUTION = 2370.85521546667
  MAP_SCALE = 0.025
  MAXIMUM_LATITUDE = 11.6786
  MINIMUM_LATITUDE = 1.60121
  POSITIVE_LONGITUDE_DIRECTION = EAST
  REFERENCE_LATITUDE = "N/A"
  REFERENCE_LONGITUDE = "N/A"
  SAMPLE_FIRST_PIXEL = 1
  SAMPLE_LAST_PIXEL = 3929
  SAMPLE_PROJECTION_OFFSET = 1970.75
  SECOND_STANDARD_PARALLEL = "N/A"
  WESTERNMOST_LONGITUDE = 86.21420000000001
END_OBJECT = IMAGE_MAP_PROJECTION
END
