PDS_VERSION_ID = PDS3
/* FILE DATA ELEMENTS */
RECORD_TYPE = UNDEFINED
/* POINTERS TO DATA OBJECTS */
^IMAGE = ("HH783_0009_P14.TIF")
/* IDENTIFICATION DATA ELEMENTS */
DATA_SET_ID = "MEX-M-HRSC-4-REFDR-MAPPROJECT-EXT6-V4.0"
DATA_SET_NAME = "MARS EXPRESS HRSC MAP PROJECTED REFDR EXTENSION6 V4.0"
DETECTOR_ID = MEX_HRSC_P1
EVENT_TYPE = "MARS-REGIONAL-STEREO-Eb-La-Tc"
INSTRUMENT_HOST_ID = MEX
INSTRUMENT_HOST_NAME = "MARS EXPRESS"
INSTRUMENT_ID = HRSC
INSTRUMENT_NAME = "HIGH RESOLUTION STEREO CAMERA"
MISSION_NAME = "MARS EXPRESS"
MISSION_PHASE_NAME = ME_Phase_38
PROCESSING_LEVEL_ID = 4
PRODUCT_CREATION_TIME = 2023-01-28T19:29:54.000Z
PRODUCT_ID = "HH783_0009_P14.TIF"
RELEASE_ID = 0003
REVISION_ID = 0000
/* QUALITY DATA ELEMENTS */
DATA_QUALITY_ID = 1
DATA_QUALITY_DESC = "Data calculated based on original SPICE kernels"
/* TIME DATA ELEMENTS */
SPACECRAFT_CLOCK_START_COUNT = "1/0464400584.08285"
SPACECRAFT_CLOCK_STOP_COUNT = "1/0464400735.17827"
START_TIME = 2018-01-19T00:10:04.511Z
STOP_TIME = 2018-01-19T00:11:26.461Z
/* ORBITAL DATA ELEMENTS */
ASCENDING_NODE_LONGITUDE = 240.26
MAXIMUM_RESOLUTION = 0.0298
FOOTPRINT_POINT_LATITUDE = (24.4725,24.4638,24.4546,24.4449, 24.4345,24.4236,24.4075,24.4067,24.378, 24.2217,24.0652,23.9607,23.8561,23.7513 ,23.5423,23.4374,23.3324,23.2275, 23.0706,22.9659,22.8609,22.7558,22.6499 ,22.5432,22.3854,22.1787,21.9693, 21.8642,21.6551,21.5502,21.3932,21.2856 ,21.1252,20.9656,20.7062,20.5523, 20.3942,20.2363,20.1309,20.025,19.9194, 19.8137,19.7085,19.5504,19.4449,19.3394 ,19.1813,19.1285,19.0898,19.0951, 19.1056,19.1131,19.1222,19.1312,19.1392 ,19.149,19.1494,19.15,19.2552,19.3609, 19.5197,19.6774,19.8356,19.9413,20.0999 ,20.2055,20.3114,20.4171,20.5228, 20.6813,20.7868,20.9445,21.0498,21.2075 ,21.3651,21.4702,21.6276,21.7325,21.89, 22.0464,22.2026,22.3074,22.4153,22.5211 ,22.6792,22.7845,22.8896,23.0473, 23.1525,23.2572,23.4143,23.571,23.6759, 23.7817,23.8869,24.096,24.2015,24.3587, 24.4111,24.4725)
FOOTPRINT_POINT_LONGITUDE = (343.633,343.421,343.207,342.99,342.77, 342.548,342.237,342.223,342.183,342.186 ,342.19,342.192,342.194,342.195,342.199 ,342.201,342.202,342.204,342.207, 342.208,342.21,342.211,342.211,342.21, 342.212,342.219,342.222,342.224,342.227 ,342.229,342.231,342.229,342.228, 342.227,342.234,342.24,342.241,342.242, 342.243,342.243,342.244,342.244,342.245 ,342.246,342.246,342.247,342.247, 342.248,342.248,342.372,342.581,342.746 ,342.963,343.177,343.376,343.624, 343.637,343.642,343.642,343.641,343.641 ,343.641,343.64,343.64,343.64,343.64, 343.639,343.639,343.639,343.639,343.639 ,343.638,343.638,343.637,343.637, 343.636,343.636,343.635,343.635,343.634 ,343.633,343.632,343.633,343.633, 343.632,343.632,343.632,343.631,343.631 ,343.631,343.63,343.629,343.629,343.629 ,343.628,343.627,343.627,343.626, 343.626,343.633)
ORBIT_NUMBER = 17783
ORBITAL_ECCENTRICITY = 0.576
ORBITAL_INCLINATION = 86.96
ORBITAL_SEMIMAJOR_AXIS = 8838.93
PERIAPSIS_ALTITUDE = 359.38
PERIAPSIS_ARGUMENT_ANGLE = 155.4
PERIAPSIS_TIME = 2018-01-19T00:10:24.000Z
SPACECRAFT_ORIENTATION = (0.0,-1.0,0.0)
^MEX_ORIENTATION_DESC = "MEX_ORIENTATION_DESC.TXT"
SPACECRAFT_POINTING_MODE = ACROSSTRACK
^MEX_POINTING_DESC = "MEX_POINTING_DESC.TXT"
RIGHT_ASCENSION = -1e+32
DECLINATION = -1e+32
OFFSET_ANGLE = -1.0
SPACECRAFT_SOLAR_DISTANCE = 2.41655e+08
TARGET_NAME = MARS
/* CAMERA DATA ELEMENTS */
DETECTOR_TEMPERATURE = 18.3705
FOCAL_PLANE_TEMPERATURE = 9.6028
INST_CMPRS_NAME = "DISCRETE COSINE TRANSFORMATION (DCT)"
INST_CMPRS_RATIO = 10.297
INST_CMPRS_QUALITY = 0
INST_CMPRS_QUANTZ_TBL_ID = 0
INSTRUMENT_TEMPERATURE = 12.4574
LENS_TEMPERATURE = 9.6028
MACROPIXEL_SIZE = 2
MISSING_FRAMES = 0
PIXEL_SUBSAMPLING_FLAG = N
SIGNAL_CHAIN_ID = 3
/* RADIOMETRIC DATA ELEMENTS */
BANDWIDTH = 174.0
CENTER_FILTER_WAVELENGTH = 675.0
RADIANCE_OFFSET = 1.91802
RADIANCE_SCALING_FACTOR = 0.0112025
REFLECTANCE_SCALING_FACTOR = 0.000351878
MEX:REFLECTANCE_OFFSET = 0.0602465
/* IMAGE OBJECT DEFINITIONS */
OBJECT = IMAGE
  INTERCHANGE_FORMAT = BINARY
  LINES = 12558
  LINE_SAMPLES = 3209
  SAMPLE_TYPE = UNSIGNED_INTEGER
  SAMPLE_BITS = 8
  BANDS = 1
  BAND_STORAGE_TYPE = BAND_SEQUENTIAL
  MAXIMUM = 255
  MEAN = 95.8451
  MINIMUM = 1
  STANDARD_DEVIATION = 25.436
END_OBJECT = IMAGE
/* MAP OBJECT DEFINITIONS */
OBJECT = IMAGE_MAP_PROJECTION
  ^DATA_SET_MAP_PROJECTION_CATALOG= "DSMAP.CAT"
  A_AXIS_RADIUS = 3396.0
  B_AXIS_RADIUS = 3396.0
  C_AXIS_RADIUS = 3396.0
  CENTER_LATITUDE = 0.0
  CENTER_LONGITUDE = 343.0
  COORDINATE_SYSTEM_NAME = PLANETOGRAPHIC
  COORDINATE_SYSTEM_TYPE = "BODY-FIXED ROTATING"
  EASTERNMOST_LONGITUDE = 343.642
  FIRST_STANDARD_PARALLEL = "N/A"
  LINE_FIRST_PIXEL = 1
  LINE_LAST_PIXEL = 12558
  LINE_PROJECTION_OFFSET = 57916.25
  MAP_PROJECTION_ROTATION = 0.0
  MAP_PROJECTION_TYPE = SINUSOIDAL
  MAP_RESOLUTION = 2370.85521546667
  MAP_SCALE = 0.025
  MAXIMUM_LATITUDE = 24.4725
  MINIMUM_LATITUDE = 19.0898
  POSITIVE_LONGITUDE_DIRECTION = EAST
  REFERENCE_LATITUDE = "N/A"
  REFERENCE_LONGITUDE = "N/A"
  SAMPLE_FIRST_PIXEL = 1
  SAMPLE_LAST_PIXEL = 3209
  SAMPLE_PROJECTION_OFFSET = 1758.25
  SECOND_STANDARD_PARALLEL = "N/A"
  WESTERNMOST_LONGITUDE = 342.183
END_OBJECT = IMAGE_MAP_PROJECTION
END
