PDS_VERSION_ID = PDS3
/* FILE DATA ELEMENTS */
RECORD_TYPE = UNDEFINED
/* POINTERS TO DATA OBJECTS */
^IMAGE = ("HH783_0009_S14.TIF")
/* IDENTIFICATION DATA ELEMENTS */
DATA_SET_ID = "MEX-M-HRSC-4-REFDR-MAPPROJECT-EXT6-V4.0"
DATA_SET_NAME = "MARS EXPRESS HRSC MAP PROJECTED REFDR EXTENSION6 V4.0"
DETECTOR_ID = MEX_HRSC_S1
EVENT_TYPE = "MARS-REGIONAL-STEREO-Eb-La-Tc"
INSTRUMENT_HOST_ID = MEX
INSTRUMENT_HOST_NAME = "MARS EXPRESS"
INSTRUMENT_ID = HRSC
INSTRUMENT_NAME = "HIGH RESOLUTION STEREO CAMERA"
MISSION_NAME = "MARS EXPRESS"
MISSION_PHASE_NAME = ME_Phase_38
PROCESSING_LEVEL_ID = 4
PRODUCT_CREATION_TIME = 2023-01-28T19:29:54.000Z
PRODUCT_ID = "HH783_0009_S14.TIF"
RELEASE_ID = 0003
REVISION_ID = 0000
/* QUALITY DATA ELEMENTS */
DATA_QUALITY_ID = 1
DATA_QUALITY_DESC = "Data calculated based on original SPICE kernels"
/* TIME DATA ELEMENTS */
SPACECRAFT_CLOCK_START_COUNT = "1/0464400584.08285"
SPACECRAFT_CLOCK_STOP_COUNT = "1/0464400735.17827"
START_TIME = 2018-01-19T00:09:53.216Z
STOP_TIME = 2018-01-19T00:11:15.223Z
/* ORBITAL DATA ELEMENTS */
ASCENDING_NODE_LONGITUDE = 240.26
MAXIMUM_RESOLUTION = 0.0154
FOOTPRINT_POINT_LATITUDE = (24.4911,24.478,24.4642,24.4497,24.4345 ,24.4184,24.4101,24.3972,24.3961, 24.3531,24.1964,24.0398,23.9346,23.8292 ,23.7239,23.4613,23.3028,23.1972, 23.0394,22.9342,22.8285,22.7228,22.6158 ,22.5074,22.3499,22.09,21.9317,21.8259, 21.6156,21.5101,21.3519,21.2425,21.1339 ,20.9709,20.7613,20.505,20.3454,20.2392 ,20.1328,19.9726,19.8658,19.7058, 19.5999,19.4932,19.3333,19.1737,19.1204 ,19.0674,19.0804,19.101,19.1138,19.1227 ,19.1337,19.1493,19.1557,19.1564,19.157 ,19.2639,19.3713,19.4778,19.5833, 19.6898,19.7964,19.9035,20.0102,20.1168 ,20.2771,20.3839,20.4906,20.5974, 20.7039,20.8098,20.9158,21.0748,21.2337 ,21.3921,21.4984,21.6567,21.7622, 21.9201,22.1808,22.286,22.3938,22.5559, 22.7152,22.8212,22.927,23.0328,23.1387, 23.2442,23.3496,23.5073,23.6634,23.7697 ,23.9297,24.0863,24.1922,24.3511, 24.4036,24.4911)
FOOTPRINT_POINT_LONGITUDE = (343.633,343.416,343.196,342.974, 342.749,342.521,342.406,342.231,342.217 ,342.175,342.178,342.182,342.184, 342.186,342.187,342.192,342.195,342.196 ,342.199,342.201,342.202,342.203, 342.204,342.203,342.206,342.213,342.215 ,342.217,342.22,342.222,342.224,342.223 ,342.222,342.22,342.224,342.234,342.235 ,342.236,342.237,342.237,342.238, 342.238,342.239,342.24,342.241,342.242, 342.242,342.242,342.454,342.723,342.93, 343.067,343.244,343.499,343.619,343.632 ,343.639,343.638,343.638,343.638, 343.638,343.638,343.637,343.637,343.637 ,343.637,343.637,343.637,343.637, 343.637,343.636,343.636,343.636,343.635 ,343.635,343.635,343.634,343.634, 343.633,343.633,343.631,343.631,343.631 ,343.631,343.631,343.631,343.631,343.63 ,343.63,343.63,343.629,343.629,343.628, 343.628,343.628,343.627,343.627,343.626 ,343.626,343.633)
ORBIT_NUMBER = 17783
ORBITAL_ECCENTRICITY = 0.576
ORBITAL_INCLINATION = 86.96
ORBITAL_SEMIMAJOR_AXIS = 8838.93
PERIAPSIS_ALTITUDE = 359.38
PERIAPSIS_ARGUMENT_ANGLE = 155.4
PERIAPSIS_TIME = 2018-01-19T00:10:24.000Z
SPACECRAFT_ORIENTATION = (0.0,-1.0,0.0)
^MEX_ORIENTATION_DESC = "MEX_ORIENTATION_DESC.TXT"
SPACECRAFT_POINTING_MODE = ACROSSTRACK
^MEX_POINTING_DESC = "MEX_POINTING_DESC.TXT"
RIGHT_ASCENSION = -1e+32
DECLINATION = -1e+32
OFFSET_ANGLE = -1.0
SPACECRAFT_SOLAR_DISTANCE = 2.41655e+08
TARGET_NAME = MARS
/* CAMERA DATA ELEMENTS */
DETECTOR_TEMPERATURE = 18.3705
FOCAL_PLANE_TEMPERATURE = 9.6028
INST_CMPRS_NAME = "DISCRETE COSINE TRANSFORMATION (DCT)"
INST_CMPRS_RATIO = 8.53306
INST_CMPRS_QUALITY = 0
INST_CMPRS_QUANTZ_TBL_ID = 0
INSTRUMENT_TEMPERATURE = 12.4574
LENS_TEMPERATURE = 9.6028
MACROPIXEL_SIZE = 1
MISSING_FRAMES = 0
PIXEL_SUBSAMPLING_FLAG = N
SIGNAL_CHAIN_ID = 2
/* RADIOMETRIC DATA ELEMENTS */
BANDWIDTH = 180.0
CENTER_FILTER_WAVELENGTH = 677.0
RADIANCE_OFFSET = 2.04124
RADIANCE_SCALING_FACTOR = 0.0111372
REFLECTANCE_SCALING_FACTOR = 0.00033932
MEX:REFLECTANCE_OFFSET = 0.0621911
/* IMAGE OBJECT DEFINITIONS */
OBJECT = IMAGE
  INTERCHANGE_FORMAT = BINARY
  LINES = 25115
  LINE_SAMPLES = 6418
  SAMPLE_TYPE = UNSIGNED_INTEGER
  SAMPLE_BITS = 8
  BANDS = 1
  BAND_STORAGE_TYPE = BAND_SEQUENTIAL
  MAXIMUM = 255
  MEAN = 97.4632
  MINIMUM = 1
  STANDARD_DEVIATION = 25.9243
END_OBJECT = IMAGE
/* MAP OBJECT DEFINITIONS */
OBJECT = IMAGE_MAP_PROJECTION
  ^DATA_SET_MAP_PROJECTION_CATALOG= "DSMAP.CAT"
  A_AXIS_RADIUS = 3396.0
  B_AXIS_RADIUS = 3396.0
  C_AXIS_RADIUS = 3396.0
  CENTER_LATITUDE = 0.0
  CENTER_LONGITUDE = 343.0
  COORDINATE_SYSTEM_NAME = PLANETOGRAPHIC
  COORDINATE_SYSTEM_TYPE = "BODY-FIXED ROTATING"
  EASTERNMOST_LONGITUDE = 343.639
  FIRST_STANDARD_PARALLEL = "N/A"
  LINE_FIRST_PIXEL = 1
  LINE_LAST_PIXEL = 25115
  LINE_PROJECTION_OFFSET = 115833.0
  MAP_PROJECTION_ROTATION = 0.0
  MAP_PROJECTION_TYPE = SINUSOIDAL
  MAP_RESOLUTION = 4741.71043093333
  MAP_SCALE = 0.0125
  MAXIMUM_LATITUDE = 24.4911
  MINIMUM_LATITUDE = 19.0674
  POSITIVE_LONGITUDE_DIRECTION = EAST
  REFERENCE_LATITUDE = "N/A"
  REFERENCE_LONGITUDE = "N/A"
  SAMPLE_FIRST_PIXEL = 1
  SAMPLE_LAST_PIXEL = 6418
  SAMPLE_PROJECTION_OFFSET = 3517.0
  SECOND_STANDARD_PARALLEL = "N/A"
  WESTERNMOST_LONGITUDE = 342.175
END_OBJECT = IMAGE_MAP_PROJECTION
END
