PDS_VERSION_ID = PDS3
/* FILE DATA ELEMENTS */
RECORD_TYPE = UNDEFINED
/* POINTERS TO DATA OBJECTS */
^IMAGE = ("HH786_0000_IR4.TIF")
/* IDENTIFICATION DATA ELEMENTS */
DATA_SET_ID = "MEX-M-HRSC-4-REFDR-MAPPROJECT-EXT6-V4.0"
DATA_SET_NAME = "MARS EXPRESS HRSC MAP PROJECTED REFDR EXTENSION6 V4.0"
DETECTOR_ID = MEX_HRSC_IR
EVENT_TYPE = "MARS-REGIONAL-MAPPING-Im-Fl"
INSTRUMENT_HOST_ID = MEX
INSTRUMENT_HOST_NAME = "MARS EXPRESS"
INSTRUMENT_ID = HRSC
INSTRUMENT_NAME = "HIGH RESOLUTION STEREO CAMERA"
MISSION_NAME = "MARS EXPRESS"
MISSION_PHASE_NAME = ME_Phase_38
PROCESSING_LEVEL_ID = 4
PRODUCT_CREATION_TIME = 2023-01-28T19:29:54.000Z
PRODUCT_ID = "HH786_0000_IR4.TIF"
RELEASE_ID = 0003
REVISION_ID = 0000
/* QUALITY DATA ELEMENTS */
DATA_QUALITY_ID = 1
DATA_QUALITY_DESC = "Data calculated based on original SPICE kernels"
/* TIME DATA ELEMENTS */
SPACECRAFT_CLOCK_START_COUNT = "1/0464476069.07353"
SPACECRAFT_CLOCK_STOP_COUNT = "1/0464476328.40778"
START_TIME = 2018-01-19T21:08:04.101Z
STOP_TIME = 2018-01-19T21:11:13.529Z
/* ORBITAL DATA ELEMENTS */
ASCENDING_NODE_LONGITUDE = 240.2
MAXIMUM_RESOLUTION = 0.06
FOOTPRINT_POINT_LATITUDE = (29.4611,29.4602,29.4565,29.4513, 29.4511,29.424,29.1396,28.8712,28.3914, 27.9135,27.554,27.1937,26.9539,26.7143, 26.4727,26.1115,25.8716,25.6306,25.3898 ,25.1502,24.9082,24.6662,24.4263,24.183 ,23.8216,23.5793,23.3381,23.0954, 22.8535,22.6104,22.3691,22.0031,21.7587 ,21.5159,21.272,21.0305,20.7864,20.4208 ,20.0532,19.8084,19.5667,19.3228,18.955 ,18.709,18.4687,18.224,17.8573,17.6111, 17.3674,17.2457,17.2206,17.2213,17.2213 ,17.219,17.2189,17.2197,17.4639,17.7073 ,17.952,18.3192,18.685,18.9293,19.2949, 19.539,19.7841,20.0285,20.2728,20.5173, 20.7612,21.2427,21.6071,21.8569,22.099, 22.4634,22.7063,22.9489,23.1917,23.4332 ,23.675,23.9172,24.1595,24.4019,24.7645 ,25.0063,25.2482,25.4893,25.9696,26.212 ,26.5752,26.8154,27.0566,27.418,27.6583 ,27.8981,28.1385,28.3787,28.8572, 29.2637,29.4062,29.4611)
FOOTPRINT_POINT_LONGITUDE = (37.8133,37.2821,36.7783,36.3695, 36.3559,36.342,36.3478,36.3527,36.3606, 36.3691,36.3748,36.3801,36.3837,36.3873 ,36.39,36.3945,36.3977,36.4004,36.4032, 36.4063,36.4085,36.4105,36.4133,36.4147 ,36.4181,36.4197,36.4217,36.423,36.4246 ,36.4256,36.4272,36.428,36.4282,36.429, 36.4293,36.4305,36.4305,36.4307,36.4299 ,36.4294,36.43,36.4297,36.4283,36.4269, 36.4277,36.4267,36.4252,36.4234,36.4225 ,36.4221,36.4222,36.8083,37.1948, 37.7429,37.7553,37.7595,37.7607,37.7622 ,37.7632,37.7647,37.7667,37.7678, 37.7698,37.771,37.7718,37.7728,37.7739, 37.7748,37.776,37.7806,37.7828,37.7816, 37.7833,37.7853,37.7866,37.788,37.7893, 37.791,37.7926,37.794,37.7953,37.7966, 37.7987,37.8,37.8013,37.8028,37.8065, 37.8073,37.8086,37.8102,37.8113,37.813, 37.8143,37.8157,37.8168,37.8179,37.8207 ,37.8229,37.8237,37.8133)
ORBIT_NUMBER = 17786
ORBITAL_ECCENTRICITY = 0.576
ORBITAL_INCLINATION = 86.95
ORBITAL_SEMIMAJOR_AXIS = 8845.93
PERIAPSIS_ALTITUDE = 359.45
PERIAPSIS_ARGUMENT_ANGLE = 154.92
PERIAPSIS_TIME = 2018-01-19T21:09:40.000Z
SPACECRAFT_ORIENTATION = (0.0,-1.0,0.0)
^MEX_ORIENTATION_DESC = "MEX_ORIENTATION_DESC.TXT"
SPACECRAFT_POINTING_MODE = ACROSSTRACK
^MEX_POINTING_DESC = "MEX_POINTING_DESC.TXT"
RIGHT_ASCENSION = -1e+32
DECLINATION = -1e+32
OFFSET_ANGLE = 0.78
SPACECRAFT_SOLAR_DISTANCE = 2.41532e+08
TARGET_NAME = MARS
/* CAMERA DATA ELEMENTS */
DETECTOR_TEMPERATURE = 17.7588
FOCAL_PLANE_TEMPERATURE = 8.5833
INST_CMPRS_NAME = "DISCRETE COSINE TRANSFORMATION (DCT)"
INST_CMPRS_RATIO = 8.50123
INST_CMPRS_QUALITY = 0
INST_CMPRS_QUANTZ_TBL_ID = 0
INSTRUMENT_TEMPERATURE = 11.4379
LENS_TEMPERATURE = 9.195
MACROPIXEL_SIZE = 4
MISSING_FRAMES = 0
PIXEL_SUBSAMPLING_FLAG = N
SIGNAL_CHAIN_ID = 2
/* RADIOMETRIC DATA ELEMENTS */
BANDWIDTH = 81.0
CENTER_FILTER_WAVELENGTH = 955.5
RADIANCE_OFFSET = 0.574684
RADIANCE_SCALING_FACTOR = 0.00487611
REFLECTANCE_SCALING_FACTOR = 0.00061369
MEX:REFLECTANCE_OFFSET = 0.0723277
/* IMAGE OBJECT DEFINITIONS */
OBJECT = IMAGE
  INTERCHANGE_FORMAT = BINARY
  LINES = 14469
  LINE_SAMPLES = 1543
  SAMPLE_TYPE = UNSIGNED_INTEGER
  SAMPLE_BITS = 8
  BANDS = 1
  BAND_STORAGE_TYPE = BAND_SEQUENTIAL
  MAXIMUM = 255
  MEAN = 119.698
  MINIMUM = 1
  STANDARD_DEVIATION = 19.8628
END_OBJECT = IMAGE
/* MAP OBJECT DEFINITIONS */
OBJECT = IMAGE_MAP_PROJECTION
  ^DATA_SET_MAP_PROJECTION_CATALOG= "DSMAP.CAT"
  A_AXIS_RADIUS = 3396.0
  B_AXIS_RADIUS = 3396.0
  C_AXIS_RADIUS = 3396.0
  CENTER_LATITUDE = 0.0
  CENTER_LONGITUDE = 37.0
  COORDINATE_SYSTEM_NAME = PLANETOGRAPHIC
  COORDINATE_SYSTEM_TYPE = "BODY-FIXED ROTATING"
  EASTERNMOST_LONGITUDE = 37.8237
  FIRST_STANDARD_PARALLEL = "N/A"
  LINE_FIRST_PIXEL = 1
  LINE_LAST_PIXEL = 14469
  LINE_PROJECTION_OFFSET = 34878.875
  MAP_PROJECTION_ROTATION = 0.0
  MAP_PROJECTION_TYPE = SINUSOIDAL
  MAP_RESOLUTION = 1185.42760773333
  MAP_SCALE = 0.05
  MAXIMUM_LATITUDE = 29.4611
  MINIMUM_LATITUDE = 17.2189
  POSITIVE_LONGITUDE_DIRECTION = EAST
  REFERENCE_LATITUDE = "N/A"
  REFERENCE_LONGITUDE = "N/A"
  SAMPLE_FIRST_PIXEL = 1
  SAMPLE_LAST_PIXEL = 1543
  SAMPLE_PROJECTION_OFFSET = 675.375
  SECOND_STANDARD_PARALLEL = "N/A"
  WESTERNMOST_LONGITUDE = 36.342
END_OBJECT = IMAGE_MAP_PROJECTION
END
